Workbook

Sheet Planungsübersicht
H1: zukünftiger Termin | I1: umgesetzt | J1: wird laufend umgesetzt | K1: in Umsetzung (Anfang) | L1: in Umsetzung (Mitte) | M1: in Umsetzung (Ende) | N1: bisher nicht umgesetzt | O1: Umsetzung nicht möglich
D3: Planungsübersicht | E3: 2026
D4: Lise-Meitner-Gymnasium | F4: Stand: | G4: 46281
D6: Pädagogische Ziele:
D7: Unser pädagogisches Ziel ist der Erwerb von Handlungskompetenzen zum Thema Klimaschutz in der gesamten Schulgemeinschaft. | I7: =IF(I$8="kurzfristig",IF(H7="","Übersicht CO2-Reduktionen",""),"") | J7: =IF(J$8="kurzfristig",IF(I7="","Übersicht CO2-Reduktionen",""),"") | K7: =IF(K$8="kurzfristig",IF(J7="","Übersicht CO2-Reduktionen",""),"") | L7: =IF(L$8="kurzfristig",IF(K7="","Übersicht CO2-Reduktionen",""),"") | M7: =IF(M$8="kurzfristig",IF(L7="","Übersicht CO2-Reduktionen",""),"") | N7: =IF(N$8="kurzfristig",IF(M7="","Übersicht CO2-Reduktionen",""),"") | O7: =IF(O$8="kurzfristig",IF(N7="","Übersicht CO2-Reduktionen",""),"") -> Übersicht CO2-Reduktionen | P7: =IF(P$8="kurzfristig",IF(O7="","Übersicht CO2-Reduktionen",""),"") | ... Y7: =IF(Y$8="kurzfristig",IF(X7="","Übersicht CO2-Reduktionen",""),"") | Z7: =IF(Z8="kurzfristig","Übersicht CO2-Reduktionen","")
I8: =IF((I9-$E$3-2)<-1,"Vergangenheit",IF((I9-$E$3-2)<1,"kurzfristig",IF((I9-$E$3-2)<3,"mittelfristig","langfristig"))) -> Vergangenheit | J8: =IF((J9-$E$3-2)<-1,"Vergangenheit",IF((J9-$E$3-2)<1,"kurzfristig",IF((J9-$E$3-2)<3,"mittelfristig","langfristig"))) -> Vergangenheit | K8: =IF((K9-$E$3-2)<-1,"Vergangenheit",IF((K9-$E$3-2)<1,"kurzfristig",IF((K9-$E$3-2)<3,"mittelfristig","langfristig"))) -> Vergangenheit | L8: =IF((L9-$E$3-2)<-1,"Vergangenheit",IF((L9-$E$3-2)<1,"kurzfristig",IF((L9-$E$3-2)<3,"mittelfristig","langfristig"))) -> Vergangenheit | M8: =IF((M9-$E$3-2)<-1,"Vergangenheit",IF((M9-$E$3-2)<1,"kurzfristig",IF((M9-$E$3-2)<3,"mittelfristig","langfristig"))) -> Vergangenheit | N8: =IF((N9-$E$3-2)<-1,"Vergangenheit",IF((N9-$E$3-2)<1,"kurzfristig",IF((N9-$E$3-2)<3,"mittelfristig","langfristig"))) -> Vergangenheit | O8: =IF((O9-$E$3-2)<-1,"Vergangenheit",IF((O9-$E$3-2)<1,"kurzfristig",IF((O9-$E$3-2)<3,"mittelfristig","langfristig"))) -> kurzfristig | P8: =IF((P9-$E$3-2)<0,"Vergangenheit",IF((P9-$E$3-2)<1,"kurzfristig",IF((P9-$E$3-2)<3,"mittelfristig","langfristig"))) -> mittelfristig | Q8: =IF((Q9-$E$3-2)<0,"Vergangenheit",IF((Q9-$E$3-2)<1,"kurzfristig",IF((Q9-$E$3-2)<3,"mittelfristig","langfristig"))) -> langfristig | R8: =IF((R9-$E$3-2)<0,"Vergangenheit",IF((R9-$E$3-2)<1,"kurzfristig",IF((R9-$E$3-2)<3,"mittelfristig","langfristig"))) -> langfristig | S8: =IF((S9-$E$3-2)<0,"Vergangenheit",IF((S9-$E$3-2)<1,"kurzfristig",IF((S9-$E$3-2)<3,"mittelfristig","langfristig"))) -> langfristig | T8: =IF((T9-$E$3-2)<0,"Vergangenheit",IF((T9-$E$3-2)<1,"kurzfristig",IF((T9-$E$3-2)<3,"mittelfristig","langfristig"))) -> langfristig | U8: =IF((U9-$E$3-2)<0,"Vergangenheit",IF((U9-$E$3-2)<1,"kurzfristig",IF((U9-$E$3-2)<3,"mittelfristig","langfristig"))) -> langfristig | V8: =IF((V9-$E$3-2)<0,"Vergangenheit",IF((V9-$E$3-2)<1,"kurzfristig",IF((V9-$E$3-2)<3,"mittelfristig","langfristig"))) -> langfristig | W8: =IF((W9-$E$3-2)<0,"Vergangenheit",IF((W9-$E$3-2)<1,"kurzfristig",IF((W9-$E$3-2)<3,"mittelfristig","langfristig"))) -> langfristig | ... Z8: =IF((Z9-$E$3-2)<0,"Vergangenheit",IF((Z9-$E$3-2)<1,"kurzfristig",IF((Z9-$E$3-2)<3,"mittelfristig","langfristig"))) -> langfristig
H9: Handlungsfeld | I9: 2013 | J9: 2015 | K9: 2020 | L9: =ODD(K9)+1 -> 2022 | M9: =L9+2 -> 2024 | N9: =M9+2 -> 2026 | O9: =N9+2 -> 2028 | P9: =O9+2 -> 2030 | Q9: =P9+2 -> 2032 | R9: =Q9+2 -> 2034 | S9: =R9+2 -> 2036 | T9: =S9+2 -> 2038 | ... Z9: =Y9+2 -> 2050
D10: Planungsziele: | H10: übergreifend | I10: =IF(I27=0,"",I27) | J10: =IF(J27=0,"",J27) | K10: =IF(K27=0,"",K27) | L10: =IF(L27=0,"",L27) | M10: =IF(M27=0,"",M27) | N10: =IF(N27=0,"",N27) | O10: =IF(O27=0,"",O27) | P10: =IF(P27=0,"",P27) | ... Z10: =IF(Z27=0,"",Z27)
D11: Wir senken unsere CO2-Emissionen bis2030um | G11: 0.35 | H11: Wärme | I11: =IF(I77=0,"",I77) -> 57667 | J11: =IF(J77=0,"",J77) -> 82324 | K11: =IF(K77=0,"",K77) -> 82324 | L11: =IF(L77=0,"",L77) -> 82324 | M11: =IF(M77=0,"",M77) -> 82324 | N11: =IF(N77=0,"",N77) -> 82324 | O11: =IF(O77=0,"",O77) -> 82324 | P11: =IF(P77=0,"",P77) -> 82324 | ... Z11: =IF(Z77=0,"",Z77) -> 82324
D12: Wir senken unsere CO2-Emissionen bis2050um | G12: 0.58642281 | H12: Strom | I12: =IF(I131=0,"",I131) -> 6811 | J12: =IF(J131=0,"",J131) -> 6811 | K12: =IF(K131=0,"",K131) -> 6811 | L12: =IF(L131=0,"",L131) -> 6811 | M12: =IF(M131=0,"",M131) -> 6811 | N12: =IF(N131=0,"",N131) -> 6811 | O12: =IF(O131=0,"",O131) -> 6811 | P12: =IF(P131=0,"",P131) -> 6811 | ... Z12: =IF(Z131=0,"",Z131) -> 6811
D13: Das Ausgangsjahr für die Berechnung ist: | G13: 2007 | H13: Abfall | I13: =IF(I175=0,"",I175) -> 6200 | J13: =IF(J175=0,"",J175) -> 6200 | K13: =IF(K175=0,"",K175) -> 6200 | L13: =IF(L175=0,"",L175) -> 6200 | M13: =IF(M175=0,"",M175) -> 6200 | N13: =IF(N175=0,"",N175) -> 6200 | O13: =IF(O175=0,"",O175) -> 6200 | P13: =IF(P175=0,"",P175) -> 6200 | ... Z13: =IF(Z175=0,"",Z175) -> 6200
D14: Ausgangslage: | H14: Beschaffung | I14: =IF(I221=0,"",I221) -> 700 | J14: =IF(J221=0,"",J221) -> 920 | K14: =IF(K221=0,"",K221) -> 1220 | L14: =IF(L221=0,"",L221) -> 1620 | M14: =IF(M221=0,"",M221) -> 1620 | N14: =IF(N221=0,"",N221) -> 1620 | O14: =IF(O221=0,"",O221) -> 1620 | P14: =IF(P221=0,"",P221) -> 1620 | ... Z14: =IF(Z221=0,"",Z221) -> 1620
D15: ='CO2-Schulbilanz'!A27 -> CO2-Emissionen für Strom, Heizenergie, Abfall, | G15: ='CO2-Schulbilanz'!E8 -> 298086.39 | H15: Ernährung | I15: =IF(I257=0,"",I257) | J15: =IF(J257=0,"",J257) | K15: =IF(K257=0,"",K257) | L15: =IF(L257=0,"",L257) | M15: =IF(M257=0,"",M257) | N15: =IF(N257=0,"",N257) | O15: =IF(O257=0,"",O257) | P15: =IF(P257=0,"",P257) | ... Z15: =IF(Z257=0,"",Z257)
D16: im Jahr: | G16: =G13 -> 2007 | H16: Mobilität | I16: =IF(I293=0,"",I293) | J16: =IF(J293=0,"",J293) | K16: =IF(K293=0,"",K293) | L16: =IF(L293=0,"",L293) | M16: =IF(M293=0,"",M293) | N16: =IF(N293=0,"",N293) | O16: =IF(O293=0,"",O293) | P16: =IF(P293=0,"",P293) | ... Z16: =IF(Z293=0,"",Z293)
D17: Planungsübersicht | H17: Prognose nach Planung | I17: =-SUM(I10:I16) -> -71378 | J17: =-SUM(J10:J16) -> -96255 | K17: =-SUM(K10:K16) -> -96555 | L17: =-SUM(L10:L16) -> -96955 | M17: =-SUM(M10:M16) -> -96955 | N17: =-SUM(N10:N16) -> -96955 | O17: =-SUM(O10:O16) -> -96955 | P17: =-SUM(P10:P16) -> -96955 | ... Z17: =-SUM(Z10:Z16) -> -96955
D18: In der nachfolgenden Übersicht werden für jedes Handlungsfeld die geplanten Maßnahmen mit den jeweiligen Zeitrahmen und Verantwortlichkeiten aufgeführt. | I18: =I17/$G$15 -> -0.23945407 | J18: =J17/$G$15 -> -0.32290975 | K18: =K17/$G$15 -> -0.32391617 | L18: =L17/$G$15 -> -0.32525806 | M18: =M17/$G$15 -> -0.32525806 | N18: =N17/$G$15 -> -0.32525806 | O18: =O17/$G$15 -> -0.32525806 | P18: =P17/$G$15 -> -0.32525806 | ... Z18: =Z17/$G$15 -> -0.32525806
H19: Soll nach Reduktionspfad | I19: =HLOOKUP(I9,'CO2-Schulbilanz'!$F$6:$AV$13,7,0) -> -31684.724 | J19: =HLOOKUP(J9,'CO2-Schulbilanz'!$F$6:$AV$13,7,0) -> -41479.37 | K19: =HLOOKUP(K9,'CO2-Schulbilanz'!$F$6:$AV$13,7,0) -> -64419.314 | L19: =HLOOKUP(L9,'CO2-Schulbilanz'!$F$6:$AV$13,7,0) -> -73010.426 | M19: =HLOOKUP(M9,'CO2-Schulbilanz'!$F$6:$AV$13,7,0) -> -81285.672 | N19: =HLOOKUP(N9,'CO2-Schulbilanz'!$F$6:$AV$13,7,0) -> -89256.667 | O19: =HLOOKUP(O9,'CO2-Schulbilanz'!$F$6:$AV$13,7,0) -> -96934.597 | P19: =HLOOKUP(P9,'CO2-Schulbilanz'!$F$6:$AV$13,7,0) -> -104330.24 | ... Z19: =HLOOKUP(Z9,'CO2-Schulbilanz'!$F$6:$AV$13,7,0) -> -174804.66
I20: =I19/$G$15 -> -0.10629376 | J20: =J19/$G$15 -> -0.13915218 | K20: =K19/$G$15 -> -0.21610955 | L20: =L19/$G$15 -> -0.24493042 | M20: =M19/$G$15 -> -0.27269166 | N20: =N19/$G$15 -> -0.29943221 | O20: =O19/$G$15 -> -0.32518961 | P20: =P19/$G$15 -> -0.35 | ... Z20: =Z19/$G$15 -> -0.58642281
D23: Handlungsfeldübergreifender Bereich
D24: Unsere Ziele in diesem Bereich sind …
C25: Nr. | D25: Maßnahme | E25: Termin(Beginn der Umsetzung) | F25: Status der Umsetzung | G25: verantwortlich | H25: Akteure für die Umsetzung | I25: =IF(I$8="kurzfristig","Ziele CO2 & Kompetenzen","") | J25: =IF(J$8="kurzfristig","Ziele CO2 & Kompetenzen","") | K25: =IF(K$8="kurzfristig","Ziele CO2 & Kompetenzen","") | L25: =IF(L$8="kurzfristig","Ziele CO2 & Kompetenzen","") | M25: =IF(M$8="kurzfristig","Ziele CO2 & Kompetenzen","") | N25: =IF(N$8="kurzfristig","Ziele CO2 & Kompetenzen","") | O25: =IF(O$8="kurzfristig","Ziele CO2 & Kompetenzen","") -> Ziele CO2 & Kompetenzen | P25: =IF(P$8="kurzfristig","Ziele CO2 & Kompetenzen","") | ... Z25: =IF(Z$8="kurzfristig","Ziele CO2 & Kompetenzen","")
I26: =$I$9 -> 2013 | J26: =J$9 -> 2015 | K26: =K$9 -> 2020 | L26: =L$9 -> 2022 | M26: =L26+2 -> 2024 | N26: =M26+2 -> 2026 | O26: =N26+2 -> 2028 | P26: =O26+2 -> 2030 | Q26: =P26+2 -> 2032 | R26: =Q26+2 -> 2034 | S26: =R26+2 -> 2036 | T26: =S26+2 -> 2038 | ... Z26: =Y26+2 -> 2050
H27: Summen: | I27: =SUM(I28:I59) -> 0 | J27: =SUM(J28:J59) -> 0 | K27: =SUM(K28:K59) -> 0 | L27: =SUM(L28:L59) -> 0 | M27: =SUM(M28:M59) -> 0 | N27: =SUM(N28:N59) -> 0 | O27: =SUM(O28:O59) -> 0 | P27: =SUM(P28:P59) -> 0 | ... Z27: =SUM(Z28:Z59) -> 0
C28: Ü1 | D28: Lehrer/-innen werden Vorbilder für Energie sparen | E28: 2010 | F28: wird laufend umgesetzt | G28: Fr. Nedić (Klimaschutzbeauftragte) | H28: alle LehrerInnen | J28: =I28 -> 0 | K28: =J28 -> 0 | L28: =K28 -> 0 | M28: =L28 -> 0 | N28: =M28 -> 0 | O28: =N28 -> 0 | P28: =O28 -> 0 | Q28: =P28 -> 0 | ... Z28: =Y28 -> 0
I29: 5% der Lehrkräfte dienen als Vorbild | J29: 15% der Lehrkräfte dienen als Vorbild | K29: 50% der Lehrkräfte dienen als Vorbild | L29: 80% der Lehrkräfte dienen als Vorbild | M29: =L29 -> 80% der Lehrkräfte dienen als Vorbild | N29: =M29 -> 80% der Lehrkräfte dienen als Vorbild | O29: =N29 -> 80% der Lehrkräfte dienen als Vorbild | P29: =O29 -> 80% der Lehrkräfte dienen als Vorbild | Q29: =P29 -> 80% der Lehrkräfte dienen als Vorbild | R29: =Q29 -> 80% der Lehrkräfte dienen als Vorbild | S29: =R29 -> 80% der Lehrkräfte dienen als Vorbild | T29: =S29 -> 80% der Lehrkräfte dienen als Vorbild | ... Z29: =Y29 -> 80% der Lehrkräfte dienen als Vorbild
C30: Ü2 | D30: Umweltkampagne | E30: 2010 | F30: wird laufend umgesetzt | G30: Fr. Nedić (Klimaschutzbeauftragte) | H30: Umweltgruppe, WasteWatcher | I30: 0 | J30: =I30 -> 0 | L30: =K30 -> 0 | M30: =L30 -> 0 | N30: =M30 -> 0 | O30: =N30 -> 0 | P30: =O30 -> 0 | Q30: =P30 -> 0 | R30: =Q30 -> 0 | S30: =R30 -> 0 | ... Z30: =Y30 -> 0
I31: 70% der Schulgemeinschaft ist sensibilisiert | J31: =I31 -> 70% der Schulgemeinschaft ist sensibilisiert | K31: =J31 -> 70% der Schulgemeinschaft ist sensibilisiert | L31: =K31 -> 70% der Schulgemeinschaft ist sensibilisiert | M31: =L31 -> 70% der Schulgemeinschaft ist sensibilisiert | N31: =M31 -> 70% der Schulgemeinschaft ist sensibilisiert | O31: =N31 -> 70% der Schulgemeinschaft ist sensibilisiert | P31: =O31 -> 70% der Schulgemeinschaft ist sensibilisiert | Q31: =P31 -> 70% der Schulgemeinschaft ist sensibilisiert | ... Z31: =Y31 -> 70% der Schulgemeinschaft ist sensibilisiert
C32: Ü3 | D32: Reinvestition der Fifty-Fifty-Energie4-Gelder in Klimaschutz | E32: 2010 | F32: wird laufend umgesetzt | G32: Fr. Nedić (Klimaschutzbeauftragte) | H32: Elternvertreter, Umweltlehrer, Schulleitung, UmweltschülerInnen | I32: 0 | J32: =I32 -> 0 | K32: =J32 -> 0 | L32: =K32 -> 0 | M32: =L32 -> 0 | N32: =M32 -> 0 | O32: =N32 -> 0 | P32: =O32 -> 0 | Q32: =P32 -> 0 | ... Z32: =Y32 -> 0
I33: 60% der Fifty-Fifty-Prämie wird reinvestiert | J33: =I33 -> 60% der Fifty-Fifty-Prämie wird reinvestiert | K33: =J33 -> 60% der Fifty-Fifty-Prämie wird reinvestiert | L33: =K33 -> 60% der Fifty-Fifty-Prämie wird reinvestiert | M33: =L33 -> 60% der Fifty-Fifty-Prämie wird reinvestiert | N33: =M33 -> 60% der Fifty-Fifty-Prämie wird reinvestiert | O33: =N33 -> 60% der Fifty-Fifty-Prämie wird reinvestiert | P33: =O33 -> 60% der Fifty-Fifty-Prämie wird reinvestiert | Q33: =P33 -> 60% der Fifty-Fifty-Prämie wird reinvestiert | ... Z33: =Y33 -> 60% der Fifty-Fifty-Prämie wird reinvestiert
C34: Ü4 | D34: Thema "Klimaschutz" im Schulcurriculum PGW | E34: 2011 | F34: umgesetzt | G34: Fr. Langjahr (PGW Fachleitung) | H34: Schüler/-innen Klassenstufe 8/9/10 und SekII | I34: 0 | J34: =I34 -> 0 | K34: =J34 -> 0 | L34: =K34 -> 0 | M34: =L34 -> 0 | N34: =M34 -> 0 | O34: =N34 -> 0 | P34: =O34 -> 0 | Q34: =P34 -> 0 | ... Z34: =Y34 -> 0
I35: In 80% der Kurse "PGW" in Klasse 8/9/19/SekII durchgeführt | J35: in allen Kursen "PGW" in Klasse 8/9/10/SekII durchgeführt | K35: =J35 -> in allen Kursen "PGW" in Klasse 8/9/10/SekII durchgeführt | L35: =K35 -> in allen Kursen "PGW" in Klasse 8/9/10/SekII durchgeführt | M35: =L35 -> in allen Kursen "PGW" in Klasse 8/9/10/SekII durchgeführt | N35: =M35 -> in allen Kursen "PGW" in Klasse 8/9/10/SekII durchgeführt | O35: =N35 -> in allen Kursen "PGW" in Klasse 8/9/10/SekII durchgeführt | P35: =O35 -> in allen Kursen "PGW" in Klasse 8/9/10/SekII durchgeführt | Q35: =P35 -> in allen Kursen "PGW" in Klasse 8/9/10/SekII durchgeführt | R35: =Q35 -> in allen Kursen "PGW" in Klasse 8/9/10/SekII durchgeführt | ... Z35: =Y35 -> in allen Kursen "PGW" in Klasse 8/9/10/SekII durchgeführt
C36: Ü5 | D36: Thema "Klimaschutz" im Schulcurriculum Bio | E36: 2011 | F36: umgesetzt | G36: Hr. Bock (Bio Fachleitung) | H36: Schüler/-innen Klassenstufe 9 | I36: 0 | J36: =I36 -> 0 | K36: =J36 -> 0 | L36: =K36 -> 0 | M36: =L36 -> 0 | N36: =M36 -> 0 | O36: =N36 -> 0 | P36: =O36 -> 0 | Q36: =P36 -> 0 | ... Z36: =Y36 -> 0
I37: In 80% der Kurse "PGW" in Klasse 9 durchgeführt | J37: in allen Kursen "PGW" in Klasse 9 durchgeführt | K37: =J37 -> in allen Kursen "PGW" in Klasse 9 durchgeführt | L37: =K37 -> in allen Kursen "PGW" in Klasse 9 durchgeführt | M37: =L37 -> in allen Kursen "PGW" in Klasse 9 durchgeführt | N37: =M37 -> in allen Kursen "PGW" in Klasse 9 durchgeführt | O37: =N37 -> in allen Kursen "PGW" in Klasse 9 durchgeführt | P37: =O37 -> in allen Kursen "PGW" in Klasse 9 durchgeführt | Q37: =P37 -> in allen Kursen "PGW" in Klasse 9 durchgeführt | R37: =Q37 -> in allen Kursen "PGW" in Klasse 9 durchgeführt | ... Z37: =Y37 -> in allen Kursen "PGW" in Klasse 9 durchgeführt
C38: Ü6 | D38: Thema "Ressourcen" im Schulcurriculum PGW | E38: 2011 | F38: umgesetzt | G38: Fr. Langjahr (PGW Fachleitung) | H38: Schüler/-innen Klassenstufe 10 | I38: 0 | J38: =I38 -> 0 | K38: =J38 -> 0 | L38: =K38 -> 0 | M38: =L38 -> 0 | N38: =M38 -> 0 | O38: =N38 -> 0 | P38: =O38 -> 0 | Q38: =P38 -> 0 | ... Z38: =Y38 -> 0
I39: In 80% der Kurse "PGW" in Klasse 10 durchgeführt | J39: in allen Kursen "PGW" in Klasse 10 durchgeführt | K39: =J39 -> in allen Kursen "PGW" in Klasse 10 durchgeführt | L39: =K39 -> in allen Kursen "PGW" in Klasse 10 durchgeführt | M39: =L39 -> in allen Kursen "PGW" in Klasse 10 durchgeführt | N39: =M39 -> in allen Kursen "PGW" in Klasse 10 durchgeführt | O39: =N39 -> in allen Kursen "PGW" in Klasse 10 durchgeführt | P39: =O39 -> in allen Kursen "PGW" in Klasse 10 durchgeführt | Q39: =P39 -> in allen Kursen "PGW" in Klasse 10 durchgeführt | R39: =Q39 -> in allen Kursen "PGW" in Klasse 10 durchgeführt | ... Z39: =Y39 -> in allen Kursen "PGW" in Klasse 10 durchgeführt
C40: Ü7 | D40: Thema "Nachhaltigkeit, Globalisierung, Energiewende" im Schulcurriculum PGW | E40: 2011 | F40: umgesetzt | G40: Fr. Langjahr (PGW Fachleitung) | H40: Schüler/-innen Klassenstufe Oberstufe | I40: 0 | J40: =I40 -> 0 | K40: =J40 -> 0 | L40: =K40 -> 0 | M40: =L40 -> 0 | N40: =M40 -> 0 | O40: =N40 -> 0 | P40: =O40 -> 0 | Q40: =P40 -> 0 | ... Z40: =Y40 -> 0
I41: In 80% der Kurse "PGW" in der Oberstufe durchgeführt | J41: in allen Kursen "PGW" in der Oberstufe durchgeführt | K41: =J41 -> in allen Kursen "PGW" in der Oberstufe durchgeführt | L41: =K41 -> in allen Kursen "PGW" in der Oberstufe durchgeführt | M41: =L41 -> in allen Kursen "PGW" in der Oberstufe durchgeführt | N41: =M41 -> in allen Kursen "PGW" in der Oberstufe durchgeführt | O41: =N41 -> in allen Kursen "PGW" in der Oberstufe durchgeführt | P41: =O41 -> in allen Kursen "PGW" in der Oberstufe durchgeführt | Q41: =P41 -> in allen Kursen "PGW" in der Oberstufe durchgeführt | R41: =Q41 -> in allen Kursen "PGW" in der Oberstufe durchgeführt | ... Z41: =Y41 -> in allen Kursen "PGW" in der Oberstufe durchgeführt
C42: Ü8 | D42: UmweltschülerInnen | E42: 2015 | F42: wird laufend umgesetzt | G42: Fr. Nedić (Klimaschutzbeauftragte) | H42: WasteWatcher | I42: 0 | J42: =I42 -> 0 | K42: =J42 -> 0 | L42: =K42 -> 0 | M42: =L42 -> 0 | N42: =M42 -> 0 | O42: =N42 -> 0 | P42: =O42 -> 0 | Q42: =P42 -> 0 | ... Z42: =Y42 -> 0
J43: =I43 -> 0 | K43: =J43 -> 0 | L43: =K43 -> 0 | M43: =L43 -> 0 | N43: =M43 -> 0 | O43: =N43 -> 0 | P43: =O43 -> 0 | Q43: =P43 -> 0 | ... Z43: =Y43 -> 0
C44: Ü9 | D44: Umweltausflug | E44: 2016 | F44: wird laufend umgesetzt | G44: Fr. Wolgast (WasteWatcher Betreuerin), Fr. Nedić (Klimaschutzbeauftragte) | H44: WasteWatcher | I44: 0 | J44: =I44 -> 0 | K44: =J44 -> 0 | L44: =K44 -> 0 | M44: =L44 -> 0 | N44: =M44 -> 0 | O44: =N44 -> 0 | P44: =O44 -> 0 | Q44: =P44 -> 0 | ... Z44: =Y44 -> 0
J45: =I45 -> 0 | K45: =J45 -> 0 | L45: =K45 -> 0 | M45: =L45 -> 0 | N45: =M45 -> 0 | O45: =N45 -> 0 | P45: =O45 -> 0 | Q45: =P45 -> 0 | ... Z45: =Y45 -> 0
C46: Ü10 | D46: Vertretungsmaterial | E46: 2021 | F46: in Umsetzung (Anfang) | G46: (Umweltgruppe) | I46: 0 | J46: =I46 -> 0 | K46: =J46 -> 0 | L46: =K46 -> 0 | M46: =L46 -> 0 | N46: =M46 -> 0 | O46: =N46 -> 0 | P46: =O46 -> 0 | Q46: =P46 -> 0 | ... Z46: =Y46 -> 0
J47: =I47 -> 0 | K47: =J47 -> 0 | L47: =K47 -> 0 | M47: =L47 -> 0 | N47: =M47 -> 0 | O47: =N47 -> 0 | P47: =O47 -> 0 | Q47: =P47 -> 0 | ... Z47: =Y47 -> 0
C48: Ü11 | D48: Umweltthemen in allen Fächern (Umweltcurriculum) | E48: 2014 | F48: in Umsetzung (Anfang) | G48: Fr. Nedić (Klimaschutzbeauftragte) | H48: alle | I48: 0 | J48: =I48 -> 0 | K48: =J48 -> 0 | L48: =K48 -> 0 | M48: =L48 -> 0 | N48: =M48 -> 0 | O48: =N48 -> 0 | P48: =O48 -> 0 | Q48: =P48 -> 0 | ... Z48: =Y48 -> 0
J49: =I49 -> 0 | K49: =J49 -> 0 | L49: =K49 -> 0 | M49: =L49 -> 0 | N49: =M49 -> 0 | O49: =N49 -> 0 | P49: =O49 -> 0 | Q49: =P49 -> 0 | ... Z49: =Y49 -> 0
C50: Ü12 | D50: Umwelt-AG | E50: 2015 | F50: wird laufend umgesetzt | G50: Fr. Wrona (Umwelt-AG) | H50: SchülerInnen der Unterstufe | I50: 0 | J50: =I50 -> 0 | K50: =J50 -> 0 | L50: =K50 -> 0 | M50: =L50 -> 0 | N50: =M50 -> 0 | O50: =N50 -> 0 | P50: =O50 -> 0 | Q50: =P50 -> 0 | ... Z50: =Y50 -> 0
J51: =I51 -> 0 | K51: =J51 -> 0 | L51: =K51 -> 0 | M51: =L51 -> 0 | N51: =M51 -> 0 | O51: =N51 -> 0 | P51: =O51 -> 0 | Q51: =P51 -> 0 | ... Z51: =Y51 -> 0
C52: Ü13 | D52: Umwelt-Zeitung | E52: 2010 | F52: zukünftiger Termin | G52: Fr. Nedić (Klimaschutzbeauftragte), Umweltgruppe | H52: alle | I52: 0 | J52: =I52 -> 0 | K52: =J52 -> 0 | L52: =K52 -> 0 | M52: =L52 -> 0 | N52: =M52 -> 0 | O52: =N52 -> 0 | P52: =O52 -> 0 | Q52: =P52 -> 0 | ... Z52: =Y52 -> 0
J53: =I53 -> 0 | K53: =J53 -> 0 | L53: =K53 -> 0 | M53: =L53 -> 0 | N53: =M53 -> 0 | O53: =N53 -> 0 | P53: =O53 -> 0 | Q53: =P53 -> 0 | ... Z53: =Y53 -> 0
C54: Ü14 | D54: Schulinterne Fortbildungen | E54: 2016 | F54: wird laufend umgesetzt | G54: Fr. Nedić (Klimaschutzbeauftragte), Umweltgruppe | H54: alle | I54: 0 | J54: =I54 -> 0 | K54: =J54 -> 0 | L54: =K54 -> 0 | M54: =L54 -> 0 | N54: =M54 -> 0 | O54: =N54 -> 0 | P54: =O54 -> 0 | Q54: =P54 -> 0 | ... Z54: =Y54 -> 0
J55: =I55 -> 0 | K55: =J55 -> 0 | L55: =K55 -> 0 | M55: =L55 -> 0 | N55: =M55 -> 0 | O55: =N55 -> 0 | P55: =O55 -> 0 | Q55: =P55 -> 0 | ... Z55: =Y55 -> 0
C56: Ü15 | D56: Naturnaher Schulhof | E56: 2024 | F56: wird laufend umgesetzt | G56: Hr. Jürgens (Umweltgruppe) | H56: Planungsteam | I56: 0 | J56: =I56 -> 0 | K56: =J56 -> 0 | L56: =K56 -> 0 | M56: =L56 -> 0 | N56: =M56 -> 0 | O56: =N56 -> 0 | P56: =O56 -> 0 | Q56: =P56 -> 0 | ... Z56: =Y56 -> 0
C58: Ü16 | D58: Garten-AG | E58: 2015 | F58: wird laufend umgesetzt | G58: Fr. Schneider (Garten-AG) | H58: SchülerInnen der Unter- und Mittelstufe | I58: 0 | J58: =I58 -> 0 | K58: =J58 -> 0 | L58: =K58 -> 0 | M58: =L58 -> 0 | N58: =M58 -> 0 | O58: =N58 -> 0 | P58: =O58 -> 0 | Q58: =P58 -> 0 | ... Z58: =Y58 -> 0
C66: Ü16 | I66: 0 | J66: =I66 -> 0 | K66: =J66 -> 0 | L66: =K66 -> 0 | M66: =L66 -> 0 | N66: =M66 -> 0 | O66: =N66 -> 0 | P66: =O66 -> 0 | Q66: =P66 -> 0 | ... Z66: =Y66 -> 0
J67: =I67 -> 0 | K67: =J67 -> 0 | L67: =K67 -> 0 | M67: =L67 -> 0 | N67: =M67 -> 0 | O67: =N67 -> 0 | P67: =O67 -> 0 | Q67: =P67 -> 0 | ... Z67: =Y67 -> 0
C68: Ü17 | D68: NEU 2026: Einbindung des naturnahen Schulhofs ins Curriculum | E68: 2026 | F68: in Umsetzung (Anfang) | G68: Fr. Schneider | H68: SchülerInnen und Lehrkäfte der Unterstufe | I68: 0 | J68: =I68 -> 0 | K68: =J68 -> 0 | L68: =K68 -> 0 | M68: =L68 -> 0 | N68: =M68 -> 0 | O68: =N68 -> 0 | P68: =O68 -> 0 | Q68: =P68 -> 0 | ... Z68: =Y68 -> 0
J69: =I69 -> 0 | K69: =J69 -> 0 | L69: =K69 -> 0 | M69: =L69 -> 0 | N69: =M69 -> 0 | O69: =N69 -> 0 | P69: =O69 -> 0 | Q69: =P69 -> 0 | ... Z69: =Y69 -> 0
C70: Ü18 | I70: 0 | J70: =I70 -> 0 | K70: =J70 -> 0 | L70: =K70 -> 0 | M70: =L70 -> 0 | N70: =M70 -> 0 | O70: =N70 -> 0 | P70: =O70 -> 0 | Q70: =P70 -> 0 | ... Z70: =Y70 -> 0
J71: =I71 -> 0 | K71: =J71 -> 0 | L71: =K71 -> 0 | M71: =L71 -> 0 | N71: =M71 -> 0 | O71: =N71 -> 0 | P71: =O71 -> 0 | Q71: =P71 -> 0 | ... Z71: =Y71 -> 0
D73: Handlungsfeld Wärme
D74: Unsere Ziele im Bereich Wärme sind …
C75: Nr. | D75: Maßnahme | E75: Termin(Beginn der Umsetzung) | F75: =F$25 -> Status der Umsetzung | G75: verantwortlich | H75: Akteure für die Umsetzung | I75: =I25 | J75: =J25 | K75: =K25 | L75: =L25 | M75: =M25 | N75: =N25 | O75: =O25 -> Ziele CO2 & Kompetenzen | P75: =P25 | ... Z75: =Z25
I76: =$I$9 -> 2013 | J76: =J$9 -> 2015 | K76: =K$9 -> 2020 | L76: =L$9 -> 2022 | M76: =L76+2 -> 2024 | N76: =M76+2 -> 2026 | O76: =N76+2 -> 2028 | P76: =O76+2 -> 2030 | Q76: =P76+2 -> 2032 | R76: =Q76+2 -> 2034 | S76: =R76+2 -> 2036 | T76: =S76+2 -> 2038 | ... Z76: =Y76+2 -> 2050
H77: Summen: | I77: =SUM(I78:I125) -> 57667 | J77: =SUM(J78:J125) -> 82324 | K77: =SUM(K78:K125) -> 82324 | L77: =SUM(L78:L125) -> 82324 | M77: =SUM(M78:M125) -> 82324 | N77: =SUM(N78:N125) -> 82324 | O77: =SUM(O78:O125) -> 82324 | P77: =SUM(P78:P125) -> 82324 | ... Z77: =SUM(Z78:Z125) -> 82324
C78: W1 | D78: sofortige Reparatur defekter Fenster, defekter Isolation | E78: 2012 | F78: wird laufend umgesetzt | G78: Hr. Brüggmann (Hausmeister) | H78: Schüler melden Schäden unverzüglich | I78: 4000 | J78: =I78 -> 4000 | K78: =J78 -> 4000 | L78: =K78 -> 4000 | M78: =L78 -> 4000 | N78: =M78 -> 4000 | O78: =N78 -> 4000 | P78: =O78 -> 4000 | Q78: =P78 -> 4000 | ... Z78: =Y78 -> 4000
J79: =I79 -> 0 | K79: =J79 -> 0 | L79: =K79 -> 0 | M79: =L79 -> 0 | N79: =M79 -> 0 | O79: =N79 -> 0 | P79: =O79 -> 0 | Q79: =P79 -> 0 | ... Z79: =Y79 -> 0
C80: W2 | D80: Raumtemperatur auf Sollwerte einstellen | E80: 2008 | F80: in Umsetzung (Mitte) | G80: Hr. Brüggmann (Hausmeister) | H80: Umweltgruppe, Physik-Fachschaft | I80: 9346 | J80: =I80 -> 9346 | K80: =J80 -> 9346 | L80: =K80 -> 9346 | M80: =L80 -> 9346 | N80: =M80 -> 9346 | O80: =N80 -> 9346 | P80: =O80 -> 9346 | Q80: =P80 -> 9346 | ... Z80: =Y80 -> 9346
J81: =I81 -> 0 | K81: =J81 -> 0 | L81: =K81 -> 0 | M81: =L81 -> 0 | N81: =M81 -> 0 | O81: =N81 -> 0 | P81: =O81 -> 0 | Q81: =P81 -> 0 | ... Z81: =Y81 -> 0
C82: W3 | D82: Solarthermie Bezirkssporthalle: Reparatur, Erhalt, Überprüfung und Monitoring der Anlage | E82: 2008 | F82: wird laufend umgesetzt | G82: Hr. Brüggmann (Hausmeister) | H82: Hr. Brüggmann (Hausmeister) | I82: 600 | J82: =I82 -> 600 | K82: =J82 -> 600 | L82: =K82 -> 600 | M82: =L82 -> 600 | N82: =M82 -> 600 | O82: =N82 -> 600 | P82: =O82 -> 600 | Q82: =P82 -> 600 | ... Z82: =Y82 -> 600
J83: =I83 -> 0 | K83: =J83 -> 0 | L83: =K83 -> 0 | M83: =L83 -> 0 | N83: =M83 -> 0 | O83: =N83 -> 0 | P83: =O83 -> 0 | Q83: =P83 -> 0 | ... Z83: =Y83 -> 0
C84: W4 | D84: WasteWatcher achten auf geschlossene Fenster und Stoßlüften im Winter | E84: 2010 | F84: wird laufend umgesetzt | G84: Fr. Wolgast (WasteWatcher Betreuer), Fr. Nedić (Klimaschutzbeauftragte) | H84: WasteWatcher, alle | I84: 4000 | J84: =I84 -> 4000 | K84: =J84 -> 4000 | L84: =K84 -> 4000 | M84: =L84 -> 4000 | N84: =M84 -> 4000 | O84: =N84 -> 4000 | P84: =O84 -> 4000 | Q84: =P84 -> 4000 | ... Z84: =Y84 -> 4000
J85: =I85 -> 0 | K85: =J85 -> 0 | L85: =K85 -> 0 | M85: =L85 -> 0 | N85: =M85 -> 0 | O85: =N85 -> 0 | P85: =O85 -> 0 | Q85: =P85 -> 0 | ... Z85: =Y85 -> 0
C86: W5 | D86: Verschattung beseitigen | E86: 2010 | G86: Fr. Nedić (Klimaschutzbeauftragte) | I86: 575 | J86: =I86 -> 575 | K86: =J86 -> 575 | L86: =K86 -> 575 | M86: =L86 -> 575 | N86: =M86 -> 575 | O86: =N86 -> 575 | P86: =O86 -> 575 | Q86: =P86 -> 575 | ... Z86: =Y86 -> 575
J87: =I87 -> 0 | K87: =J87 -> 0 | L87: =K87 -> 0 | M87: =L87 -> 0 | N87: =M87 -> 0 | O87: =N87 -> 0 | P87: =O87 -> 0 | Q87: =P87 -> 0 | ... Z87: =Y87 -> 0
C88: W6 | D88: Nachisolation der Heizkellerventile | E88: 2010 | F88: umgesetzt | G88: Hr. Brüggmann (Hausmeister) | H88: Hr. Brüggmann (Hausmeister) | I88: 13800 | J88: =I88 -> 13800 | K88: =J88 -> 13800 | L88: =K88 -> 13800 | M88: =L88 -> 13800 | N88: =M88 -> 13800 | O88: =N88 -> 13800 | P88: =O88 -> 13800 | Q88: =P88 -> 13800 | ... Z88: =Y88 -> 13800
J89: =I89 -> 0 | K89: =J89 -> 0 | L89: =K89 -> 0 | M89: =L89 -> 0 | N89: =M89 -> 0 | O89: =N89 -> 0 | P89: =O89 -> 0 | Q89: =P89 -> 0 | ... Z89: =Y89 -> 0
C90: W7 | D90: Heiztechnische Trennung der Gebäude | E90: 2010 | F90: umgesetzt | G90: Hr. Brüggmann (Hausmeister) | H90: Hr. Brüggmann (Hausmeister) | I90: 16100 | J90: =I90 -> 16100 | K90: =J90 -> 16100 | L90: =K90 -> 16100 | M90: =L90 -> 16100 | N90: =M90 -> 16100 | O90: =N90 -> 16100 | P90: =O90 -> 16100 | Q90: =P90 -> 16100 | ... Z90: =Y90 -> 16100
J91: =I91 -> 0 | K91: =J91 -> 0 | L91: =K91 -> 0 | M91: =L91 -> 0 | N91: =M91 -> 0 | O91: =N91 -> 0 | P91: =O91 -> 0 | Q91: =P91 -> 0 | ... Z91: =Y91 -> 0
C92: W8 | D92: Thema "Effektiver Umgang mit Wärme" in Physik in Klasse 9/10 | E92: 2014 | G92: Hr. Loy (Physik Fachleitung) | H92: Schüler der 9./10. Klassen | I92: 0 | J92: =I92 -> 0 | K92: =J92 -> 0 | L92: =K92 -> 0 | M92: =L92 -> 0 | N92: =M92 -> 0 | O92: =N92 -> 0 | P92: =O92 -> 0 | Q92: =P92 -> 0 | ... Z92: =Y92 -> 0
I93: in 60% der Kurse "Physik" in Klasse 9/10 durchgeführt | J93: in allen Kursen "Physik" in Klasse 9/10 durchgeführt | K93: =J93 -> in allen Kursen "Physik" in Klasse 9/10 durchgeführt | L93: =K93 -> in allen Kursen "Physik" in Klasse 9/10 durchgeführt | M93: =L93 -> in allen Kursen "Physik" in Klasse 9/10 durchgeführt | N93: =M93 -> in allen Kursen "Physik" in Klasse 9/10 durchgeführt | O93: =N93 -> in allen Kursen "Physik" in Klasse 9/10 durchgeführt | P93: =O93 -> in allen Kursen "Physik" in Klasse 9/10 durchgeführt | Q93: =P93 -> in allen Kursen "Physik" in Klasse 9/10 durchgeführt | R93: =Q93 -> in allen Kursen "Physik" in Klasse 9/10 durchgeführt | ... Z93: =Y93 -> in allen Kursen "Physik" in Klasse 9/10 durchgeführt
C94: W9 | D94: Nacht- und Wochenendabsenkung prüfen und optimieren | E94: 2015 | F94: in Umsetzung (Mitte) | G94: Hr. Brüggmann (Hausmeister), Fr. Nedić (Klimaschutzbeauftragte) | H94: Umweltlehrer | I94: 0 | J94: 21575 | K94: =J94 -> 21575 | L94: =K94 -> 21575 | M94: =L94 -> 21575 | N94: =M94 -> 21575 | O94: =N94 -> 21575 | P94: =O94 -> 21575 | Q94: =P94 -> 21575 | R94: =Q94 -> 21575 | ... Z94: =Y94 -> 21575
J95: =I95 -> 0 | K95: =J95 -> 0 | L95: =K95 -> 0 | M95: =L95 -> 0 | N95: =M95 -> 0 | O95: =N95 -> 0 | P95: =O95 -> 0 | Q95: =P95 -> 0 | ... Z95: =Y95 -> 0
C96: W10 | D96: Tages- und Raumprofil prüfen und optimieren | E96: 2015 | F96: in Umsetzung (Mitte) | G96: Hr. Brüggmann (Hausmeister), Fr. Nedić (Klimaschutzbeauftragte) | H96: Umweltlehrer | I96: 0 | J96: 6164 | K96: =J96 -> 6164 | L96: =K96 -> 6164 | M96: =L96 -> 6164 | N96: =M96 -> 6164 | O96: =N96 -> 6164 | P96: =O96 -> 6164 | Q96: =P96 -> 6164 | R96: =Q96 -> 6164 | ... Z96: =Y96 -> 6164
J97: =I97 -> 0 | K97: =J97 -> 0 | L97: =K97 -> 0 | M97: =L97 -> 0 | N97: =M97 -> 0 | O97: =N97 -> 0 | P97: =O97 -> 0 | Q97: =P97 -> 0 | ... Z97: =Y97 -> 0
C98: W11 | D98: Thermostatventile regelmäßig warten/ggf. Ersetzen | E98: 2015 | F98: bisher nicht umgesetzt | G98: Hr. Brüggmann (Hausmeister) | H98: Hr. Brüggmann (Hausmeister) | I98: 0 | J98: =I98 -> 0 | K98: =J98 -> 0 | L98: =K98 -> 0 | M98: =L98 -> 0 | N98: =M98 -> 0 | O98: =N98 -> 0 | P98: =O98 -> 0 | Q98: =P98 -> 0 | ... Z98: =Y98 -> 0
J99: =I99 -> 0 | K99: =J99 -> 0 | L99: =K99 -> 0 | M99: =L99 -> 0 | N99: =M99 -> 0 | O99: =N99 -> 0 | P99: =O99 -> 0 | Q99: =P99 -> 0 | ... Z99: =Y99 -> 0
C100: W12 | D100: herkömmliche Thermostatventile gegen elektronische austauschen | E100: 2020 | F100: bisher nicht umgesetzt | G100: Hr. Brüggmann (Hausmeister) | H100: Hr. Brüggmann (Hausmeister) | I100: 0 | J100: =I100 -> 0 | K100: =J100 -> 0 | L100: =K100 -> 0 | M100: =L100 -> 0 | N100: =M100 -> 0 | O100: =N100 -> 0 | P100: =O100 -> 0 | Q100: =P100 -> 0 | ... Z100: =Y100 -> 0
J101: =I101 -> 0 | K101: =J101 -> 0 | L101: =K101 -> 0 | M101: =L101 -> 0 | N101: =M101 -> 0 | O101: =N101 -> 0 | P101: =O101 -> 0 | Q101: =P101 -> 0 | ... Z101: =Y101 -> 0
C102: W13 | D102: Dämmung der Heizungsverteilstränge im unbeheizten Bereich | E102: 2020 | F102: bisher nicht umgesetzt | G102: Hr. Brüggmann (Hausmeister) | H102: Hr. Brüggmann (Hausmeister) | I102: 0 | J102: =I102 -> 0 | K102: =J102 -> 0 | L102: =K102 -> 0 | M102: =L102 -> 0 | N102: =M102 -> 0 | O102: =N102 -> 0 | P102: =O102 -> 0 | Q102: =P102 -> 0 | ... Z102: =Y102 -> 0
J103: =I103 -> 0 | K103: =J103 -> 0 | L103: =K103 -> 0 | M103: =L103 -> 0 | N103: =M103 -> 0 | O103: =N103 -> 0 | P103: =O103 -> 0 | Q103: =P103 -> 0 | ... Z103: =Y103 -> 0
C104: W14 | D104: Eigene Heizkreise für Zonen unterschiedlichen Wärmebedarfs | E104: 2013 | F104: umgesetzt | G104: Hr. Brüggmann (Hausmeister) | H104: Hr. Brüggmann (Hausmeister) | I104: 6164 | J104: =I104 -> 6164 | K104: =J104 -> 6164 | L104: =K104 -> 6164 | M104: =L104 -> 6164 | N104: =M104 -> 6164 | O104: =N104 -> 6164 | P104: =O104 -> 6164 | Q104: =P104 -> 6164 | ... Z104: =Y104 -> 6164
J105: =I105 -> 0 | K105: =J105 -> 0 | L105: =K105 -> 0 | M105: =L105 -> 0 | N105: =M105 -> 0 | O105: =N105 -> 0 | P105: =O105 -> 0 | Q105: =P105 -> 0 | ... Z105: =Y105 -> 0
C106: W15 | D106: Dichtungen von Fenstern und Türen überprüfen und nachrüsten | F106: wird laufend umgesetzt | G106: Hr. Brüggmann (Hausmeister) | H106: Hr. Brüggmann (Hausmeister) | I106: 0 | J106: =I106 -> 0 | K106: =J106 -> 0 | L106: =K106 -> 0 | M106: =L106 -> 0 | N106: =M106 -> 0 | O106: =N106 -> 0
J107: =I107 -> 0 | K107: =J107 -> 0 | L107: =K107 -> 0 | M107: =L107 -> 0 | N107: =M107 -> 0 | O107: =N107 -> 0
C108: W16 | D108: Türschließer zu allen them. Unterschiedlich konditionierten Bereichen installieren | F108: bisher nicht umgesetzt | G108: Hr. Brüggmann (Hausmeister) | H108: Hr. Brüggmann (Hausmeister) | M108: =L108 -> 0 | N108: =M108 -> 0 | O108: =N108 -> 0
M109: =L109 -> 0 | N109: =M109 -> 0 | O109: =N109 -> 0
C110: W17 | D110: Einfachfenster nachrüsten | F110: bisher nicht umgesetzt | G110: Hr. Brüggmann (Hausmeister) | H110: Hr. Brüggmann (Hausmeister) | I110: 3082 | M110: =L110 -> 0 | N110: =M110 -> 0 | O110: =N110 -> 0
M111: =L111 -> 0 | N111: =M111 -> 0 | O111: =N111 -> 0
C112: W18 | D112: ältere Isolierfenster gegen Fenster nach EnEV Standard ersetzen | F112: bisher nicht umgesetzt | G112: Hr. Brüggmann (Hausmeister) | H112: Hr. Brüggmann (Hausmeister) | M112: =L112 -> 0 | N112: =M112 -> 0 | O112: =N112 -> 0
M113: =L113 -> 0 | N113: =M113 -> 0 | O113: =N113 -> 0
...

Sheet Chronologische Liste
C2: Chronologische Maßnahmen-Liste | G2: Stand: | H2: =Planungsübersicht!G4 -> 46281
C3: Alle Handlungsfelder
C4: Hinweis:Nach Änderungen an der Planungsübersicht bitte die TastenStrg+Alt+Ldrücken (Ansicht aktualisieren)
B5: =Planungsübersicht!C25 -> Nr. | C5: =Planungsübersicht!D25 -> Maßnahme | D5: =Planungsübersicht!E25 -> Termin(Beginn der Umsetzung) | E5: =Planungsübersicht!F25 -> Status der Umsetzung | F5: =Planungsübersicht!G25 -> verantwortlich | G5: =Planungsübersicht!H25 -> Akteure für die Umsetzung | H5: Ziele CO2
B6: =IF(AND(Planungsübersicht!$E132>1990,TYPE(Planungsübersicht!$E132)=1,NOT(Planungsübersicht!$F132="Umsetzung nicht möglich")), Planungsübersicht!C132," ") -> S1 | C6: =IF(AND(Planungsübersicht!$E132>1990,TYPE(Planungsübersicht!$E132)=1,NOT(Planungsübersicht!$F132="Umsetzung nicht möglich")), Planungsübersicht!D132," ") -> Eigenproduktion | D6: =IF(AND(Planungsübersicht!$E132>1990,TYPE(Planungsübersicht!$E132)=1,NOT(Planungsübersicht!$F132="Umsetzung nicht möglich")), Planungsübersicht!E132," ") -> 2007 | E6: =IF(AND(Planungsübersicht!$E132>1990,TYPE(Planungsübersicht!$E132)=1,NOT(Planungsübersicht!$F132="Umsetzung nicht möglich")), Planungsübersicht!F132," ") -> wird laufend umgesetzt | F6: =IF(AND(Planungsübersicht!$E132>1990,TYPE(Planungsübersicht!$E132)=1,NOT(Planungsübersicht!$F132="Umsetzung nicht möglich")), Planungsübersicht!G132," ") -> Fr. Baur (PVA-Beauftragte) + Hr. Brüggmann (Hausmeister) | G6: =IF(AND(Planungsübersicht!$E132>1990,TYPE(Planungsübersicht!$E132)=1,NOT(Planungsübersicht!$F132="Umsetzung nicht möglich")), Planungsübersicht!H132," ") -> 0 | H6: =IF(AND(Planungsübersicht!$E132>1990,TYPE(Planungsübersicht!$E132)=1,NOT(Planungsübersicht!$F132="Umsetzung nicht möglich")), MAX(Planungsübersicht!I132:Z132)," ") -> 489
B7: =IF(AND(Planungsübersicht!$E80>1990,TYPE(Planungsübersicht!$E80)=1,NOT(Planungsübersicht!$F80="Umsetzung nicht möglich")), Planungsübersicht!C80," ") -> W2 | C7: =IF(AND(Planungsübersicht!$E80>1990,TYPE(Planungsübersicht!$E80)=1,NOT(Planungsübersicht!$F80="Umsetzung nicht möglich")), Planungsübersicht!D80," ") -> Raumtemperatur auf Sollwerte einstellen | D7: =IF(AND(Planungsübersicht!$E80>1990,TYPE(Planungsübersicht!$E80)=1,NOT(Planungsübersicht!$F80="Umsetzung nicht möglich")), Planungsübersicht!E80," ") -> 2008 | E7: =IF(AND(Planungsübersicht!$E80>1990,TYPE(Planungsübersicht!$E80)=1,NOT(Planungsübersicht!$F80="Umsetzung nicht möglich")), Planungsübersicht!F80," ") -> in Umsetzung (Mitte) | F7: =IF(AND(Planungsübersicht!$E80>1990,TYPE(Planungsübersicht!$E80)=1,NOT(Planungsübersicht!$F80="Umsetzung nicht möglich")), Planungsübersicht!G80," ") -> Hr. Brüggmann (Hausmeister) | G7: =IF(AND(Planungsübersicht!$E80>1990,TYPE(Planungsübersicht!$E80)=1,NOT(Planungsübersicht!$F80="Umsetzung nicht möglich")), Planungsübersicht!H80," ") -> Umweltgruppe, Physik-Fachschaft | H7: =IF(AND(Planungsübersicht!$E80>1990,TYPE(Planungsübersicht!$E80)=1,NOT(Planungsübersicht!$F80="Umsetzung nicht möglich")), MAX(Planungsübersicht!I80:Z80)," ") -> 9346
B8: =IF(AND(Planungsübersicht!$E82>1990,TYPE(Planungsübersicht!$E82)=1,NOT(Planungsübersicht!$F82="Umsetzung nicht möglich")), Planungsübersicht!C82," ") -> W3 | C8: =IF(AND(Planungsübersicht!$E82>1990,TYPE(Planungsübersicht!$E82)=1,NOT(Planungsübersicht!$F82="Umsetzung nicht möglich")), Planungsübersicht!D82," ") -> Solarthermie Bezirkssporthalle: Reparatur, Erhalt, Überprüfung und Monitoring der Anlage | D8: =IF(AND(Planungsübersicht!$E82>1990,TYPE(Planungsübersicht!$E82)=1,NOT(Planungsübersicht!$F82="Umsetzung nicht möglich")), Planungsübersicht!E82," ") -> 2008 | E8: =IF(AND(Planungsübersicht!$E82>1990,TYPE(Planungsübersicht!$E82)=1,NOT(Planungsübersicht!$F82="Umsetzung nicht möglich")), Planungsübersicht!F82," ") -> wird laufend umgesetzt | F8: =IF(AND(Planungsübersicht!$E82>1990,TYPE(Planungsübersicht!$E82)=1,NOT(Planungsübersicht!$F82="Umsetzung nicht möglich")), Planungsübersicht!G82," ") -> Hr. Brüggmann (Hausmeister) | G8: =IF(AND(Planungsübersicht!$E82>1990,TYPE(Planungsübersicht!$E82)=1,NOT(Planungsübersicht!$F82="Umsetzung nicht möglich")), Planungsübersicht!H82," ") -> Hr. Brüggmann (Hausmeister) | H8: =IF(AND(Planungsübersicht!$E82>1990,TYPE(Planungsübersicht!$E82)=1,NOT(Planungsübersicht!$F82="Umsetzung nicht möglich")), MAX(Planungsübersicht!I82:Z82)," ") -> 600
B9: =IF(AND(Planungsübersicht!$E28>1990,TYPE(Planungsübersicht!$E28)=1,NOT(Planungsübersicht!$F28="Umsetzung nicht möglich")), Planungsübersicht!C28," ") -> Ü1 | C9: =IF(AND(Planungsübersicht!$E28>1990,TYPE(Planungsübersicht!$E28)=1,NOT(Planungsübersicht!$F28="Umsetzung nicht möglich")), Planungsübersicht!D28," ") -> Lehrer/-innen werden Vorbilder für Energie sparen | D9: =IF(AND(Planungsübersicht!$E28>1990,TYPE(Planungsübersicht!$E28)=1,NOT(Planungsübersicht!$F28="Umsetzung nicht möglich")), Planungsübersicht!E28," ") -> 2010 | E9: =IF(AND(Planungsübersicht!$E28>1990,TYPE(Planungsübersicht!$E28)=1,NOT(Planungsübersicht!$F28="Umsetzung nicht möglich")), Planungsübersicht!F28," ") -> wird laufend umgesetzt | F9: =IF(AND(Planungsübersicht!$E28>1990,TYPE(Planungsübersicht!$E28)=1,NOT(Planungsübersicht!$F28="Umsetzung nicht möglich")), Planungsübersicht!G28," ") -> Fr. Nedić (Klimaschutzbeauftragte) | G9: =IF(AND(Planungsübersicht!$E28>1990,TYPE(Planungsübersicht!$E28)=1,NOT(Planungsübersicht!$F28="Umsetzung nicht möglich")), Planungsübersicht!H28," ") -> alle LehrerInnen | H9: =IF(AND(Planungsübersicht!$E28>1990,TYPE(Planungsübersicht!$E28)=1,NOT(Planungsübersicht!$F28="Umsetzung nicht möglich")), MAX(Planungsübersicht!I28:Z28)," ") -> 0
B10: =IF(AND(Planungsübersicht!$E30>1990,TYPE(Planungsübersicht!$E30)=1,NOT(Planungsübersicht!$F30="Umsetzung nicht möglich")), Planungsübersicht!C30," ") -> Ü2 | C10: =IF(AND(Planungsübersicht!$E30>1990,TYPE(Planungsübersicht!$E30)=1,NOT(Planungsübersicht!$F30="Umsetzung nicht möglich")), Planungsübersicht!D30," ") -> Umweltkampagne | D10: =IF(AND(Planungsübersicht!$E30>1990,TYPE(Planungsübersicht!$E30)=1,NOT(Planungsübersicht!$F30="Umsetzung nicht möglich")), Planungsübersicht!E30," ") -> 2010 | E10: =IF(AND(Planungsübersicht!$E30>1990,TYPE(Planungsübersicht!$E30)=1,NOT(Planungsübersicht!$F30="Umsetzung nicht möglich")), Planungsübersicht!F30," ") -> wird laufend umgesetzt | F10: =IF(AND(Planungsübersicht!$E30>1990,TYPE(Planungsübersicht!$E30)=1,NOT(Planungsübersicht!$F30="Umsetzung nicht möglich")), Planungsübersicht!G30," ") -> Fr. Nedić (Klimaschutzbeauftragte) | G10: =IF(AND(Planungsübersicht!$E30>1990,TYPE(Planungsübersicht!$E30)=1,NOT(Planungsübersicht!$F30="Umsetzung nicht möglich")), Planungsübersicht!H30," ") -> Umweltgruppe, WasteWatcher | H10: =IF(AND(Planungsübersicht!$E30>1990,TYPE(Planungsübersicht!$E30)=1,NOT(Planungsübersicht!$F30="Umsetzung nicht möglich")), MAX(Planungsübersicht!I30:Z30)," ") -> 0
B11: =IF(AND(Planungsübersicht!$E32>1990,TYPE(Planungsübersicht!$E32)=1,NOT(Planungsübersicht!$F32="Umsetzung nicht möglich")), Planungsübersicht!C32," ") -> Ü3 | C11: =IF(AND(Planungsübersicht!$E32>1990,TYPE(Planungsübersicht!$E32)=1,NOT(Planungsübersicht!$F32="Umsetzung nicht möglich")), Planungsübersicht!D32," ") -> Reinvestition der Fifty-Fifty-Energie4-Gelder in Klimaschutz | D11: =IF(AND(Planungsübersicht!$E32>1990,TYPE(Planungsübersicht!$E32)=1,NOT(Planungsübersicht!$F32="Umsetzung nicht möglich")), Planungsübersicht!E32," ") -> 2010 | E11: =IF(AND(Planungsübersicht!$E32>1990,TYPE(Planungsübersicht!$E32)=1,NOT(Planungsübersicht!$F32="Umsetzung nicht möglich")), Planungsübersicht!F32," ") -> wird laufend umgesetzt | F11: =IF(AND(Planungsübersicht!$E32>1990,TYPE(Planungsübersicht!$E32)=1,NOT(Planungsübersicht!$F32="Umsetzung nicht möglich")), Planungsübersicht!G32," ") -> Fr. Nedić (Klimaschutzbeauftragte) | G11: =IF(AND(Planungsübersicht!$E32>1990,TYPE(Planungsübersicht!$E32)=1,NOT(Planungsübersicht!$F32="Umsetzung nicht möglich")), Planungsübersicht!H32," ") -> Elternvertreter, Umweltlehrer, Schulleitung, UmweltschülerInnen | H11: =IF(AND(Planungsübersicht!$E32>1990,TYPE(Planungsübersicht!$E32)=1,NOT(Planungsübersicht!$F32="Umsetzung nicht möglich")), MAX(Planungsübersicht!I32:Z32)," ") -> 0
B12: =IF(AND(Planungsübersicht!$E52>1990,TYPE(Planungsübersicht!$E52)=1,NOT(Planungsübersicht!$F52="Umsetzung nicht möglich")), Planungsübersicht!C52," ") -> Ü13 | C12: =IF(AND(Planungsübersicht!$E52>1990,TYPE(Planungsübersicht!$E52)=1,NOT(Planungsübersicht!$F52="Umsetzung nicht möglich")), Planungsübersicht!D52," ") -> Umwelt-Zeitung | D12: =IF(AND(Planungsübersicht!$E52>1990,TYPE(Planungsübersicht!$E52)=1,NOT(Planungsübersicht!$F52="Umsetzung nicht möglich")), Planungsübersicht!E52," ") -> 2010 | E12: =IF(AND(Planungsübersicht!$E52>1990,TYPE(Planungsübersicht!$E52)=1,NOT(Planungsübersicht!$F52="Umsetzung nicht möglich")), Planungsübersicht!F52," ") -> zukünftiger Termin | F12: =IF(AND(Planungsübersicht!$E52>1990,TYPE(Planungsübersicht!$E52)=1,NOT(Planungsübersicht!$F52="Umsetzung nicht möglich")), Planungsübersicht!G52," ") -> Fr. Nedić (Klimaschutzbeauftragte), Umweltgruppe | G12: =IF(AND(Planungsübersicht!$E52>1990,TYPE(Planungsübersicht!$E52)=1,NOT(Planungsübersicht!$F52="Umsetzung nicht möglich")), Planungsübersicht!H52," ") -> alle | H12: =IF(AND(Planungsübersicht!$E52>1990,TYPE(Planungsübersicht!$E52)=1,NOT(Planungsübersicht!$F52="Umsetzung nicht möglich")), MAX(Planungsübersicht!I52:Z52)," ") -> 0
B13: =IF(AND(Planungsübersicht!$E84>1990,TYPE(Planungsübersicht!$E84)=1,NOT(Planungsübersicht!$F84="Umsetzung nicht möglich")), Planungsübersicht!C84," ") -> W4 | C13: =IF(AND(Planungsübersicht!$E84>1990,TYPE(Planungsübersicht!$E84)=1,NOT(Planungsübersicht!$F84="Umsetzung nicht möglich")), Planungsübersicht!D84," ") -> WasteWatcher achten auf geschlossene Fenster und Stoßlüften im Winter | D13: =IF(AND(Planungsübersicht!$E84>1990,TYPE(Planungsübersicht!$E84)=1,NOT(Planungsübersicht!$F84="Umsetzung nicht möglich")), Planungsübersicht!E84," ") -> 2010 | E13: =IF(AND(Planungsübersicht!$E84>1990,TYPE(Planungsübersicht!$E84)=1,NOT(Planungsübersicht!$F84="Umsetzung nicht möglich")), Planungsübersicht!F84," ") -> wird laufend umgesetzt | F13: =IF(AND(Planungsübersicht!$E84>1990,TYPE(Planungsübersicht!$E84)=1,NOT(Planungsübersicht!$F84="Umsetzung nicht möglich")), Planungsübersicht!G84," ") -> Fr. Wolgast (WasteWatcher Betreuer), Fr. Nedić (Klimaschutzbeauftragte) | G13: =IF(AND(Planungsübersicht!$E84>1990,TYPE(Planungsübersicht!$E84)=1,NOT(Planungsübersicht!$F84="Umsetzung nicht möglich")), Planungsübersicht!H84," ") -> WasteWatcher, alle | H13: =IF(AND(Planungsübersicht!$E84>1990,TYPE(Planungsübersicht!$E84)=1,NOT(Planungsübersicht!$F84="Umsetzung nicht möglich")), MAX(Planungsübersicht!I84:Z84)," ") -> 4000
B14: =IF(AND(Planungsübersicht!$E86>1990,TYPE(Planungsübersicht!$E86)=1,NOT(Planungsübersicht!$F86="Umsetzung nicht möglich")), Planungsübersicht!C86," ") -> W5 | C14: =IF(AND(Planungsübersicht!$E86>1990,TYPE(Planungsübersicht!$E86)=1,NOT(Planungsübersicht!$F86="Umsetzung nicht möglich")), Planungsübersicht!D86," ") -> Verschattung beseitigen | D14: =IF(AND(Planungsübersicht!$E86>1990,TYPE(Planungsübersicht!$E86)=1,NOT(Planungsübersicht!$F86="Umsetzung nicht möglich")), Planungsübersicht!E86," ") -> 2010 | E14: =IF(AND(Planungsübersicht!$E86>1990,TYPE(Planungsübersicht!$E86)=1,NOT(Planungsübersicht!$F86="Umsetzung nicht möglich")), Planungsübersicht!F86," ") -> 0 | F14: =IF(AND(Planungsübersicht!$E86>1990,TYPE(Planungsübersicht!$E86)=1,NOT(Planungsübersicht!$F86="Umsetzung nicht möglich")), Planungsübersicht!G86," ") -> Fr. Nedić (Klimaschutzbeauftragte) | G14: =IF(AND(Planungsübersicht!$E86>1990,TYPE(Planungsübersicht!$E86)=1,NOT(Planungsübersicht!$F86="Umsetzung nicht möglich")), Planungsübersicht!H86," ") -> 0 | H14: =IF(AND(Planungsübersicht!$E86>1990,TYPE(Planungsübersicht!$E86)=1,NOT(Planungsübersicht!$F86="Umsetzung nicht möglich")), MAX(Planungsübersicht!I86:Z86)," ") -> 575
B15: =IF(AND(Planungsübersicht!$E88>1990,TYPE(Planungsübersicht!$E88)=1,NOT(Planungsübersicht!$F88="Umsetzung nicht möglich")), Planungsübersicht!C88," ") -> W6 | C15: =IF(AND(Planungsübersicht!$E88>1990,TYPE(Planungsübersicht!$E88)=1,NOT(Planungsübersicht!$F88="Umsetzung nicht möglich")), Planungsübersicht!D88," ") -> Nachisolation der Heizkellerventile | D15: =IF(AND(Planungsübersicht!$E88>1990,TYPE(Planungsübersicht!$E88)=1,NOT(Planungsübersicht!$F88="Umsetzung nicht möglich")), Planungsübersicht!E88," ") -> 2010 | E15: =IF(AND(Planungsübersicht!$E88>1990,TYPE(Planungsübersicht!$E88)=1,NOT(Planungsübersicht!$F88="Umsetzung nicht möglich")), Planungsübersicht!F88," ") -> umgesetzt | F15: =IF(AND(Planungsübersicht!$E88>1990,TYPE(Planungsübersicht!$E88)=1,NOT(Planungsübersicht!$F88="Umsetzung nicht möglich")), Planungsübersicht!G88," ") -> Hr. Brüggmann (Hausmeister) | G15: =IF(AND(Planungsübersicht!$E88>1990,TYPE(Planungsübersicht!$E88)=1,NOT(Planungsübersicht!$F88="Umsetzung nicht möglich")), Planungsübersicht!H88," ") -> Hr. Brüggmann (Hausmeister) | H15: =IF(AND(Planungsübersicht!$E88>1990,TYPE(Planungsübersicht!$E88)=1,NOT(Planungsübersicht!$F88="Umsetzung nicht möglich")), MAX(Planungsübersicht!I88:Z88)," ") -> 13800
B16: =IF(AND(Planungsübersicht!$E90>1990,TYPE(Planungsübersicht!$E90)=1,NOT(Planungsübersicht!$F90="Umsetzung nicht möglich")), Planungsübersicht!C90," ") -> W7 | C16: =IF(AND(Planungsübersicht!$E90>1990,TYPE(Planungsübersicht!$E90)=1,NOT(Planungsübersicht!$F90="Umsetzung nicht möglich")), Planungsübersicht!D90," ") -> Heiztechnische Trennung der Gebäude | D16: =IF(AND(Planungsübersicht!$E90>1990,TYPE(Planungsübersicht!$E90)=1,NOT(Planungsübersicht!$F90="Umsetzung nicht möglich")), Planungsübersicht!E90," ") -> 2010 | E16: =IF(AND(Planungsübersicht!$E90>1990,TYPE(Planungsübersicht!$E90)=1,NOT(Planungsübersicht!$F90="Umsetzung nicht möglich")), Planungsübersicht!F90," ") -> umgesetzt | F16: =IF(AND(Planungsübersicht!$E90>1990,TYPE(Planungsübersicht!$E90)=1,NOT(Planungsübersicht!$F90="Umsetzung nicht möglich")), Planungsübersicht!G90," ") -> Hr. Brüggmann (Hausmeister) | G16: =IF(AND(Planungsübersicht!$E90>1990,TYPE(Planungsübersicht!$E90)=1,NOT(Planungsübersicht!$F90="Umsetzung nicht möglich")), Planungsübersicht!H90," ") -> Hr. Brüggmann (Hausmeister) | H16: =IF(AND(Planungsübersicht!$E90>1990,TYPE(Planungsübersicht!$E90)=1,NOT(Planungsübersicht!$F90="Umsetzung nicht möglich")), MAX(Planungsübersicht!I90:Z90)," ") -> 16100
B17: =IF(AND(Planungsübersicht!$E134>1990,TYPE(Planungsübersicht!$E134)=1,NOT(Planungsübersicht!$F134="Umsetzung nicht möglich")), Planungsübersicht!C134," ") -> S2 | C17: =IF(AND(Planungsübersicht!$E134>1990,TYPE(Planungsübersicht!$E134)=1,NOT(Planungsübersicht!$F134="Umsetzung nicht möglich")), Planungsübersicht!D134," ") -> Verschattung der PVA beseitigen | D17: =IF(AND(Planungsübersicht!$E134>1990,TYPE(Planungsübersicht!$E134)=1,NOT(Planungsübersicht!$F134="Umsetzung nicht möglich")), Planungsübersicht!E134," ") -> 2010 | E17: =IF(AND(Planungsübersicht!$E134>1990,TYPE(Planungsübersicht!$E134)=1,NOT(Planungsübersicht!$F134="Umsetzung nicht möglich")), Planungsübersicht!F134," ") -> 0 | F17: =IF(AND(Planungsübersicht!$E134>1990,TYPE(Planungsübersicht!$E134)=1,NOT(Planungsübersicht!$F134="Umsetzung nicht möglich")), Planungsübersicht!G134," ") -> 0 | G17: =IF(AND(Planungsübersicht!$E134>1990,TYPE(Planungsübersicht!$E134)=1,NOT(Planungsübersicht!$F134="Umsetzung nicht möglich")), Planungsübersicht!H134," ") -> 0 | H17: =IF(AND(Planungsübersicht!$E134>1990,TYPE(Planungsübersicht!$E134)=1,NOT(Planungsübersicht!$F134="Umsetzung nicht möglich")), MAX(Planungsübersicht!I134:Z134)," ") -> 122
B18: =IF(AND(Planungsübersicht!$E136>1990,TYPE(Planungsübersicht!$E136)=1,NOT(Planungsübersicht!$F136="Umsetzung nicht möglich")), Planungsübersicht!C136," ") -> S3 | C18: =IF(AND(Planungsübersicht!$E136>1990,TYPE(Planungsübersicht!$E136)=1,NOT(Planungsübersicht!$F136="Umsetzung nicht möglich")), Planungsübersicht!D136," ") -> Neue Photovoltaik | D18: =IF(AND(Planungsübersicht!$E136>1990,TYPE(Planungsübersicht!$E136)=1,NOT(Planungsübersicht!$F136="Umsetzung nicht möglich")), Planungsübersicht!E136," ") -> 2010 | E18: =IF(AND(Planungsübersicht!$E136>1990,TYPE(Planungsübersicht!$E136)=1,NOT(Planungsübersicht!$F136="Umsetzung nicht möglich")), Planungsübersicht!F136," ") -> umgesetzt | F18: =IF(AND(Planungsübersicht!$E136>1990,TYPE(Planungsübersicht!$E136)=1,NOT(Planungsübersicht!$F136="Umsetzung nicht möglich")), Planungsübersicht!G136," ") -> Hr. Brüggmann (Hausmeister) | G18: =IF(AND(Planungsübersicht!$E136>1990,TYPE(Planungsübersicht!$E136)=1,NOT(Planungsübersicht!$F136="Umsetzung nicht möglich")), Planungsübersicht!H136," ") -> Schau- und Auswertmöglichkeit für Physik/Naturwissenschaftskurse | H18: =IF(AND(Planungsübersicht!$E136>1990,TYPE(Planungsübersicht!$E136)=1,NOT(Planungsübersicht!$F136="Umsetzung nicht möglich")), MAX(Planungsübersicht!I136:Z136)," ") -> 4700
B19: =IF(AND(Planungsübersicht!$E142>1990,TYPE(Planungsübersicht!$E142)=1,NOT(Planungsübersicht!$F142="Umsetzung nicht möglich")), Planungsübersicht!C142," ") -> S6 | C19: =IF(AND(Planungsübersicht!$E142>1990,TYPE(Planungsübersicht!$E142)=1,NOT(Planungsübersicht!$F142="Umsetzung nicht möglich")), Planungsübersicht!D142," ") -> Effizienzsteigerung | D19: =IF(AND(Planungsübersicht!$E142>1990,TYPE(Planungsübersicht!$E142)=1,NOT(Planungsübersicht!$F142="Umsetzung nicht möglich")), Planungsübersicht!E142," ") -> 2010 | E19: =IF(AND(Planungsübersicht!$E142>1990,TYPE(Planungsübersicht!$E142)=1,NOT(Planungsübersicht!$F142="Umsetzung nicht möglich")), Planungsübersicht!F142," ") -> umgesetzt | F19: =IF(AND(Planungsübersicht!$E142>1990,TYPE(Planungsübersicht!$E142)=1,NOT(Planungsübersicht!$F142="Umsetzung nicht möglich")), Planungsübersicht!G142," ") -> Hr. Brüggmann (Hausmeister) | G19: =IF(AND(Planungsübersicht!$E142>1990,TYPE(Planungsübersicht!$E142)=1,NOT(Planungsübersicht!$F142="Umsetzung nicht möglich")), Planungsübersicht!H142," ") -> 0 | H19: =IF(AND(Planungsübersicht!$E142>1990,TYPE(Planungsübersicht!$E142)=1,NOT(Planungsübersicht!$F142="Umsetzung nicht möglich")), MAX(Planungsübersicht!I142:Z142)," ") -> 0
B20: =IF(AND(Planungsübersicht!$E176>1990,TYPE(Planungsübersicht!$E176)=1,NOT(Planungsübersicht!$F176="Umsetzung nicht möglich")), Planungsübersicht!C176," ") -> A1 | C20: =IF(AND(Planungsübersicht!$E176>1990,TYPE(Planungsübersicht!$E176)=1,NOT(Planungsübersicht!$F176="Umsetzung nicht möglich")), Planungsübersicht!D176," ") -> Papier wird getrennt gesammelt | D20: =IF(AND(Planungsübersicht!$E176>1990,TYPE(Planungsübersicht!$E176)=1,NOT(Planungsübersicht!$F176="Umsetzung nicht möglich")), Planungsübersicht!E176," ") -> 2010 | E20: =IF(AND(Planungsübersicht!$E176>1990,TYPE(Planungsübersicht!$E176)=1,NOT(Planungsübersicht!$F176="Umsetzung nicht möglich")), Planungsübersicht!F176," ") -> wird laufend umgesetzt | F20: =IF(AND(Planungsübersicht!$E176>1990,TYPE(Planungsübersicht!$E176)=1,NOT(Planungsübersicht!$F176="Umsetzung nicht möglich")), Planungsübersicht!G176," ") -> Hr. Brüggmann (Hausmeister) | G20: =IF(AND(Planungsübersicht!$E176>1990,TYPE(Planungsübersicht!$E176)=1,NOT(Planungsübersicht!$F176="Umsetzung nicht möglich")), Planungsübersicht!H176," ") -> alle, WasteWatcher | H20: =IF(AND(Planungsübersicht!$E176>1990,TYPE(Planungsübersicht!$E176)=1,NOT(Planungsübersicht!$F176="Umsetzung nicht möglich")), MAX(Planungsübersicht!I176:Z176)," ") -> 6200
B21: =IF(AND(Planungsübersicht!$E178>1990,TYPE(Planungsübersicht!$E178)=1,NOT(Planungsübersicht!$F178="Umsetzung nicht möglich")), Planungsübersicht!C178," ") -> A2 | C21: =IF(AND(Planungsübersicht!$E178>1990,TYPE(Planungsübersicht!$E178)=1,NOT(Planungsübersicht!$F178="Umsetzung nicht möglich")), Planungsübersicht!D178," ") -> WasteWatcherInnen werden ausgebildet | D21: =IF(AND(Planungsübersicht!$E178>1990,TYPE(Planungsübersicht!$E178)=1,NOT(Planungsübersicht!$F178="Umsetzung nicht möglich")), Planungsübersicht!E178," ") -> 2010 | E21: =IF(AND(Planungsübersicht!$E178>1990,TYPE(Planungsübersicht!$E178)=1,NOT(Planungsübersicht!$F178="Umsetzung nicht möglich")), Planungsübersicht!F178," ") -> wird laufend umgesetzt | F21: =IF(AND(Planungsübersicht!$E178>1990,TYPE(Planungsübersicht!$E178)=1,NOT(Planungsübersicht!$F178="Umsetzung nicht möglich")), Planungsübersicht!G178," ") -> Fr. Wolgast (WasteWatcher Betreuerin) | G21: =IF(AND(Planungsübersicht!$E178>1990,TYPE(Planungsübersicht!$E178)=1,NOT(Planungsübersicht!$F178="Umsetzung nicht möglich")), Planungsübersicht!H178," ") -> 2 SchülerInnen je Klasse | H21: =IF(AND(Planungsübersicht!$E178>1990,TYPE(Planungsübersicht!$E178)=1,NOT(Planungsübersicht!$F178="Umsetzung nicht möglich")), MAX(Planungsübersicht!I178:Z178)," ") -> 0
B22: =IF(AND(Planungsübersicht!$E184>1990,TYPE(Planungsübersicht!$E184)=1,NOT(Planungsübersicht!$F184="Umsetzung nicht möglich")), Planungsübersicht!C184," ") -> A5 | C22: =IF(AND(Planungsübersicht!$E184>1990,TYPE(Planungsübersicht!$E184)=1,NOT(Planungsübersicht!$F184="Umsetzung nicht möglich")), Planungsübersicht!D184," ") -> Battariesammelstation | D22: =IF(AND(Planungsübersicht!$E184>1990,TYPE(Planungsübersicht!$E184)=1,NOT(Planungsübersicht!$F184="Umsetzung nicht möglich")), Planungsübersicht!E184," ") -> 2010 | E22: =IF(AND(Planungsübersicht!$E184>1990,TYPE(Planungsübersicht!$E184)=1,NOT(Planungsübersicht!$F184="Umsetzung nicht möglich")), Planungsübersicht!F184," ") -> wird laufend umgesetzt | F22: =IF(AND(Planungsübersicht!$E184>1990,TYPE(Planungsübersicht!$E184)=1,NOT(Planungsübersicht!$F184="Umsetzung nicht möglich")), Planungsübersicht!G184," ") -> Fr. Nedić (Klimaschutzbeauftragte), Hr. Loy (Physiksammlungsleitung) | G22: =IF(AND(Planungsübersicht!$E184>1990,TYPE(Planungsübersicht!$E184)=1,NOT(Planungsübersicht!$F184="Umsetzung nicht möglich")), Planungsübersicht!H184," ") -> alle | H22: =IF(AND(Planungsübersicht!$E184>1990,TYPE(Planungsübersicht!$E184)=1,NOT(Planungsübersicht!$F184="Umsetzung nicht möglich")), MAX(Planungsübersicht!I184:Z184)," ") -> 0
B23: =IF(AND(Planungsübersicht!$E34>1990,TYPE(Planungsübersicht!$E34)=1,NOT(Planungsübersicht!$F34="Umsetzung nicht möglich")), Planungsübersicht!C34," ") -> Ü4 | C23: =IF(AND(Planungsübersicht!$E34>1990,TYPE(Planungsübersicht!$E34)=1,NOT(Planungsübersicht!$F34="Umsetzung nicht möglich")), Planungsübersicht!D34," ") -> Thema "Klimaschutz" im Schulcurriculum PGW | D23: =IF(AND(Planungsübersicht!$E34>1990,TYPE(Planungsübersicht!$E34)=1,NOT(Planungsübersicht!$F34="Umsetzung nicht möglich")), Planungsübersicht!E34," ") -> 2011 | E23: =IF(AND(Planungsübersicht!$E34>1990,TYPE(Planungsübersicht!$E34)=1,NOT(Planungsübersicht!$F34="Umsetzung nicht möglich")), Planungsübersicht!F34," ") -> umgesetzt | F23: =IF(AND(Planungsübersicht!$E34>1990,TYPE(Planungsübersicht!$E34)=1,NOT(Planungsübersicht!$F34="Umsetzung nicht möglich")), Planungsübersicht!G34," ") -> Fr. Langjahr (PGW Fachleitung) | G23: =IF(AND(Planungsübersicht!$E34>1990,TYPE(Planungsübersicht!$E34)=1,NOT(Planungsübersicht!$F34="Umsetzung nicht möglich")), Planungsübersicht!H34," ") -> Schüler/-innen Klassenstufe 8/9/10 und SekII | H23: =IF(AND(Planungsübersicht!$E34>1990,TYPE(Planungsübersicht!$E34)=1,NOT(Planungsübersicht!$F34="Umsetzung nicht möglich")), MAX(Planungsübersicht!I34:Z34)," ") -> 0
B24: =IF(AND(Planungsübersicht!$E36>1990,TYPE(Planungsübersicht!$E36)=1,NOT(Planungsübersicht!$F36="Umsetzung nicht möglich")), Planungsübersicht!C36," ") -> Ü5 | C24: =IF(AND(Planungsübersicht!$E36>1990,TYPE(Planungsübersicht!$E36)=1,NOT(Planungsübersicht!$F36="Umsetzung nicht möglich")), Planungsübersicht!D36," ") -> Thema "Klimaschutz" im Schulcurriculum Bio | D24: =IF(AND(Planungsübersicht!$E36>1990,TYPE(Planungsübersicht!$E36)=1,NOT(Planungsübersicht!$F36="Umsetzung nicht möglich")), Planungsübersicht!E36," ") -> 2011 | E24: =IF(AND(Planungsübersicht!$E36>1990,TYPE(Planungsübersicht!$E36)=1,NOT(Planungsübersicht!$F36="Umsetzung nicht möglich")), Planungsübersicht!F36," ") -> umgesetzt | F24: =IF(AND(Planungsübersicht!$E36>1990,TYPE(Planungsübersicht!$E36)=1,NOT(Planungsübersicht!$F36="Umsetzung nicht möglich")), Planungsübersicht!G36," ") -> Hr. Bock (Bio Fachleitung) | G24: =IF(AND(Planungsübersicht!$E36>1990,TYPE(Planungsübersicht!$E36)=1,NOT(Planungsübersicht!$F36="Umsetzung nicht möglich")), Planungsübersicht!H36," ") -> Schüler/-innen Klassenstufe 9 | H24: =IF(AND(Planungsübersicht!$E36>1990,TYPE(Planungsübersicht!$E36)=1,NOT(Planungsübersicht!$F36="Umsetzung nicht möglich")), MAX(Planungsübersicht!I36:Z36)," ") -> 0
B25: =IF(AND(Planungsübersicht!$E38>1990,TYPE(Planungsübersicht!$E38)=1,NOT(Planungsübersicht!$F38="Umsetzung nicht möglich")), Planungsübersicht!C38," ") -> Ü6 | C25: =IF(AND(Planungsübersicht!$E38>1990,TYPE(Planungsübersicht!$E38)=1,NOT(Planungsübersicht!$F38="Umsetzung nicht möglich")), Planungsübersicht!D38," ") -> Thema "Ressourcen" im Schulcurriculum PGW | D25: =IF(AND(Planungsübersicht!$E38>1990,TYPE(Planungsübersicht!$E38)=1,NOT(Planungsübersicht!$F38="Umsetzung nicht möglich")), Planungsübersicht!E38," ") -> 2011 | E25: =IF(AND(Planungsübersicht!$E38>1990,TYPE(Planungsübersicht!$E38)=1,NOT(Planungsübersicht!$F38="Umsetzung nicht möglich")), Planungsübersicht!F38," ") -> umgesetzt | F25: =IF(AND(Planungsübersicht!$E38>1990,TYPE(Planungsübersicht!$E38)=1,NOT(Planungsübersicht!$F38="Umsetzung nicht möglich")), Planungsübersicht!G38," ") -> Fr. Langjahr (PGW Fachleitung) | G25: =IF(AND(Planungsübersicht!$E38>1990,TYPE(Planungsübersicht!$E38)=1,NOT(Planungsübersicht!$F38="Umsetzung nicht möglich")), Planungsübersicht!H38," ") -> Schüler/-innen Klassenstufe 10 | H25: =IF(AND(Planungsübersicht!$E38>1990,TYPE(Planungsübersicht!$E38)=1,NOT(Planungsübersicht!$F38="Umsetzung nicht möglich")), MAX(Planungsübersicht!I38:Z38)," ") -> 0
B26: =IF(AND(Planungsübersicht!$E40>1990,TYPE(Planungsübersicht!$E40)=1,NOT(Planungsübersicht!$F40="Umsetzung nicht möglich")), Planungsübersicht!C40," ") -> Ü7 | C26: =IF(AND(Planungsübersicht!$E40>1990,TYPE(Planungsübersicht!$E40)=1,NOT(Planungsübersicht!$F40="Umsetzung nicht möglich")), Planungsübersicht!D40," ") -> Thema "Nachhaltigkeit, Globalisierung, Energiewende" im Schulcurriculum PGW | D26: =IF(AND(Planungsübersicht!$E40>1990,TYPE(Planungsübersicht!$E40)=1,NOT(Planungsübersicht!$F40="Umsetzung nicht möglich")), Planungsübersicht!E40," ") -> 2011 | E26: =IF(AND(Planungsübersicht!$E40>1990,TYPE(Planungsübersicht!$E40)=1,NOT(Planungsübersicht!$F40="Umsetzung nicht möglich")), Planungsübersicht!F40," ") -> umgesetzt | F26: =IF(AND(Planungsübersicht!$E40>1990,TYPE(Planungsübersicht!$E40)=1,NOT(Planungsübersicht!$F40="Umsetzung nicht möglich")), Planungsübersicht!G40," ") -> Fr. Langjahr (PGW Fachleitung) | G26: =IF(AND(Planungsübersicht!$E40>1990,TYPE(Planungsübersicht!$E40)=1,NOT(Planungsübersicht!$F40="Umsetzung nicht möglich")), Planungsübersicht!H40," ") -> Schüler/-innen Klassenstufe Oberstufe | H26: =IF(AND(Planungsübersicht!$E40>1990,TYPE(Planungsübersicht!$E40)=1,NOT(Planungsübersicht!$F40="Umsetzung nicht möglich")), MAX(Planungsübersicht!I40:Z40)," ") -> 0
B27: =IF(AND(Planungsübersicht!$E138>1990,TYPE(Planungsübersicht!$E138)=1,NOT(Planungsübersicht!$F138="Umsetzung nicht möglich")), Planungsübersicht!C138," ") -> S4 | C27: =IF(AND(Planungsübersicht!$E138>1990,TYPE(Planungsübersicht!$E138)=1,NOT(Planungsübersicht!$F138="Umsetzung nicht möglich")), Planungsübersicht!D138," ") -> Neue Photovoltaik | D27: =IF(AND(Planungsübersicht!$E138>1990,TYPE(Planungsübersicht!$E138)=1,NOT(Planungsübersicht!$F138="Umsetzung nicht möglich")), Planungsübersicht!E138," ") -> 2011 | E27: =IF(AND(Planungsübersicht!$E138>1990,TYPE(Planungsübersicht!$E138)=1,NOT(Planungsübersicht!$F138="Umsetzung nicht möglich")), Planungsübersicht!F138," ") -> umgesetzt | F27: =IF(AND(Planungsübersicht!$E138>1990,TYPE(Planungsübersicht!$E138)=1,NOT(Planungsübersicht!$F138="Umsetzung nicht möglich")), Planungsübersicht!G138," ") -> Hr. Brüggmann (Hausmeister) | G27: =IF(AND(Planungsübersicht!$E138>1990,TYPE(Planungsübersicht!$E138)=1,NOT(Planungsübersicht!$F138="Umsetzung nicht möglich")), Planungsübersicht!H138," ") -> Schau- und Auswertmöglichkeit für Physik/Naturwissenschaftskurse | H27: =IF(AND(Planungsübersicht!$E138>1990,TYPE(Planungsübersicht!$E138)=1,NOT(Planungsübersicht!$F138="Umsetzung nicht möglich")), MAX(Planungsübersicht!I138:Z138)," ") -> 1000
B28: =IF(AND(Planungsübersicht!$E140>1990,TYPE(Planungsübersicht!$E140)=1,NOT(Planungsübersicht!$F140="Umsetzung nicht möglich")), Planungsübersicht!C140," ") -> S5 | C28: =IF(AND(Planungsübersicht!$E140>1990,TYPE(Planungsübersicht!$E140)=1,NOT(Planungsübersicht!$F140="Umsetzung nicht möglich")), Planungsübersicht!D140," ") -> WasteWatcher achten auch auf unnötige Stromverschwendung | D28: =IF(AND(Planungsübersicht!$E140>1990,TYPE(Planungsübersicht!$E140)=1,NOT(Planungsübersicht!$F140="Umsetzung nicht möglich")), Planungsübersicht!E140," ") -> 2011 | E28: =IF(AND(Planungsübersicht!$E140>1990,TYPE(Planungsübersicht!$E140)=1,NOT(Planungsübersicht!$F140="Umsetzung nicht möglich")), Planungsübersicht!F140," ") -> wird laufend umgesetzt | F28: =IF(AND(Planungsübersicht!$E140>1990,TYPE(Planungsübersicht!$E140)=1,NOT(Planungsübersicht!$F140="Umsetzung nicht möglich")), Planungsübersicht!G140," ") -> Fr. Wolgast (WasteWatcher Betreuerin) | G28: =IF(AND(Planungsübersicht!$E140>1990,TYPE(Planungsübersicht!$E140)=1,NOT(Planungsübersicht!$F140="Umsetzung nicht möglich")), Planungsübersicht!H140," ") -> WasteWatcher, alle | H28: =IF(AND(Planungsübersicht!$E140>1990,TYPE(Planungsübersicht!$E140)=1,NOT(Planungsübersicht!$F140="Umsetzung nicht möglich")), MAX(Planungsübersicht!I140:Z140)," ") -> 500
B29: =IF(AND(Planungsübersicht!$E146>1990,TYPE(Planungsübersicht!$E146)=1,NOT(Planungsübersicht!$F146="Umsetzung nicht möglich")), Planungsübersicht!C146," ") -> S8 | C29: =IF(AND(Planungsübersicht!$E146>1990,TYPE(Planungsübersicht!$E146)=1,NOT(Planungsübersicht!$F146="Umsetzung nicht möglich")), Planungsübersicht!D146," ") -> Thema "nachhaltiges Wirtschaften-Nutzung der PVA" in das Schulcurriculum | D29: =IF(AND(Planungsübersicht!$E146>1990,TYPE(Planungsübersicht!$E146)=1,NOT(Planungsübersicht!$F146="Umsetzung nicht möglich")), Planungsübersicht!E146," ") -> 2011 | E29: =IF(AND(Planungsübersicht!$E146>1990,TYPE(Planungsübersicht!$E146)=1,NOT(Planungsübersicht!$F146="Umsetzung nicht möglich")), Planungsübersicht!F146," ") -> 0 | F29: =IF(AND(Planungsübersicht!$E146>1990,TYPE(Planungsübersicht!$E146)=1,NOT(Planungsübersicht!$F146="Umsetzung nicht möglich")), Planungsübersicht!G146," ") -> Hr. Jürgens (Geographie Fachleitung) | G29: =IF(AND(Planungsübersicht!$E146>1990,TYPE(Planungsübersicht!$E146)=1,NOT(Planungsübersicht!$F146="Umsetzung nicht möglich")), Planungsübersicht!H146," ") -> Schüler/-innen Klassenstufe 7 bis 10 | H29: =IF(AND(Planungsübersicht!$E146>1990,TYPE(Planungsübersicht!$E146)=1,NOT(Planungsübersicht!$F146="Umsetzung nicht möglich")), MAX(Planungsübersicht!I146:Z146)," ") -> 0
B30: =IF(AND(Planungsübersicht!$E226>1990,TYPE(Planungsübersicht!$E226)=1,NOT(Planungsübersicht!$F226="Umsetzung nicht möglich")), Planungsübersicht!C226," ") -> B3 | C30: =IF(AND(Planungsübersicht!$E226>1990,TYPE(Planungsübersicht!$E226)=1,NOT(Planungsübersicht!$F226="Umsetzung nicht möglich")), Planungsübersicht!D226," ") -> Umweltfreundliche Schulmaterialien (Willkommenstüte) | D30: =IF(AND(Planungsübersicht!$E226>1990,TYPE(Planungsübersicht!$E226)=1,NOT(Planungsübersicht!$F226="Umsetzung nicht möglich")), Planungsübersicht!E226," ") -> 2011 | E30: =IF(AND(Planungsübersicht!$E226>1990,TYPE(Planungsübersicht!$E226)=1,NOT(Planungsübersicht!$F226="Umsetzung nicht möglich")), Planungsübersicht!F226," ") -> wird laufend umgesetzt | F30: =IF(AND(Planungsübersicht!$E226>1990,TYPE(Planungsübersicht!$E226)=1,NOT(Planungsübersicht!$F226="Umsetzung nicht möglich")), Planungsübersicht!G226," ") -> Fr. Wolgast (Umweltgruppe) | G30: =IF(AND(Planungsübersicht!$E226>1990,TYPE(Planungsübersicht!$E226)=1,NOT(Planungsübersicht!$F226="Umsetzung nicht möglich")), Planungsübersicht!H226," ") -> Fr. Wermann, Schüler der 5. Klassen | H30: =IF(AND(Planungsübersicht!$E226>1990,TYPE(Planungsübersicht!$E226)=1,NOT(Planungsübersicht!$F226="Umsetzung nicht möglich")), MAX(Planungsübersicht!I226:Z226)," ") -> 100
B31: =IF(AND(Planungsübersicht!$E78>1990,TYPE(Planungsübersicht!$E78)=1,NOT(Planungsübersicht!$F78="Umsetzung nicht möglich")), Planungsübersicht!C78," ") -> W1 | C31: =IF(AND(Planungsübersicht!$E78>1990,TYPE(Planungsübersicht!$E78)=1,NOT(Planungsübersicht!$F78="Umsetzung nicht möglich")), Planungsübersicht!D78," ") -> sofortige Reparatur defekter Fenster, defekter Isolation | D31: =IF(AND(Planungsübersicht!$E78>1990,TYPE(Planungsübersicht!$E78)=1,NOT(Planungsübersicht!$F78="Umsetzung nicht möglich")), Planungsübersicht!E78," ") -> 2012 | E31: =IF(AND(Planungsübersicht!$E78>1990,TYPE(Planungsübersicht!$E78)=1,NOT(Planungsübersicht!$F78="Umsetzung nicht möglich")), Planungsübersicht!F78," ") -> wird laufend umgesetzt | F31: =IF(AND(Planungsübersicht!$E78>1990,TYPE(Planungsübersicht!$E78)=1,NOT(Planungsübersicht!$F78="Umsetzung nicht möglich")), Planungsübersicht!G78," ") -> Hr. Brüggmann (Hausmeister) | G31: =IF(AND(Planungsübersicht!$E78>1990,TYPE(Planungsübersicht!$E78)=1,NOT(Planungsübersicht!$F78="Umsetzung nicht möglich")), Planungsübersicht!H78," ") -> Schüler melden Schäden unverzüglich | H31: =IF(AND(Planungsübersicht!$E78>1990,TYPE(Planungsübersicht!$E78)=1,NOT(Planungsübersicht!$F78="Umsetzung nicht möglich")), MAX(Planungsübersicht!I78:Z78)," ") -> 4000
B32: =IF(AND(Planungsübersicht!$E144>1990,TYPE(Planungsübersicht!$E144)=1,NOT(Planungsübersicht!$F144="Umsetzung nicht möglich")), Planungsübersicht!C144," ") -> S7 | C32: =IF(AND(Planungsübersicht!$E144>1990,TYPE(Planungsübersicht!$E144)=1,NOT(Planungsübersicht!$F144="Umsetzung nicht möglich")), Planungsübersicht!D144," ") -> "Licht-aus"-Plakate werden aufgehängt | D32: =IF(AND(Planungsübersicht!$E144>1990,TYPE(Planungsübersicht!$E144)=1,NOT(Planungsübersicht!$F144="Umsetzung nicht möglich")), Planungsübersicht!E144," ") -> 2012 | E32: =IF(AND(Planungsübersicht!$E144>1990,TYPE(Planungsübersicht!$E144)=1,NOT(Planungsübersicht!$F144="Umsetzung nicht möglich")), Planungsübersicht!F144," ") -> wird laufend umgesetzt | F32: =IF(AND(Planungsübersicht!$E144>1990,TYPE(Planungsübersicht!$E144)=1,NOT(Planungsübersicht!$F144="Umsetzung nicht möglich")), Planungsübersicht!G144," ") -> Fr. Wolgast (WasteWatcher Betreuerin) | G32: =IF(AND(Planungsübersicht!$E144>1990,TYPE(Planungsübersicht!$E144)=1,NOT(Planungsübersicht!$F144="Umsetzung nicht möglich")), Planungsübersicht!H144," ") -> WasteWatcher | H32: =IF(AND(Planungsübersicht!$E144>1990,TYPE(Planungsübersicht!$E144)=1,NOT(Planungsübersicht!$F144="Umsetzung nicht möglich")), MAX(Planungsübersicht!I144:Z144)," ") -> 0
B33: =IF(AND(Planungsübersicht!$E154>1990,TYPE(Planungsübersicht!$E154)=1,NOT(Planungsübersicht!$F154="Umsetzung nicht möglich")), Planungsübersicht!C154," ") -> S12 | C33: =IF(AND(Planungsübersicht!$E154>1990,TYPE(Planungsübersicht!$E154)=1,NOT(Planungsübersicht!$F154="Umsetzung nicht möglich")), Planungsübersicht!D154," ") -> keine Stand By Geräte | D33: =IF(AND(Planungsübersicht!$E154>1990,TYPE(Planungsübersicht!$E154)=1,NOT(Planungsübersicht!$F154="Umsetzung nicht möglich")), Planungsübersicht!E154," ") -> 2012 | E33: =IF(AND(Planungsübersicht!$E154>1990,TYPE(Planungsübersicht!$E154)=1,NOT(Planungsübersicht!$F154="Umsetzung nicht möglich")), Planungsübersicht!F154," ") -> wird laufend umgesetzt | F33: =IF(AND(Planungsübersicht!$E154>1990,TYPE(Planungsübersicht!$E154)=1,NOT(Planungsübersicht!$F154="Umsetzung nicht möglich")), Planungsübersicht!G154," ") -> Fr. Nedić (Klimaschutzbeauftragte) | G33: =IF(AND(Planungsübersicht!$E154>1990,TYPE(Planungsübersicht!$E154)=1,NOT(Planungsübersicht!$F154="Umsetzung nicht möglich")), Planungsübersicht!H154," ") -> 0 | H33: =IF(AND(Planungsübersicht!$E154>1990,TYPE(Planungsübersicht!$E154)=1,NOT(Planungsübersicht!$F154="Umsetzung nicht möglich")), MAX(Planungsübersicht!I154:Z154)," ") -> 0
B34: =IF(AND(Planungsübersicht!$E180>1990,TYPE(Planungsübersicht!$E180)=1,NOT(Planungsübersicht!$F180="Umsetzung nicht möglich")), Planungsübersicht!C180," ") -> A3 | C34: =IF(AND(Planungsübersicht!$E180>1990,TYPE(Planungsübersicht!$E180)=1,NOT(Planungsübersicht!$F180="Umsetzung nicht möglich")), Planungsübersicht!D180," ") -> „So trennt man richtig“-Plakate in allen Klassenräumen | D34: =IF(AND(Planungsübersicht!$E180>1990,TYPE(Planungsübersicht!$E180)=1,NOT(Planungsübersicht!$F180="Umsetzung nicht möglich")), Planungsübersicht!E180," ") -> 2012 | E34: =IF(AND(Planungsübersicht!$E180>1990,TYPE(Planungsübersicht!$E180)=1,NOT(Planungsübersicht!$F180="Umsetzung nicht möglich")), Planungsübersicht!F180," ") -> wird laufend umgesetzt | F34: =IF(AND(Planungsübersicht!$E180>1990,TYPE(Planungsübersicht!$E180)=1,NOT(Planungsübersicht!$F180="Umsetzung nicht möglich")), Planungsübersicht!G180," ") -> Fr. Wolgast (WasteWatcher Betreuerin) | G34: =IF(AND(Planungsübersicht!$E180>1990,TYPE(Planungsübersicht!$E180)=1,NOT(Planungsübersicht!$F180="Umsetzung nicht möglich")), Planungsübersicht!H180," ") -> WasteWatcher | H34: =IF(AND(Planungsübersicht!$E180>1990,TYPE(Planungsübersicht!$E180)=1,NOT(Planungsübersicht!$F180="Umsetzung nicht möglich")), MAX(Planungsübersicht!I180:Z180)," ") -> 0
B35: =IF(AND(Planungsübersicht!$E182>1990,TYPE(Planungsübersicht!$E182)=1,NOT(Planungsübersicht!$F182="Umsetzung nicht möglich")), Planungsübersicht!C182," ") -> A4 | C35: =IF(AND(Planungsübersicht!$E182>1990,TYPE(Planungsübersicht!$E182)=1,NOT(Planungsübersicht!$F182="Umsetzung nicht möglich")), Planungsübersicht!D182," ") -> Korksammelstation | D35: =IF(AND(Planungsübersicht!$E182>1990,TYPE(Planungsübersicht!$E182)=1,NOT(Planungsübersicht!$F182="Umsetzung nicht möglich")), Planungsübersicht!E182," ") -> 2012 | E35: =IF(AND(Planungsübersicht!$E182>1990,TYPE(Planungsübersicht!$E182)=1,NOT(Planungsübersicht!$F182="Umsetzung nicht möglich")), Planungsübersicht!F182," ") -> wird laufend umgesetzt | F35: =IF(AND(Planungsübersicht!$E182>1990,TYPE(Planungsübersicht!$E182)=1,NOT(Planungsübersicht!$F182="Umsetzung nicht möglich")), Planungsübersicht!G182," ") -> Fr. Nedić (Klimaschutzbeauftragte) | G35: =IF(AND(Planungsübersicht!$E182>1990,TYPE(Planungsübersicht!$E182)=1,NOT(Planungsübersicht!$F182="Umsetzung nicht möglich")), Planungsübersicht!H182," ") -> alle | H35: =IF(AND(Planungsübersicht!$E182>1990,TYPE(Planungsübersicht!$E182)=1,NOT(Planungsübersicht!$F182="Umsetzung nicht möglich")), MAX(Planungsübersicht!I182:Z182)," ") -> 0
B36: =IF(AND(Planungsübersicht!$E222>1990,TYPE(Planungsübersicht!$E222)=1,NOT(Planungsübersicht!$F222="Umsetzung nicht möglich")), Planungsübersicht!C222," ") -> B1 | C36: =IF(AND(Planungsübersicht!$E222>1990,TYPE(Planungsübersicht!$E222)=1,NOT(Planungsübersicht!$F222="Umsetzung nicht möglich")), Planungsübersicht!D222," ") -> Bestellungen für Kopierpapier ändern | D36: =IF(AND(Planungsübersicht!$E222>1990,TYPE(Planungsübersicht!$E222)=1,NOT(Planungsübersicht!$F222="Umsetzung nicht möglich")), Planungsübersicht!E222," ") -> 2012 | E36: =IF(AND(Planungsübersicht!$E222>1990,TYPE(Planungsübersicht!$E222)=1,NOT(Planungsübersicht!$F222="Umsetzung nicht möglich")), Planungsübersicht!F222," ") -> umgesetzt | F36: =IF(AND(Planungsübersicht!$E222>1990,TYPE(Planungsübersicht!$E222)=1,NOT(Planungsübersicht!$F222="Umsetzung nicht möglich")), Planungsübersicht!G222," ") -> Hr. Brüggmann (Hausmeister) | G36: =IF(AND(Planungsübersicht!$E222>1990,TYPE(Planungsübersicht!$E222)=1,NOT(Planungsübersicht!$F222="Umsetzung nicht möglich")), Planungsübersicht!H222," ") -> 0 | H36: =IF(AND(Planungsübersicht!$E222>1990,TYPE(Planungsübersicht!$E222)=1,NOT(Planungsübersicht!$F222="Umsetzung nicht möglich")), MAX(Planungsübersicht!I222:Z222)," ") -> 600
B37: =IF(AND(Planungsübersicht!$E104>1990,TYPE(Planungsübersicht!$E104)=1,NOT(Planungsübersicht!$F104="Umsetzung nicht möglich")), Planungsübersicht!C104," ") -> W14 | C37: =IF(AND(Planungsübersicht!$E104>1990,TYPE(Planungsübersicht!$E104)=1,NOT(Planungsübersicht!$F104="Umsetzung nicht möglich")), Planungsübersicht!D104," ") -> Eigene Heizkreise für Zonen unterschiedlichen Wärmebedarfs | D37: =IF(AND(Planungsübersicht!$E104>1990,TYPE(Planungsübersicht!$E104)=1,NOT(Planungsübersicht!$F104="Umsetzung nicht möglich")), Planungsübersicht!E104," ") -> 2013 | E37: =IF(AND(Planungsübersicht!$E104>1990,TYPE(Planungsübersicht!$E104)=1,NOT(Planungsübersicht!$F104="Umsetzung nicht möglich")), Planungsübersicht!F104," ") -> umgesetzt | F37: =IF(AND(Planungsübersicht!$E104>1990,TYPE(Planungsübersicht!$E104)=1,NOT(Planungsübersicht!$F104="Umsetzung nicht möglich")), Planungsübersicht!G104," ") -> Hr. Brüggmann (Hausmeister) | G37: =IF(AND(Planungsübersicht!$E104>1990,TYPE(Planungsübersicht!$E104)=1,NOT(Planungsübersicht!$F104="Umsetzung nicht möglich")), Planungsübersicht!H104," ") -> Hr. Brüggmann (Hausmeister) | H37: =IF(AND(Planungsübersicht!$E104>1990,TYPE(Planungsübersicht!$E104)=1,NOT(Planungsübersicht!$F104="Umsetzung nicht möglich")), MAX(Planungsübersicht!I104:Z104)," ") -> 6164
B38: =IF(AND(Planungsübersicht!$E230>1990,TYPE(Planungsübersicht!$E230)=1,NOT(Planungsübersicht!$F230="Umsetzung nicht möglich")), Planungsübersicht!C230," ") -> B5 | C38: =IF(AND(Planungsübersicht!$E230>1990,TYPE(Planungsübersicht!$E230)=1,NOT(Planungsübersicht!$F230="Umsetzung nicht möglich")), Planungsübersicht!D230," ") -> Verringerung des Papierverbrauchs | D38: =IF(AND(Planungsübersicht!$E230>1990,TYPE(Planungsübersicht!$E230)=1,NOT(Planungsübersicht!$F230="Umsetzung nicht möglich")), Planungsübersicht!E230," ") -> 2013 | E38: =IF(AND(Planungsübersicht!$E230>1990,TYPE(Planungsübersicht!$E230)=1,NOT(Planungsübersicht!$F230="Umsetzung nicht möglich")), Planungsübersicht!F230," ") -> wird laufend umgesetzt | F38: =IF(AND(Planungsübersicht!$E230>1990,TYPE(Planungsübersicht!$E230)=1,NOT(Planungsübersicht!$F230="Umsetzung nicht möglich")), Planungsübersicht!G230," ") -> Fr. Nedić (Klimaschutzbeauftragte) | G38: =IF(AND(Planungsübersicht!$E230>1990,TYPE(Planungsübersicht!$E230)=1,NOT(Planungsübersicht!$F230="Umsetzung nicht möglich")), Planungsübersicht!H230," ") -> Umweltgruppe | H38: =IF(AND(Planungsübersicht!$E230>1990,TYPE(Planungsübersicht!$E230)=1,NOT(Planungsübersicht!$F230="Umsetzung nicht möglich")), MAX(Planungsübersicht!I230:Z230)," ") -> 400
B39: =IF(AND(Planungsübersicht!$E258>1990,TYPE(Planungsübersicht!$E258)=1,NOT(Planungsübersicht!$F258="Umsetzung nicht möglich")), Planungsübersicht!C258," ") -> E1 | C39: =IF(AND(Planungsübersicht!$E258>1990,TYPE(Planungsübersicht!$E258)=1,NOT(Planungsübersicht!$F258="Umsetzung nicht möglich")), Planungsübersicht!D258," ") -> Gesunde Ernährung in der Mittelstufe (FairFood-Dinner) | D39: =IF(AND(Planungsübersicht!$E258>1990,TYPE(Planungsübersicht!$E258)=1,NOT(Planungsübersicht!$F258="Umsetzung nicht möglich")), Planungsübersicht!E258," ") -> 2013 | E39: =IF(AND(Planungsübersicht!$E258>1990,TYPE(Planungsübersicht!$E258)=1,NOT(Planungsübersicht!$F258="Umsetzung nicht möglich")), Planungsübersicht!F258," ") -> wird laufend umgesetzt | F39: =IF(AND(Planungsübersicht!$E258>1990,TYPE(Planungsübersicht!$E258)=1,NOT(Planungsübersicht!$F258="Umsetzung nicht möglich")), Planungsübersicht!G258," ") -> Fr. Nedić (Klimaschutzbeauftragte) | G39: =IF(AND(Planungsübersicht!$E258>1990,TYPE(Planungsübersicht!$E258)=1,NOT(Planungsübersicht!$F258="Umsetzung nicht möglich")), Planungsübersicht!H258," ") -> Klassenlehrer der Klassen 9 und 10 | H39: =IF(AND(Planungsübersicht!$E258>1990,TYPE(Planungsübersicht!$E258)=1,NOT(Planungsübersicht!$F258="Umsetzung nicht möglich")), MAX(Planungsübersicht!I258:Z258)," ") -> 0
B40: =IF(AND(Planungsübersicht!$E48>1990,TYPE(Planungsübersicht!$E48)=1,NOT(Planungsübersicht!$F48="Umsetzung nicht möglich")), Planungsübersicht!C48," ") -> Ü11 | C40: =IF(AND(Planungsübersicht!$E48>1990,TYPE(Planungsübersicht!$E48)=1,NOT(Planungsübersicht!$F48="Umsetzung nicht möglich")), Planungsübersicht!D48," ") -> Umweltthemen in allen Fächern (Umweltcurriculum) | D40: =IF(AND(Planungsübersicht!$E48>1990,TYPE(Planungsübersicht!$E48)=1,NOT(Planungsübersicht!$F48="Umsetzung nicht möglich")), Planungsübersicht!E48," ") -> 2014 | E40: =IF(AND(Planungsübersicht!$E48>1990,TYPE(Planungsübersicht!$E48)=1,NOT(Planungsübersicht!$F48="Umsetzung nicht möglich")), Planungsübersicht!F48," ") -> in Umsetzung (Anfang) | F40: =IF(AND(Planungsübersicht!$E48>1990,TYPE(Planungsübersicht!$E48)=1,NOT(Planungsübersicht!$F48="Umsetzung nicht möglich")), Planungsübersicht!G48," ") -> Fr. Nedić (Klimaschutzbeauftragte) | G40: =IF(AND(Planungsübersicht!$E48>1990,TYPE(Planungsübersicht!$E48)=1,NOT(Planungsübersicht!$F48="Umsetzung nicht möglich")), Planungsübersicht!H48," ") -> alle | H40: =IF(AND(Planungsübersicht!$E48>1990,TYPE(Planungsübersicht!$E48)=1,NOT(Planungsübersicht!$F48="Umsetzung nicht möglich")), MAX(Planungsübersicht!I48:Z48)," ") -> 0
B41: =IF(AND(Planungsübersicht!$E92>1990,TYPE(Planungsübersicht!$E92)=1,NOT(Planungsübersicht!$F92="Umsetzung nicht möglich")), Planungsübersicht!C92," ") -> W8 | C41: =IF(AND(Planungsübersicht!$E92>1990,TYPE(Planungsübersicht!$E92)=1,NOT(Planungsübersicht!$F92="Umsetzung nicht möglich")), Planungsübersicht!D92," ") -> Thema "Effektiver Umgang mit Wärme" in Physik in Klasse 9/10 | D41: =IF(AND(Planungsübersicht!$E92>1990,TYPE(Planungsübersicht!$E92)=1,NOT(Planungsübersicht!$F92="Umsetzung nicht möglich")), Planungsübersicht!E92," ") -> 2014 | E41: =IF(AND(Planungsübersicht!$E92>1990,TYPE(Planungsübersicht!$E92)=1,NOT(Planungsübersicht!$F92="Umsetzung nicht möglich")), Planungsübersicht!F92," ") -> 0 | F41: =IF(AND(Planungsübersicht!$E92>1990,TYPE(Planungsübersicht!$E92)=1,NOT(Planungsübersicht!$F92="Umsetzung nicht möglich")), Planungsübersicht!G92," ") -> Hr. Loy (Physik Fachleitung) | G41: =IF(AND(Planungsübersicht!$E92>1990,TYPE(Planungsübersicht!$E92)=1,NOT(Planungsübersicht!$F92="Umsetzung nicht möglich")), Planungsübersicht!H92," ") -> Schüler der 9./10. Klassen | H41: =IF(AND(Planungsübersicht!$E92>1990,TYPE(Planungsübersicht!$E92)=1,NOT(Planungsübersicht!$F92="Umsetzung nicht möglich")), MAX(Planungsübersicht!I92:Z92)," ") -> 0
B42: =IF(AND(Planungsübersicht!$E148>1990,TYPE(Planungsübersicht!$E148)=1,NOT(Planungsübersicht!$F148="Umsetzung nicht möglich")), Planungsübersicht!C148," ") -> S9 | C42: =IF(AND(Planungsübersicht!$E148>1990,TYPE(Planungsübersicht!$E148)=1,NOT(Planungsübersicht!$F148="Umsetzung nicht möglich")), Planungsübersicht!D148," ") -> Thema "Regenerative Energiesysteme und Klimaschutz" in das Schulcurriculum | D42: =IF(AND(Planungsübersicht!$E148>1990,TYPE(Planungsübersicht!$E148)=1,NOT(Planungsübersicht!$F148="Umsetzung nicht möglich")), Planungsübersicht!E148," ") -> 2014 | E42: =IF(AND(Planungsübersicht!$E148>1990,TYPE(Planungsübersicht!$E148)=1,NOT(Planungsübersicht!$F148="Umsetzung nicht möglich")), Planungsübersicht!F148," ") -> 0 | F42: =IF(AND(Planungsübersicht!$E148>1990,TYPE(Planungsübersicht!$E148)=1,NOT(Planungsübersicht!$F148="Umsetzung nicht möglich")), Planungsübersicht!G148," ") -> Hr. Loy (Physik Fachleitung) | G42: =IF(AND(Planungsübersicht!$E148>1990,TYPE(Planungsübersicht!$E148)=1,NOT(Planungsübersicht!$F148="Umsetzung nicht möglich")), Planungsübersicht!H148," ") -> Schüler/-innen Klassenstufe 10 | H42: =IF(AND(Planungsübersicht!$E148>1990,TYPE(Planungsübersicht!$E148)=1,NOT(Planungsübersicht!$F148="Umsetzung nicht möglich")), MAX(Planungsübersicht!I148:Z148)," ") -> 0
B43: =IF(AND(Planungsübersicht!$E150>1990,TYPE(Planungsübersicht!$E150)=1,NOT(Planungsübersicht!$F150="Umsetzung nicht möglich")), Planungsübersicht!C150," ") -> S10 | C43: =IF(AND(Planungsübersicht!$E150>1990,TYPE(Planungsübersicht!$E150)=1,NOT(Planungsübersicht!$F150="Umsetzung nicht möglich")), Planungsübersicht!D150," ") -> Thema "Strom sparen" im Physik Unterricht in Klasse 7/8 | D43: =IF(AND(Planungsübersicht!$E150>1990,TYPE(Planungsübersicht!$E150)=1,NOT(Planungsübersicht!$F150="Umsetzung nicht möglich")), Planungsübersicht!E150," ") -> 2014 | E43: =IF(AND(Planungsübersicht!$E150>1990,TYPE(Planungsübersicht!$E150)=1,NOT(Planungsübersicht!$F150="Umsetzung nicht möglich")), Planungsübersicht!F150," ") -> wird laufend umgesetzt | F43: =IF(AND(Planungsübersicht!$E150>1990,TYPE(Planungsübersicht!$E150)=1,NOT(Planungsübersicht!$F150="Umsetzung nicht möglich")), Planungsübersicht!G150," ") -> Hr. Loy (Physik Fachleitung) | G43: =IF(AND(Planungsübersicht!$E150>1990,TYPE(Planungsübersicht!$E150)=1,NOT(Planungsübersicht!$F150="Umsetzung nicht möglich")), Planungsübersicht!H150," ") -> Schüler/-innen Klassenstufe 7/8 | H43: =IF(AND(Planungsübersicht!$E150>1990,TYPE(Planungsübersicht!$E150)=1,NOT(Planungsübersicht!$F150="Umsetzung nicht möglich")), MAX(Planungsübersicht!I150:Z150)," ") -> 0
B44: =IF(AND(Planungsübersicht!$E162>1990,TYPE(Planungsübersicht!$E162)=1,NOT(Planungsübersicht!$F162="Umsetzung nicht möglich")), Planungsübersicht!C162," ") -> S16 | C44: =IF(AND(Planungsübersicht!$E162>1990,TYPE(Planungsübersicht!$E162)=1,NOT(Planungsübersicht!$F162="Umsetzung nicht möglich")), Planungsübersicht!D162," ") -> Reinigung der alten Photovoltaikanlage | D44: =IF(AND(Planungsübersicht!$E162>1990,TYPE(Planungsübersicht!$E162)=1,NOT(Planungsübersicht!$F162="Umsetzung nicht möglich")), Planungsübersicht!E162," ") -> 2014 | E44: =IF(AND(Planungsübersicht!$E162>1990,TYPE(Planungsübersicht!$E162)=1,NOT(Planungsübersicht!$F162="Umsetzung nicht möglich")), Planungsübersicht!F162," ") -> umgesetzt | F44: =IF(AND(Planungsübersicht!$E162>1990,TYPE(Planungsübersicht!$E162)=1,NOT(Planungsübersicht!$F162="Umsetzung nicht möglich")), Planungsübersicht!G162," ") -> Fr. Vogel, Fr. Baur (PVA-Beauftragte) | G44: =IF(AND(Planungsübersicht!$E162>1990,TYPE(Planungsübersicht!$E162)=1,NOT(Planungsübersicht!$F162="Umsetzung nicht möglich")), Planungsübersicht!H162," ") -> 0 | H44: =IF(AND(Planungsübersicht!$E162>1990,TYPE(Planungsübersicht!$E162)=1,NOT(Planungsübersicht!$F162="Umsetzung nicht möglich")), MAX(Planungsübersicht!I162:Z162)," ") -> 0
B45: =IF(AND(Planungsübersicht!$E224>1990,TYPE(Planungsübersicht!$E224)=1,NOT(Planungsübersicht!$F224="Umsetzung nicht möglich")), Planungsübersicht!C224," ") -> B2 | C45: =IF(AND(Planungsübersicht!$E224>1990,TYPE(Planungsübersicht!$E224)=1,NOT(Planungsübersicht!$F224="Umsetzung nicht möglich")), Planungsübersicht!D224," ") -> Ausweitung der Aufgaben der Waste Watcher auf Papierbestellung | D45: =IF(AND(Planungsübersicht!$E224>1990,TYPE(Planungsübersicht!$E224)=1,NOT(Planungsübersicht!$F224="Umsetzung nicht möglich")), Planungsübersicht!E224," ") -> 2014 | E45: =IF(AND(Planungsübersicht!$E224>1990,TYPE(Planungsübersicht!$E224)=1,NOT(Planungsübersicht!$F224="Umsetzung nicht möglich")), Planungsübersicht!F224," ") -> bisher nicht umgesetzt | F45: =IF(AND(Planungsübersicht!$E224>1990,TYPE(Planungsübersicht!$E224)=1,NOT(Planungsübersicht!$F224="Umsetzung nicht möglich")), Planungsübersicht!G224," ") -> Fr. Kurzweg (WasteWatcher Betreuerin), Fr. Nedić (Klimaschutzbeauftragte) | G45: =IF(AND(Planungsübersicht!$E224>1990,TYPE(Planungsübersicht!$E224)=1,NOT(Planungsübersicht!$F224="Umsetzung nicht möglich")), Planungsübersicht!H224," ") -> WasteWatcher | H45: =IF(AND(Planungsübersicht!$E224>1990,TYPE(Planungsübersicht!$E224)=1,NOT(Planungsübersicht!$F224="Umsetzung nicht möglich")), MAX(Planungsübersicht!I224:Z224)," ") -> 20
B46: =IF(AND(Planungsübersicht!$E42>1990,TYPE(Planungsübersicht!$E42)=1,NOT(Planungsübersicht!$F42="Umsetzung nicht möglich")), Planungsübersicht!C42," ") -> Ü8 | C46: =IF(AND(Planungsübersicht!$E42>1990,TYPE(Planungsübersicht!$E42)=1,NOT(Planungsübersicht!$F42="Umsetzung nicht möglich")), Planungsübersicht!D42," ") -> UmweltschülerInnen | D46: =IF(AND(Planungsübersicht!$E42>1990,TYPE(Planungsübersicht!$E42)=1,NOT(Planungsübersicht!$F42="Umsetzung nicht möglich")), Planungsübersicht!E42," ") -> 2015 | E46: =IF(AND(Planungsübersicht!$E42>1990,TYPE(Planungsübersicht!$E42)=1,NOT(Planungsübersicht!$F42="Umsetzung nicht möglich")), Planungsübersicht!F42," ") -> wird laufend umgesetzt | F46: =IF(AND(Planungsübersicht!$E42>1990,TYPE(Planungsübersicht!$E42)=1,NOT(Planungsübersicht!$F42="Umsetzung nicht möglich")), Planungsübersicht!G42," ") -> Fr. Nedić (Klimaschutzbeauftragte) | G46: =IF(AND(Planungsübersicht!$E42>1990,TYPE(Planungsübersicht!$E42)=1,NOT(Planungsübersicht!$F42="Umsetzung nicht möglich")), Planungsübersicht!H42," ") -> WasteWatcher | H46: =IF(AND(Planungsübersicht!$E42>1990,TYPE(Planungsübersicht!$E42)=1,NOT(Planungsübersicht!$F42="Umsetzung nicht möglich")), MAX(Planungsübersicht!I42:Z42)," ") -> 0
B47: =IF(AND(Planungsübersicht!$E94>1990,TYPE(Planungsübersicht!$E94)=1,NOT(Planungsübersicht!$F94="Umsetzung nicht möglich")), Planungsübersicht!C94," ") -> W9 | C47: =IF(AND(Planungsübersicht!$E94>1990,TYPE(Planungsübersicht!$E94)=1,NOT(Planungsübersicht!$F94="Umsetzung nicht möglich")), Planungsübersicht!D94," ") -> Nacht- und Wochenendabsenkung prüfen und optimieren | D47: =IF(AND(Planungsübersicht!$E94>1990,TYPE(Planungsübersicht!$E94)=1,NOT(Planungsübersicht!$F94="Umsetzung nicht möglich")), Planungsübersicht!E94," ") -> 2015 | E47: =IF(AND(Planungsübersicht!$E94>1990,TYPE(Planungsübersicht!$E94)=1,NOT(Planungsübersicht!$F94="Umsetzung nicht möglich")), Planungsübersicht!F94," ") -> in Umsetzung (Mitte) | F47: =IF(AND(Planungsübersicht!$E94>1990,TYPE(Planungsübersicht!$E94)=1,NOT(Planungsübersicht!$F94="Umsetzung nicht möglich")), Planungsübersicht!G94," ") -> Hr. Brüggmann (Hausmeister), Fr. Nedić (Klimaschutzbeauftragte) | G47: =IF(AND(Planungsübersicht!$E94>1990,TYPE(Planungsübersicht!$E94)=1,NOT(Planungsübersicht!$F94="Umsetzung nicht möglich")), Planungsübersicht!H94," ") -> Umweltlehrer | H47: =IF(AND(Planungsübersicht!$E94>1990,TYPE(Planungsübersicht!$E94)=1,NOT(Planungsübersicht!$F94="Umsetzung nicht möglich")), MAX(Planungsübersicht!I94:Z94)," ") -> 21575
B48: =IF(AND(Planungsübersicht!$E96>1990,TYPE(Planungsübersicht!$E96)=1,NOT(Planungsübersicht!$F96="Umsetzung nicht möglich")), Planungsübersicht!C96," ") -> W10 | C48: =IF(AND(Planungsübersicht!$E96>1990,TYPE(Planungsübersicht!$E96)=1,NOT(Planungsübersicht!$F96="Umsetzung nicht möglich")), Planungsübersicht!D96," ") -> Tages- und Raumprofil prüfen und optimieren | D48: =IF(AND(Planungsübersicht!$E96>1990,TYPE(Planungsübersicht!$E96)=1,NOT(Planungsübersicht!$F96="Umsetzung nicht möglich")), Planungsübersicht!E96," ") -> 2015 | E48: =IF(AND(Planungsübersicht!$E96>1990,TYPE(Planungsübersicht!$E96)=1,NOT(Planungsübersicht!$F96="Umsetzung nicht möglich")), Planungsübersicht!F96," ") -> in Umsetzung (Mitte) | F48: =IF(AND(Planungsübersicht!$E96>1990,TYPE(Planungsübersicht!$E96)=1,NOT(Planungsübersicht!$F96="Umsetzung nicht möglich")), Planungsübersicht!G96," ") -> Hr. Brüggmann (Hausmeister), Fr. Nedić (Klimaschutzbeauftragte) | G48: =IF(AND(Planungsübersicht!$E96>1990,TYPE(Planungsübersicht!$E96)=1,NOT(Planungsübersicht!$F96="Umsetzung nicht möglich")), Planungsübersicht!H96," ") -> Umweltlehrer | H48: =IF(AND(Planungsübersicht!$E96>1990,TYPE(Planungsübersicht!$E96)=1,NOT(Planungsübersicht!$F96="Umsetzung nicht möglich")), MAX(Planungsübersicht!I96:Z96)," ") -> 6164
B49: =IF(AND(Planungsübersicht!$E98>1990,TYPE(Planungsübersicht!$E98)=1,NOT(Planungsübersicht!$F98="Umsetzung nicht möglich")), Planungsübersicht!C98," ") -> W11 | C49: =IF(AND(Planungsübersicht!$E98>1990,TYPE(Planungsübersicht!$E98)=1,NOT(Planungsübersicht!$F98="Umsetzung nicht möglich")), Planungsübersicht!D98," ") -> Thermostatventile regelmäßig warten/ggf. Ersetzen | D49: =IF(AND(Planungsübersicht!$E98>1990,TYPE(Planungsübersicht!$E98)=1,NOT(Planungsübersicht!$F98="Umsetzung nicht möglich")), Planungsübersicht!E98," ") -> 2015 | E49: =IF(AND(Planungsübersicht!$E98>1990,TYPE(Planungsübersicht!$E98)=1,NOT(Planungsübersicht!$F98="Umsetzung nicht möglich")), Planungsübersicht!F98," ") -> bisher nicht umgesetzt | F49: =IF(AND(Planungsübersicht!$E98>1990,TYPE(Planungsübersicht!$E98)=1,NOT(Planungsübersicht!$F98="Umsetzung nicht möglich")), Planungsübersicht!G98," ") -> Hr. Brüggmann (Hausmeister) | G49: =IF(AND(Planungsübersicht!$E98>1990,TYPE(Planungsübersicht!$E98)=1,NOT(Planungsübersicht!$F98="Umsetzung nicht möglich")), Planungsübersicht!H98," ") -> Hr. Brüggmann (Hausmeister) | H49: =IF(AND(Planungsübersicht!$E98>1990,TYPE(Planungsübersicht!$E98)=1,NOT(Planungsübersicht!$F98="Umsetzung nicht möglich")), MAX(Planungsübersicht!I98:Z98)," ") -> 0
B50: =IF(AND(Planungsübersicht!$E164>1990,TYPE(Planungsübersicht!$E164)=1,NOT(Planungsübersicht!$F164="Umsetzung nicht möglich")), Planungsübersicht!C164," ") -> S17 | C50: =IF(AND(Planungsübersicht!$E164>1990,TYPE(Planungsübersicht!$E164)=1,NOT(Planungsübersicht!$F164="Umsetzung nicht möglich")), Planungsübersicht!D164," ") -> Automatisches Herunterfahren der Rechner im LZ | D50: =IF(AND(Planungsübersicht!$E164>1990,TYPE(Planungsübersicht!$E164)=1,NOT(Planungsübersicht!$F164="Umsetzung nicht möglich")), Planungsübersicht!E164," ") -> 2019 | E50: =IF(AND(Planungsübersicht!$E164>1990,TYPE(Planungsübersicht!$E164)=1,NOT(Planungsübersicht!$F164="Umsetzung nicht möglich")), Planungsübersicht!F164," ") -> umgesetzt | F50: =IF(AND(Planungsübersicht!$E164>1990,TYPE(Planungsübersicht!$E164)=1,NOT(Planungsübersicht!$F164="Umsetzung nicht möglich")), Planungsübersicht!G164," ") -> Hr. Flohr (IT-Beauftragter) | G50: =IF(AND(Planungsübersicht!$E164>1990,TYPE(Planungsübersicht!$E164)=1,NOT(Planungsübersicht!$F164="Umsetzung nicht möglich")), Planungsübersicht!H164," ") -> 0 | H50: =IF(AND(Planungsübersicht!$E164>1990,TYPE(Planungsübersicht!$E164)=1,NOT(Planungsübersicht!$F164="Umsetzung nicht möglich")), MAX(Planungsübersicht!I164:Z164)," ") -> 0
B51: =IF(AND(Planungsübersicht!$E166>1990,TYPE(Planungsübersicht!$E166)=1,NOT(Planungsübersicht!$F166="Umsetzung nicht möglich")), Planungsübersicht!C166," ") -> S18 | C51: =IF(AND(Planungsübersicht!$E166>1990,TYPE(Planungsübersicht!$E166)=1,NOT(Planungsübersicht!$F166="Umsetzung nicht möglich")), Planungsübersicht!D166," ") -> Umstellung auf LEDs | D51: =IF(AND(Planungsübersicht!$E166>1990,TYPE(Planungsübersicht!$E166)=1,NOT(Planungsübersicht!$F166="Umsetzung nicht möglich")), Planungsübersicht!E166," ") -> 2020 | E51: =IF(AND(Planungsübersicht!$E166>1990,TYPE(Planungsübersicht!$E166)=1,NOT(Planungsübersicht!$F166="Umsetzung nicht möglich")), Planungsübersicht!F166," ") -> in Umsetzung (Anfang) | F51: =IF(AND(Planungsübersicht!$E166>1990,TYPE(Planungsübersicht!$E166)=1,NOT(Planungsübersicht!$F166="Umsetzung nicht möglich")), Planungsübersicht!G166," ") -> Hr. Brüggmann (Hausmeister), Fr. Nedić (Klimaschutzbeauftragte) | G51: =IF(AND(Planungsübersicht!$E166>1990,TYPE(Planungsübersicht!$E166)=1,NOT(Planungsübersicht!$F166="Umsetzung nicht möglich")), Planungsübersicht!H166," ") -> 0 | H51: =IF(AND(Planungsübersicht!$E166>1990,TYPE(Planungsübersicht!$E166)=1,NOT(Planungsübersicht!$F166="Umsetzung nicht möglich")), MAX(Planungsübersicht!I166:Z166)," ") -> 0
B52: =IF(AND(Planungsübersicht!$E188>1990,TYPE(Planungsübersicht!$E188)=1,NOT(Planungsübersicht!$F188="Umsetzung nicht möglich")), Planungsübersicht!C188," ") -> A7 | C52: =IF(AND(Planungsübersicht!$E188>1990,TYPE(Planungsübersicht!$E188)=1,NOT(Planungsübersicht!$F188="Umsetzung nicht möglich")), Planungsübersicht!D188," ") -> Pfanddose | D52: =IF(AND(Planungsübersicht!$E188>1990,TYPE(Planungsübersicht!$E188)=1,NOT(Planungsübersicht!$F188="Umsetzung nicht möglich")), Planungsübersicht!E188," ") -> 2015 | E52: =IF(AND(Planungsübersicht!$E188>1990,TYPE(Planungsübersicht!$E188)=1,NOT(Planungsübersicht!$F188="Umsetzung nicht möglich")), Planungsübersicht!F188," ") -> wird laufend umgesetzt | F52: =IF(AND(Planungsübersicht!$E188>1990,TYPE(Planungsübersicht!$E188)=1,NOT(Planungsübersicht!$F188="Umsetzung nicht möglich")), Planungsübersicht!G188," ") -> Hr. Uslu (Umweltgruppe), Fr. Nedić (Klimaschutzbeauftragte) | G52: =IF(AND(Planungsübersicht!$E188>1990,TYPE(Planungsübersicht!$E188)=1,NOT(Planungsübersicht!$F188="Umsetzung nicht möglich")), Planungsübersicht!H188," ") -> alle | H52: =IF(AND(Planungsübersicht!$E188>1990,TYPE(Planungsübersicht!$E188)=1,NOT(Planungsübersicht!$F188="Umsetzung nicht möglich")), MAX(Planungsübersicht!I188:Z188)," ") -> 0
B53: =IF(AND(Planungsübersicht!$E260>1990,TYPE(Planungsübersicht!$E260)=1,NOT(Planungsübersicht!$F260="Umsetzung nicht möglich")), Planungsübersicht!C260," ") -> E2 | C53: =IF(AND(Planungsübersicht!$E260>1990,TYPE(Planungsübersicht!$E260)=1,NOT(Planungsübersicht!$F260="Umsetzung nicht möglich")), Planungsübersicht!D260," ") -> Interkulturelle Ernährungsprojekte in Klasse 7 | D53: =IF(AND(Planungsübersicht!$E260>1990,TYPE(Planungsübersicht!$E260)=1,NOT(Planungsübersicht!$F260="Umsetzung nicht möglich")), Planungsübersicht!E260," ") -> 2015 | E53: =IF(AND(Planungsübersicht!$E260>1990,TYPE(Planungsübersicht!$E260)=1,NOT(Planungsübersicht!$F260="Umsetzung nicht möglich")), Planungsübersicht!F260," ") -> in Umsetzung (Mitte) | F53: =IF(AND(Planungsübersicht!$E260>1990,TYPE(Planungsübersicht!$E260)=1,NOT(Planungsübersicht!$F260="Umsetzung nicht möglich")), Planungsübersicht!G260," ") -> Frau Kändler (Klimaschutzbeauftragte) | G53: =IF(AND(Planungsübersicht!$E260>1990,TYPE(Planungsübersicht!$E260)=1,NOT(Planungsübersicht!$F260="Umsetzung nicht möglich")), Planungsübersicht!H260," ") -> 0 | H53: =IF(AND(Planungsübersicht!$E260>1990,TYPE(Planungsübersicht!$E260)=1,NOT(Planungsübersicht!$F260="Umsetzung nicht möglich")), MAX(Planungsübersicht!I260:Z260)," ") -> 0
B54: =IF(AND(Planungsübersicht!$E262>1990,TYPE(Planungsübersicht!$E262)=1,NOT(Planungsübersicht!$F262="Umsetzung nicht möglich")), Planungsübersicht!C262," ") -> E3 | C54: =IF(AND(Planungsübersicht!$E262>1990,TYPE(Planungsübersicht!$E262)=1,NOT(Planungsübersicht!$F262="Umsetzung nicht möglich")), Planungsübersicht!D262," ") -> Interkulturelle Ernährungprojekte für Klasse 6 | D54: =IF(AND(Planungsübersicht!$E262>1990,TYPE(Planungsübersicht!$E262)=1,NOT(Planungsübersicht!$F262="Umsetzung nicht möglich")), Planungsübersicht!E262," ") -> 2015 | E54: =IF(AND(Planungsübersicht!$E262>1990,TYPE(Planungsübersicht!$E262)=1,NOT(Planungsübersicht!$F262="Umsetzung nicht möglich")), Planungsübersicht!F262," ") -> in Umsetzung (Mitte) | F54: =IF(AND(Planungsübersicht!$E262>1990,TYPE(Planungsübersicht!$E262)=1,NOT(Planungsübersicht!$F262="Umsetzung nicht möglich")), Planungsübersicht!G262," ") -> Frau Kändler (Klimaschutzbeauftragte) | G54: =IF(AND(Planungsübersicht!$E262>1990,TYPE(Planungsübersicht!$E262)=1,NOT(Planungsübersicht!$F262="Umsetzung nicht möglich")), Planungsübersicht!H262," ") -> 0 | H54: =IF(AND(Planungsübersicht!$E262>1990,TYPE(Planungsübersicht!$E262)=1,NOT(Planungsübersicht!$F262="Umsetzung nicht möglich")), MAX(Planungsübersicht!I262:Z262)," ") -> 0
B55: =IF(AND(Planungsübersicht!$E264>1990,TYPE(Planungsübersicht!$E264)=1,NOT(Planungsübersicht!$F264="Umsetzung nicht möglich")), Planungsübersicht!C264," ") -> E4 | C55: =IF(AND(Planungsübersicht!$E264>1990,TYPE(Planungsübersicht!$E264)=1,NOT(Planungsübersicht!$F264="Umsetzung nicht möglich")), Planungsübersicht!D264," ") -> 4 2 vegetarische Tage pro Woche in Mensa | D55: =IF(AND(Planungsübersicht!$E264>1990,TYPE(Planungsübersicht!$E264)=1,NOT(Planungsübersicht!$F264="Umsetzung nicht möglich")), Planungsübersicht!E264," ") -> 2015 | E55: =IF(AND(Planungsübersicht!$E264>1990,TYPE(Planungsübersicht!$E264)=1,NOT(Planungsübersicht!$F264="Umsetzung nicht möglich")), Planungsübersicht!F264," ") -> umgesetzt | F55: =IF(AND(Planungsübersicht!$E264>1990,TYPE(Planungsübersicht!$E264)=1,NOT(Planungsübersicht!$F264="Umsetzung nicht möglich")), Planungsübersicht!G264," ") -> Hr. Uslu (Mensabeauftragter) + Fr. Nedić (Klimaschutzbeauftragte) | G55: =IF(AND(Planungsübersicht!$E264>1990,TYPE(Planungsübersicht!$E264)=1,NOT(Planungsübersicht!$F264="Umsetzung nicht möglich")), Planungsübersicht!H264," ") -> alle | H55: =IF(AND(Planungsübersicht!$E264>1990,TYPE(Planungsübersicht!$E264)=1,NOT(Planungsübersicht!$F264="Umsetzung nicht möglich")), MAX(Planungsübersicht!I264:Z264)," ") -> 0
B56: =IF(AND(Planungsübersicht!$E44>1990,TYPE(Planungsübersicht!$E44)=1,NOT(Planungsübersicht!$F44="Umsetzung nicht möglich")), Planungsübersicht!C44," ") -> Ü9 | C56: =IF(AND(Planungsübersicht!$E44>1990,TYPE(Planungsübersicht!$E44)=1,NOT(Planungsübersicht!$F44="Umsetzung nicht möglich")), Planungsübersicht!D44," ") -> Umweltausflug | D56: =IF(AND(Planungsübersicht!$E44>1990,TYPE(Planungsübersicht!$E44)=1,NOT(Planungsübersicht!$F44="Umsetzung nicht möglich")), Planungsübersicht!E44," ") -> 2016 | E56: =IF(AND(Planungsübersicht!$E44>1990,TYPE(Planungsübersicht!$E44)=1,NOT(Planungsübersicht!$F44="Umsetzung nicht möglich")), Planungsübersicht!F44," ") -> wird laufend umgesetzt | F56: =IF(AND(Planungsübersicht!$E44>1990,TYPE(Planungsübersicht!$E44)=1,NOT(Planungsübersicht!$F44="Umsetzung nicht möglich")), Planungsübersicht!G44," ") -> Fr. Wolgast (WasteWatcher Betreuerin), Fr. Nedić (Klimaschutzbeauftragte) | G56: =IF(AND(Planungsübersicht!$E44>1990,TYPE(Planungsübersicht!$E44)=1,NOT(Planungsübersicht!$F44="Umsetzung nicht möglich")), Planungsübersicht!H44," ") -> WasteWatcher | H56: =IF(AND(Planungsübersicht!$E44>1990,TYPE(Planungsübersicht!$E44)=1,NOT(Planungsübersicht!$F44="Umsetzung nicht möglich")), MAX(Planungsübersicht!I44:Z44)," ") -> 0
B57: =IF(AND(Planungsübersicht!$E54>1990,TYPE(Planungsübersicht!$E54)=1,NOT(Planungsübersicht!$F54="Umsetzung nicht möglich")), Planungsübersicht!C54," ") -> Ü14 | C57: =IF(AND(Planungsübersicht!$E54>1990,TYPE(Planungsübersicht!$E54)=1,NOT(Planungsübersicht!$F54="Umsetzung nicht möglich")), Planungsübersicht!D54," ") -> Schulinterne Fortbildungen | D57: =IF(AND(Planungsübersicht!$E54>1990,TYPE(Planungsübersicht!$E54)=1,NOT(Planungsübersicht!$F54="Umsetzung nicht möglich")), Planungsübersicht!E54," ") -> 2016 | E57: =IF(AND(Planungsübersicht!$E54>1990,TYPE(Planungsübersicht!$E54)=1,NOT(Planungsübersicht!$F54="Umsetzung nicht möglich")), Planungsübersicht!F54," ") -> wird laufend umgesetzt | F57: =IF(AND(Planungsübersicht!$E54>1990,TYPE(Planungsübersicht!$E54)=1,NOT(Planungsübersicht!$F54="Umsetzung nicht möglich")), Planungsübersicht!G54," ") -> Fr. Nedić (Klimaschutzbeauftragte), Umweltgruppe | G57: =IF(AND(Planungsübersicht!$E54>1990,TYPE(Planungsübersicht!$E54)=1,NOT(Planungsübersicht!$F54="Umsetzung nicht möglich")), Planungsübersicht!H54," ") -> alle | H57: =IF(AND(Planungsübersicht!$E54>1990,TYPE(Planungsübersicht!$E54)=1,NOT(Planungsübersicht!$F54="Umsetzung nicht möglich")), MAX(Planungsübersicht!I54:Z54)," ") -> 0
B58: =IF(AND(Planungsübersicht!$E152>1990,TYPE(Planungsübersicht!$E152)=1,NOT(Planungsübersicht!$F152="Umsetzung nicht möglich")), Planungsübersicht!C152," ") -> S11 | C58: =IF(AND(Planungsübersicht!$E152>1990,TYPE(Planungsübersicht!$E152)=1,NOT(Planungsübersicht!$F152="Umsetzung nicht möglich")), Planungsübersicht!D152," ") -> Bewegungsmelder installieren | D58: =IF(AND(Planungsübersicht!$E152>1990,TYPE(Planungsübersicht!$E152)=1,NOT(Planungsübersicht!$F152="Umsetzung nicht möglich")), Planungsübersicht!E152," ") -> 2016 | E58: =IF(AND(Planungsübersicht!$E152>1990,TYPE(Planungsübersicht!$E152)=1,NOT(Planungsübersicht!$F152="Umsetzung nicht möglich")), Planungsübersicht!F152," ") -> in Umsetzung (Mitte) | F58: =IF(AND(Planungsübersicht!$E152>1990,TYPE(Planungsübersicht!$E152)=1,NOT(Planungsübersicht!$F152="Umsetzung nicht möglich")), Planungsübersicht!G152," ") -> Hr. Brüggmann (Hausmeister), Fr. Nedić (Klimaschutzbeauftragte) | G58: =IF(AND(Planungsübersicht!$E152>1990,TYPE(Planungsübersicht!$E152)=1,NOT(Planungsübersicht!$F152="Umsetzung nicht möglich")), Planungsübersicht!H152," ") -> 0 | H58: =IF(AND(Planungsübersicht!$E152>1990,TYPE(Planungsübersicht!$E152)=1,NOT(Planungsübersicht!$F152="Umsetzung nicht möglich")), MAX(Planungsübersicht!I152:Z152)," ") -> 0
B59: =IF(AND(Planungsübersicht!$E190>1990,TYPE(Planungsübersicht!$E190)=1,NOT(Planungsübersicht!$F190="Umsetzung nicht möglich")), Planungsübersicht!C190," ") -> A8 | C59: =IF(AND(Planungsübersicht!$E190>1990,TYPE(Planungsübersicht!$E190)=1,NOT(Planungsübersicht!$F190="Umsetzung nicht möglich")), Planungsübersicht!D190," ") -> Wertstoffbehälter im Außenbereich | D59: =IF(AND(Planungsübersicht!$E190>1990,TYPE(Planungsübersicht!$E190)=1,NOT(Planungsübersicht!$F190="Umsetzung nicht möglich")), Planungsübersicht!E190," ") -> 2016 | E59: =IF(AND(Planungsübersicht!$E190>1990,TYPE(Planungsübersicht!$E190)=1,NOT(Planungsübersicht!$F190="Umsetzung nicht möglich")), Planungsübersicht!F190," ") -> in Umsetzung (Anfang) | F59: =IF(AND(Planungsübersicht!$E190>1990,TYPE(Planungsübersicht!$E190)=1,NOT(Planungsübersicht!$F190="Umsetzung nicht möglich")), Planungsübersicht!G190," ") -> Fr. Nedić (Klimaschutzbeauftragte), Hr. Brüggmann (Hausmeister) | G59: =IF(AND(Planungsübersicht!$E190>1990,TYPE(Planungsübersicht!$E190)=1,NOT(Planungsübersicht!$F190="Umsetzung nicht möglich")), Planungsübersicht!H190," ") -> alle | H59: =IF(AND(Planungsübersicht!$E190>1990,TYPE(Planungsübersicht!$E190)=1,NOT(Planungsübersicht!$F190="Umsetzung nicht möglich")), MAX(Planungsübersicht!I190:Z190)," ") -> 0
B60: =IF(AND(Planungsübersicht!$E194>1990,TYPE(Planungsübersicht!$E194)=1,NOT(Planungsübersicht!$F194="Umsetzung nicht möglich")), Planungsübersicht!C194," ") -> A10 | C60: =IF(AND(Planungsübersicht!$E194>1990,TYPE(Planungsübersicht!$E194)=1,NOT(Planungsübersicht!$F194="Umsetzung nicht möglich")), Planungsübersicht!D194," ") -> Brotdosen | D60: =IF(AND(Planungsübersicht!$E194>1990,TYPE(Planungsübersicht!$E194)=1,NOT(Planungsübersicht!$F194="Umsetzung nicht möglich")), Planungsübersicht!E194," ") -> 2016 | E60: =IF(AND(Planungsübersicht!$E194>1990,TYPE(Planungsübersicht!$E194)=1,NOT(Planungsübersicht!$F194="Umsetzung nicht möglich")), Planungsübersicht!F194," ") -> wird laufend umgesetzt | F60: =IF(AND(Planungsübersicht!$E194>1990,TYPE(Planungsübersicht!$E194)=1,NOT(Planungsübersicht!$F194="Umsetzung nicht möglich")), Planungsübersicht!G194," ") -> Fr. Wolgast (Umweltgruppe) | G60: =IF(AND(Planungsübersicht!$E194>1990,TYPE(Planungsübersicht!$E194)=1,NOT(Planungsübersicht!$F194="Umsetzung nicht möglich")), Planungsübersicht!H194," ") -> alle | H60: =IF(AND(Planungsübersicht!$E194>1990,TYPE(Planungsübersicht!$E194)=1,NOT(Planungsübersicht!$F194="Umsetzung nicht möglich")), MAX(Planungsübersicht!I194:Z194)," ") -> 0
B61: =IF(AND(Planungsübersicht!$E270>1990,TYPE(Planungsübersicht!$E270)=1,NOT(Planungsübersicht!$F270="Umsetzung nicht möglich")), Planungsübersicht!C270," ") -> E7 | C61: =IF(AND(Planungsübersicht!$E270>1990,TYPE(Planungsübersicht!$E270)=1,NOT(Planungsübersicht!$F270="Umsetzung nicht möglich")), Planungsübersicht!D270," ") -> Klimafrühstück | D61: =IF(AND(Planungsübersicht!$E270>1990,TYPE(Planungsübersicht!$E270)=1,NOT(Planungsübersicht!$F270="Umsetzung nicht möglich")), Planungsübersicht!E270," ") -> 2016 | E61: =IF(AND(Planungsübersicht!$E270>1990,TYPE(Planungsübersicht!$E270)=1,NOT(Planungsübersicht!$F270="Umsetzung nicht möglich")), Planungsübersicht!F270," ") -> wird laufend umgesetzt | F61: =IF(AND(Planungsübersicht!$E270>1990,TYPE(Planungsübersicht!$E270)=1,NOT(Planungsübersicht!$F270="Umsetzung nicht möglich")), Planungsübersicht!G270," ") -> Hr. Bock | G61: =IF(AND(Planungsübersicht!$E270>1990,TYPE(Planungsübersicht!$E270)=1,NOT(Planungsübersicht!$F270="Umsetzung nicht möglich")), Planungsübersicht!H270," ") -> 5. Klassen | H61: =IF(AND(Planungsübersicht!$E270>1990,TYPE(Planungsübersicht!$E270)=1,NOT(Planungsübersicht!$F270="Umsetzung nicht möglich")), MAX(Planungsübersicht!I270:Z270)," ") -> 0
B62: =IF(AND(Planungsübersicht!$E192>1990,TYPE(Planungsübersicht!$E192)=1,NOT(Planungsübersicht!$F192="Umsetzung nicht möglich")), Planungsübersicht!C192," ") -> A9 | C62: =IF(AND(Planungsübersicht!$E192>1990,TYPE(Planungsübersicht!$E192)=1,NOT(Planungsübersicht!$F192="Umsetzung nicht möglich")), Planungsübersicht!D192," ") -> Upcycling-AG | D62: =IF(AND(Planungsübersicht!$E192>1990,TYPE(Planungsübersicht!$E192)=1,NOT(Planungsübersicht!$F192="Umsetzung nicht möglich")), Planungsübersicht!E192," ") -> 2017 | E62: =IF(AND(Planungsübersicht!$E192>1990,TYPE(Planungsübersicht!$E192)=1,NOT(Planungsübersicht!$F192="Umsetzung nicht möglich")), Planungsübersicht!F192," ") -> wird laufend umgesetzt | F62: =IF(AND(Planungsübersicht!$E192>1990,TYPE(Planungsübersicht!$E192)=1,NOT(Planungsübersicht!$F192="Umsetzung nicht möglich")), Planungsübersicht!G192," ") -> Fr. Blömer (AG-Leitung) | G62: =IF(AND(Planungsübersicht!$E192>1990,TYPE(Planungsübersicht!$E192)=1,NOT(Planungsübersicht!$F192="Umsetzung nicht möglich")), Planungsübersicht!H192," ") -> 0 | H62: =IF(AND(Planungsübersicht!$E192>1990,TYPE(Planungsübersicht!$E192)=1,NOT(Planungsübersicht!$F192="Umsetzung nicht möglich")), MAX(Planungsübersicht!I192:Z192)," ") -> 0
B63: =IF(AND(Planungsübersicht!$E196>1990,TYPE(Planungsübersicht!$E196)=1,NOT(Planungsübersicht!$F196="Umsetzung nicht möglich")), Planungsübersicht!C196," ") -> A11 | C63: =IF(AND(Planungsübersicht!$E196>1990,TYPE(Planungsübersicht!$E196)=1,NOT(Planungsübersicht!$F196="Umsetzung nicht möglich")), Planungsübersicht!D196," ") -> Wasserspender (Verwaltungsgebäude) | D63: =IF(AND(Planungsübersicht!$E196>1990,TYPE(Planungsübersicht!$E196)=1,NOT(Planungsübersicht!$F196="Umsetzung nicht möglich")), Planungsübersicht!E196," ") -> 2017 | E63: =IF(AND(Planungsübersicht!$E196>1990,TYPE(Planungsübersicht!$E196)=1,NOT(Planungsübersicht!$F196="Umsetzung nicht möglich")), Planungsübersicht!F196," ") -> wird laufend umgesetzt | F63: =IF(AND(Planungsübersicht!$E196>1990,TYPE(Planungsübersicht!$E196)=1,NOT(Planungsübersicht!$F196="Umsetzung nicht möglich")), Planungsübersicht!G196," ") -> Fr. Nedić (Klimaschutzbeauftragte) | G63: =IF(AND(Planungsübersicht!$E196>1990,TYPE(Planungsübersicht!$E196)=1,NOT(Planungsübersicht!$F196="Umsetzung nicht möglich")), Planungsübersicht!H196," ") -> alle | H63: =IF(AND(Planungsübersicht!$E196>1990,TYPE(Planungsübersicht!$E196)=1,NOT(Planungsübersicht!$F196="Umsetzung nicht möglich")), MAX(Planungsübersicht!I196:Z196)," ") -> 0
B64: =IF(AND(Planungsübersicht!$E232>1990,TYPE(Planungsübersicht!$E232)=1,NOT(Planungsübersicht!$F232="Umsetzung nicht möglich")), Planungsübersicht!C232," ") -> B6 | C64: =IF(AND(Planungsübersicht!$E232>1990,TYPE(Planungsübersicht!$E232)=1,NOT(Planungsübersicht!$F232="Umsetzung nicht möglich")), Planungsübersicht!D232," ") -> Umweltladen | D64: =IF(AND(Planungsübersicht!$E232>1990,TYPE(Planungsübersicht!$E232)=1,NOT(Planungsübersicht!$F232="Umsetzung nicht möglich")), Planungsübersicht!E232," ") -> 2017 | E64: =IF(AND(Planungsübersicht!$E232>1990,TYPE(Planungsübersicht!$E232)=1,NOT(Planungsübersicht!$F232="Umsetzung nicht möglich")), Planungsübersicht!F232," ") -> wird laufend umgesetzt | F64: =IF(AND(Planungsübersicht!$E232>1990,TYPE(Planungsübersicht!$E232)=1,NOT(Planungsübersicht!$F232="Umsetzung nicht möglich")), Planungsübersicht!G232," ") -> Fr. Wolgast (Umweltgruppe) | G64: =IF(AND(Planungsübersicht!$E232>1990,TYPE(Planungsübersicht!$E232)=1,NOT(Planungsübersicht!$F232="Umsetzung nicht möglich")), Planungsübersicht!H232," ") -> Grüne Lise AG | H64: =IF(AND(Planungsübersicht!$E232>1990,TYPE(Planungsübersicht!$E232)=1,NOT(Planungsübersicht!$F232="Umsetzung nicht möglich")), MAX(Planungsübersicht!I232:Z232)," ") -> 0
B65: =IF(AND(Planungsübersicht!$E198>1990,TYPE(Planungsübersicht!$E198)=1,NOT(Planungsübersicht!$F198="Umsetzung nicht möglich")), Planungsübersicht!C198," ") -> A12 | C65: =IF(AND(Planungsübersicht!$E198>1990,TYPE(Planungsübersicht!$E198)=1,NOT(Planungsübersicht!$F198="Umsetzung nicht möglich")), Planungsübersicht!D198," ") -> Pfandbecher | D65: =IF(AND(Planungsübersicht!$E198>1990,TYPE(Planungsübersicht!$E198)=1,NOT(Planungsübersicht!$F198="Umsetzung nicht möglich")), Planungsübersicht!E198," ") -> 2018 | E65: =IF(AND(Planungsübersicht!$E198>1990,TYPE(Planungsübersicht!$E198)=1,NOT(Planungsübersicht!$F198="Umsetzung nicht möglich")), Planungsübersicht!F198," ") -> 0 | F65: =IF(AND(Planungsübersicht!$E198>1990,TYPE(Planungsübersicht!$E198)=1,NOT(Planungsübersicht!$F198="Umsetzung nicht möglich")), Planungsübersicht!G198," ") -> 0 | G65: =IF(AND(Planungsübersicht!$E198>1990,TYPE(Planungsübersicht!$E198)=1,NOT(Planungsübersicht!$F198="Umsetzung nicht möglich")), Planungsübersicht!H198," ") -> 0 | H65: =IF(AND(Planungsübersicht!$E198>1990,TYPE(Planungsübersicht!$E198)=1,NOT(Planungsübersicht!$F198="Umsetzung nicht möglich")), MAX(Planungsübersicht!I198:Z198)," ") -> 0
B66: =IF(AND(Planungsübersicht!$E200>1990,TYPE(Planungsübersicht!$E200)=1,NOT(Planungsübersicht!$F200="Umsetzung nicht möglich")), Planungsübersicht!C200," ") -> A13 | C66: =IF(AND(Planungsübersicht!$E200>1990,TYPE(Planungsübersicht!$E200)=1,NOT(Planungsübersicht!$F200="Umsetzung nicht möglich")), Planungsübersicht!D200," ") -> Essensdosen für den Einkauf von Mittagessen | D66: =IF(AND(Planungsübersicht!$E200>1990,TYPE(Planungsübersicht!$E200)=1,NOT(Planungsübersicht!$F200="Umsetzung nicht möglich")), Planungsübersicht!E200," ") -> 2018 | E66: =IF(AND(Planungsübersicht!$E200>1990,TYPE(Planungsübersicht!$E200)=1,NOT(Planungsübersicht!$F200="Umsetzung nicht möglich")), Planungsübersicht!F200," ") -> wird laufend umgesetzt | F66: =IF(AND(Planungsübersicht!$E200>1990,TYPE(Planungsübersicht!$E200)=1,NOT(Planungsübersicht!$F200="Umsetzung nicht möglich")), Planungsübersicht!G200," ") -> Fr. Nedić (Klimaschutzbeauftragte) | G66: =IF(AND(Planungsübersicht!$E200>1990,TYPE(Planungsübersicht!$E200)=1,NOT(Planungsübersicht!$F200="Umsetzung nicht möglich")), Planungsübersicht!H200," ") -> Lehrkräfte | H66: =IF(AND(Planungsübersicht!$E200>1990,TYPE(Planungsübersicht!$E200)=1,NOT(Planungsübersicht!$F200="Umsetzung nicht möglich")), MAX(Planungsübersicht!I200:Z200)," ") -> 0
B67: =IF(AND(Planungsübersicht!$E308>1990,TYPE(Planungsübersicht!$E308)=1,NOT(Planungsübersicht!$F308="Umsetzung nicht möglich")), Planungsübersicht!C308," ") -> M8 | C67: =IF(AND(Planungsübersicht!$E308>1990,TYPE(Planungsübersicht!$E308)=1,NOT(Planungsübersicht!$F308="Umsetzung nicht möglich")), Planungsübersicht!D308," ") -> Ausweitung der Fahrradabstellmöglichkeiten für SchülerInnen | D67: =IF(AND(Planungsübersicht!$E308>1990,TYPE(Planungsübersicht!$E308)=1,NOT(Planungsübersicht!$F308="Umsetzung nicht möglich")), Planungsübersicht!E308," ") -> 2018 | E67: =IF(AND(Planungsübersicht!$E308>1990,TYPE(Planungsübersicht!$E308)=1,NOT(Planungsübersicht!$F308="Umsetzung nicht möglich")), Planungsübersicht!F308," ") -> umgesetzt | F67: =IF(AND(Planungsübersicht!$E308>1990,TYPE(Planungsübersicht!$E308)=1,NOT(Planungsübersicht!$F308="Umsetzung nicht möglich")), Planungsübersicht!G308," ") -> Hr. Brüggmann (Hausmeister) | G67: =IF(AND(Planungsübersicht!$E308>1990,TYPE(Planungsübersicht!$E308)=1,NOT(Planungsübersicht!$F308="Umsetzung nicht möglich")), Planungsübersicht!H308," ") -> SchülerInnen | H67: =IF(AND(Planungsübersicht!$E308>1990,TYPE(Planungsübersicht!$E308)=1,NOT(Planungsübersicht!$F308="Umsetzung nicht möglich")), MAX(Planungsübersicht!I308:Z308)," ") -> 0
B68: =IF(AND(Planungsübersicht!$E310>1990,TYPE(Planungsübersicht!$E310)=1,NOT(Planungsübersicht!$F310="Umsetzung nicht möglich")), Planungsübersicht!C310," ") -> M9 | C68: =IF(AND(Planungsübersicht!$E310>1990,TYPE(Planungsübersicht!$E310)=1,NOT(Planungsübersicht!$F310="Umsetzung nicht möglich")), Planungsübersicht!D310," ") -> Anschaffung von Lastenfahrrädern | D68: =IF(AND(Planungsübersicht!$E310>1990,TYPE(Planungsübersicht!$E310)=1,NOT(Planungsübersicht!$F310="Umsetzung nicht möglich")), Planungsübersicht!E310," ") -> 2018 | E68: =IF(AND(Planungsübersicht!$E310>1990,TYPE(Planungsübersicht!$E310)=1,NOT(Planungsübersicht!$F310="Umsetzung nicht möglich")), Planungsübersicht!F310," ") -> umgesetzt | F68: =IF(AND(Planungsübersicht!$E310>1990,TYPE(Planungsübersicht!$E310)=1,NOT(Planungsübersicht!$F310="Umsetzung nicht möglich")), Planungsübersicht!G310," ") -> Hr. Schliephake | G68: =IF(AND(Planungsübersicht!$E310>1990,TYPE(Planungsübersicht!$E310)=1,NOT(Planungsübersicht!$F310="Umsetzung nicht möglich")), Planungsübersicht!H310," ") -> alle | H68: =IF(AND(Planungsübersicht!$E310>1990,TYPE(Planungsübersicht!$E310)=1,NOT(Planungsübersicht!$F310="Umsetzung nicht möglich")), MAX(Planungsübersicht!I310:Z310)," ") -> 0
B69: =IF(AND(Planungsübersicht!$E312>1990,TYPE(Planungsübersicht!$E312)=1,NOT(Planungsübersicht!$F312="Umsetzung nicht möglich")), Planungsübersicht!C312," ") -> M10 | C69: =IF(AND(Planungsübersicht!$E312>1990,TYPE(Planungsübersicht!$E312)=1,NOT(Planungsübersicht!$F312="Umsetzung nicht möglich")), Planungsübersicht!D312," ") -> Anschaffung von Dienstfahrrädern | D69: =IF(AND(Planungsübersicht!$E312>1990,TYPE(Planungsübersicht!$E312)=1,NOT(Planungsübersicht!$F312="Umsetzung nicht möglich")), Planungsübersicht!E312," ") -> 2018 | E69: =IF(AND(Planungsübersicht!$E312>1990,TYPE(Planungsübersicht!$E312)=1,NOT(Planungsübersicht!$F312="Umsetzung nicht möglich")), Planungsübersicht!F312," ") -> umgesetzt | F69: =IF(AND(Planungsübersicht!$E312>1990,TYPE(Planungsübersicht!$E312)=1,NOT(Planungsübersicht!$F312="Umsetzung nicht möglich")), Planungsübersicht!G312," ") -> Hr. Schliephake | G69: =IF(AND(Planungsübersicht!$E312>1990,TYPE(Planungsübersicht!$E312)=1,NOT(Planungsübersicht!$F312="Umsetzung nicht möglich")), Planungsübersicht!H312," ") -> alle | H69: =IF(AND(Planungsübersicht!$E312>1990,TYPE(Planungsübersicht!$E312)=1,NOT(Planungsübersicht!$F312="Umsetzung nicht möglich")), MAX(Planungsübersicht!I312:Z312)," ") -> 0
B70: =IF(AND(Planungsübersicht!$E100>1990,TYPE(Planungsübersicht!$E100)=1,NOT(Planungsübersicht!$F100="Umsetzung nicht möglich")), Planungsübersicht!C100," ") -> W12 | C70: =IF(AND(Planungsübersicht!$E100>1990,TYPE(Planungsübersicht!$E100)=1,NOT(Planungsübersicht!$F100="Umsetzung nicht möglich")), Planungsübersicht!D100," ") -> herkömmliche Thermostatventile gegen elektronische austauschen | D70: =IF(AND(Planungsübersicht!$E100>1990,TYPE(Planungsübersicht!$E100)=1,NOT(Planungsübersicht!$F100="Umsetzung nicht möglich")), Planungsübersicht!E100," ") -> 2020 | E70: =IF(AND(Planungsübersicht!$E100>1990,TYPE(Planungsübersicht!$E100)=1,NOT(Planungsübersicht!$F100="Umsetzung nicht möglich")), Planungsübersicht!F100," ") -> bisher nicht umgesetzt | F70: =IF(AND(Planungsübersicht!$E100>1990,TYPE(Planungsübersicht!$E100)=1,NOT(Planungsübersicht!$F100="Umsetzung nicht möglich")), Planungsübersicht!G100," ") -> Hr. Brüggmann (Hausmeister) | G70: =IF(AND(Planungsübersicht!$E100>1990,TYPE(Planungsübersicht!$E100)=1,NOT(Planungsübersicht!$F100="Umsetzung nicht möglich")), Planungsübersicht!H100," ") -> Hr. Brüggmann (Hausmeister) | H70: =IF(AND(Planungsübersicht!$E100>1990,TYPE(Planungsübersicht!$E100)=1,NOT(Planungsübersicht!$F100="Umsetzung nicht möglich")), MAX(Planungsübersicht!I100:Z100)," ") -> 0
B71: =IF(AND(Planungsübersicht!$E102>1990,TYPE(Planungsübersicht!$E102)=1,NOT(Planungsübersicht!$F102="Umsetzung nicht möglich")), Planungsübersicht!C102," ") -> W13 | C71: =IF(AND(Planungsübersicht!$E102>1990,TYPE(Planungsübersicht!$E102)=1,NOT(Planungsübersicht!$F102="Umsetzung nicht möglich")), Planungsübersicht!D102," ") -> Dämmung der Heizungsverteilstränge im unbeheizten Bereich | D71: =IF(AND(Planungsübersicht!$E102>1990,TYPE(Planungsübersicht!$E102)=1,NOT(Planungsübersicht!$F102="Umsetzung nicht möglich")), Planungsübersicht!E102," ") -> 2020 | E71: =IF(AND(Planungsübersicht!$E102>1990,TYPE(Planungsübersicht!$E102)=1,NOT(Planungsübersicht!$F102="Umsetzung nicht möglich")), Planungsübersicht!F102," ") -> bisher nicht umgesetzt | F71: =IF(AND(Planungsübersicht!$E102>1990,TYPE(Planungsübersicht!$E102)=1,NOT(Planungsübersicht!$F102="Umsetzung nicht möglich")), Planungsübersicht!G102," ") -> Hr. Brüggmann (Hausmeister) | G71: =IF(AND(Planungsübersicht!$E102>1990,TYPE(Planungsübersicht!$E102)=1,NOT(Planungsübersicht!$F102="Umsetzung nicht möglich")), Planungsübersicht!H102," ") -> Hr. Brüggmann (Hausmeister) | H71: =IF(AND(Planungsübersicht!$E102>1990,TYPE(Planungsübersicht!$E102)=1,NOT(Planungsübersicht!$F102="Umsetzung nicht möglich")), MAX(Planungsübersicht!I102:Z102)," ") -> 0
B72: =IF(AND(Planungsübersicht!$E29>1990,TYPE(Planungsübersicht!$E29)=1,NOT(Planungsübersicht!$F29="Umsetzung nicht möglich")), Planungsübersicht!C29," ") | C72: =IF(AND(Planungsübersicht!$E29>1990,TYPE(Planungsübersicht!$E29)=1,NOT(Planungsübersicht!$F29="Umsetzung nicht möglich")), Planungsübersicht!D29," ") | D72: =IF(AND(Planungsübersicht!$E29>1990,TYPE(Planungsübersicht!$E29)=1,NOT(Planungsübersicht!$F29="Umsetzung nicht möglich")), Planungsübersicht!E29," ") | E72: =IF(AND(Planungsübersicht!$E29>1990,TYPE(Planungsübersicht!$E29)=1,NOT(Planungsübersicht!$F29="Umsetzung nicht möglich")), Planungsübersicht!F29," ") | F72: =IF(AND(Planungsübersicht!$E29>1990,TYPE(Planungsübersicht!$E29)=1,NOT(Planungsübersicht!$F29="Umsetzung nicht möglich")), Planungsübersicht!G29," ") | G72: =IF(AND(Planungsübersicht!$E29>1990,TYPE(Planungsübersicht!$E29)=1,NOT(Planungsübersicht!$F29="Umsetzung nicht möglich")), Planungsübersicht!H29," ") | H72: =IF(AND(Planungsübersicht!$E29>1990,TYPE(Planungsübersicht!$E29)=1,NOT(Planungsübersicht!$F29="Umsetzung nicht möglich")), MAX(Planungsübersicht!I29:Z29)," ")
B73: =IF(AND(Planungsübersicht!$E31>1990,TYPE(Planungsübersicht!$E31)=1,NOT(Planungsübersicht!$F31="Umsetzung nicht möglich")), Planungsübersicht!C31," ") | C73: =IF(AND(Planungsübersicht!$E31>1990,TYPE(Planungsübersicht!$E31)=1,NOT(Planungsübersicht!$F31="Umsetzung nicht möglich")), Planungsübersicht!D31," ") | D73: =IF(AND(Planungsübersicht!$E31>1990,TYPE(Planungsübersicht!$E31)=1,NOT(Planungsübersicht!$F31="Umsetzung nicht möglich")), Planungsübersicht!E31," ") | E73: =IF(AND(Planungsübersicht!$E31>1990,TYPE(Planungsübersicht!$E31)=1,NOT(Planungsübersicht!$F31="Umsetzung nicht möglich")), Planungsübersicht!F31," ") | F73: =IF(AND(Planungsübersicht!$E31>1990,TYPE(Planungsübersicht!$E31)=1,NOT(Planungsübersicht!$F31="Umsetzung nicht möglich")), Planungsübersicht!G31," ") | G73: =IF(AND(Planungsübersicht!$E31>1990,TYPE(Planungsübersicht!$E31)=1,NOT(Planungsübersicht!$F31="Umsetzung nicht möglich")), Planungsübersicht!H31," ") | H73: =IF(AND(Planungsübersicht!$E31>1990,TYPE(Planungsübersicht!$E31)=1,NOT(Planungsübersicht!$F31="Umsetzung nicht möglich")), MAX(Planungsübersicht!I31:Z31)," ")
B74: =IF(AND(Planungsübersicht!$E33>1990,TYPE(Planungsübersicht!$E33)=1,NOT(Planungsübersicht!$F33="Umsetzung nicht möglich")), Planungsübersicht!C33," ") | C74: =IF(AND(Planungsübersicht!$E33>1990,TYPE(Planungsübersicht!$E33)=1,NOT(Planungsübersicht!$F33="Umsetzung nicht möglich")), Planungsübersicht!D33," ") | D74: =IF(AND(Planungsübersicht!$E33>1990,TYPE(Planungsübersicht!$E33)=1,NOT(Planungsübersicht!$F33="Umsetzung nicht möglich")), Planungsübersicht!E33," ") | E74: =IF(AND(Planungsübersicht!$E33>1990,TYPE(Planungsübersicht!$E33)=1,NOT(Planungsübersicht!$F33="Umsetzung nicht möglich")), Planungsübersicht!F33," ") | F74: =IF(AND(Planungsübersicht!$E33>1990,TYPE(Planungsübersicht!$E33)=1,NOT(Planungsübersicht!$F33="Umsetzung nicht möglich")), Planungsübersicht!G33," ") | G74: =IF(AND(Planungsübersicht!$E33>1990,TYPE(Planungsübersicht!$E33)=1,NOT(Planungsübersicht!$F33="Umsetzung nicht möglich")), Planungsübersicht!H33," ") | H74: =IF(AND(Planungsübersicht!$E33>1990,TYPE(Planungsübersicht!$E33)=1,NOT(Planungsübersicht!$F33="Umsetzung nicht möglich")), MAX(Planungsübersicht!I33:Z33)," ")
B75: =IF(AND(Planungsübersicht!$E35>1990,TYPE(Planungsübersicht!$E35)=1,NOT(Planungsübersicht!$F35="Umsetzung nicht möglich")), Planungsübersicht!C35," ") | C75: =IF(AND(Planungsübersicht!$E35>1990,TYPE(Planungsübersicht!$E35)=1,NOT(Planungsübersicht!$F35="Umsetzung nicht möglich")), Planungsübersicht!D35," ") | D75: =IF(AND(Planungsübersicht!$E35>1990,TYPE(Planungsübersicht!$E35)=1,NOT(Planungsübersicht!$F35="Umsetzung nicht möglich")), Planungsübersicht!E35," ") | E75: =IF(AND(Planungsübersicht!$E35>1990,TYPE(Planungsübersicht!$E35)=1,NOT(Planungsübersicht!$F35="Umsetzung nicht möglich")), Planungsübersicht!F35," ") | F75: =IF(AND(Planungsübersicht!$E35>1990,TYPE(Planungsübersicht!$E35)=1,NOT(Planungsübersicht!$F35="Umsetzung nicht möglich")), Planungsübersicht!G35," ") | G75: =IF(AND(Planungsübersicht!$E35>1990,TYPE(Planungsübersicht!$E35)=1,NOT(Planungsübersicht!$F35="Umsetzung nicht möglich")), Planungsübersicht!H35," ") | H75: =IF(AND(Planungsübersicht!$E35>1990,TYPE(Planungsübersicht!$E35)=1,NOT(Planungsübersicht!$F35="Umsetzung nicht möglich")), MAX(Planungsübersicht!I35:Z35)," ")
B76: =IF(AND(Planungsübersicht!$E37>1990,TYPE(Planungsübersicht!$E37)=1,NOT(Planungsübersicht!$F37="Umsetzung nicht möglich")), Planungsübersicht!C37," ") | C76: =IF(AND(Planungsübersicht!$E37>1990,TYPE(Planungsübersicht!$E37)=1,NOT(Planungsübersicht!$F37="Umsetzung nicht möglich")), Planungsübersicht!D37," ") | D76: =IF(AND(Planungsübersicht!$E37>1990,TYPE(Planungsübersicht!$E37)=1,NOT(Planungsübersicht!$F37="Umsetzung nicht möglich")), Planungsübersicht!E37," ") | E76: =IF(AND(Planungsübersicht!$E37>1990,TYPE(Planungsübersicht!$E37)=1,NOT(Planungsübersicht!$F37="Umsetzung nicht möglich")), Planungsübersicht!F37," ") | F76: =IF(AND(Planungsübersicht!$E37>1990,TYPE(Planungsübersicht!$E37)=1,NOT(Planungsübersicht!$F37="Umsetzung nicht möglich")), Planungsübersicht!G37," ") | G76: =IF(AND(Planungsübersicht!$E37>1990,TYPE(Planungsübersicht!$E37)=1,NOT(Planungsübersicht!$F37="Umsetzung nicht möglich")), Planungsübersicht!H37," ") | H76: =IF(AND(Planungsübersicht!$E37>1990,TYPE(Planungsübersicht!$E37)=1,NOT(Planungsübersicht!$F37="Umsetzung nicht möglich")), MAX(Planungsübersicht!I37:Z37)," ")
B77: =IF(AND(Planungsübersicht!$E39>1990,TYPE(Planungsübersicht!$E39)=1,NOT(Planungsübersicht!$F39="Umsetzung nicht möglich")), Planungsübersicht!C39," ") | C77: =IF(AND(Planungsübersicht!$E39>1990,TYPE(Planungsübersicht!$E39)=1,NOT(Planungsübersicht!$F39="Umsetzung nicht möglich")), Planungsübersicht!D39," ") | D77: =IF(AND(Planungsübersicht!$E39>1990,TYPE(Planungsübersicht!$E39)=1,NOT(Planungsübersicht!$F39="Umsetzung nicht möglich")), Planungsübersicht!E39," ") | E77: =IF(AND(Planungsübersicht!$E39>1990,TYPE(Planungsübersicht!$E39)=1,NOT(Planungsübersicht!$F39="Umsetzung nicht möglich")), Planungsübersicht!F39," ") | F77: =IF(AND(Planungsübersicht!$E39>1990,TYPE(Planungsübersicht!$E39)=1,NOT(Planungsübersicht!$F39="Umsetzung nicht möglich")), Planungsübersicht!G39," ") | G77: =IF(AND(Planungsübersicht!$E39>1990,TYPE(Planungsübersicht!$E39)=1,NOT(Planungsübersicht!$F39="Umsetzung nicht möglich")), Planungsübersicht!H39," ") | H77: =IF(AND(Planungsübersicht!$E39>1990,TYPE(Planungsübersicht!$E39)=1,NOT(Planungsübersicht!$F39="Umsetzung nicht möglich")), MAX(Planungsübersicht!I39:Z39)," ")
B78: =IF(AND(Planungsübersicht!$E41>1990,TYPE(Planungsübersicht!$E41)=1,NOT(Planungsübersicht!$F41="Umsetzung nicht möglich")), Planungsübersicht!C41," ") | C78: =IF(AND(Planungsübersicht!$E41>1990,TYPE(Planungsübersicht!$E41)=1,NOT(Planungsübersicht!$F41="Umsetzung nicht möglich")), Planungsübersicht!D41," ") | D78: =IF(AND(Planungsübersicht!$E41>1990,TYPE(Planungsübersicht!$E41)=1,NOT(Planungsübersicht!$F41="Umsetzung nicht möglich")), Planungsübersicht!E41," ") | E78: =IF(AND(Planungsübersicht!$E41>1990,TYPE(Planungsübersicht!$E41)=1,NOT(Planungsübersicht!$F41="Umsetzung nicht möglich")), Planungsübersicht!F41," ") | F78: =IF(AND(Planungsübersicht!$E41>1990,TYPE(Planungsübersicht!$E41)=1,NOT(Planungsübersicht!$F41="Umsetzung nicht möglich")), Planungsübersicht!G41," ") | G78: =IF(AND(Planungsübersicht!$E41>1990,TYPE(Planungsübersicht!$E41)=1,NOT(Planungsübersicht!$F41="Umsetzung nicht möglich")), Planungsübersicht!H41," ") | H78: =IF(AND(Planungsübersicht!$E41>1990,TYPE(Planungsübersicht!$E41)=1,NOT(Planungsübersicht!$F41="Umsetzung nicht möglich")), MAX(Planungsübersicht!I41:Z41)," ")
B79: =IF(AND(Planungsübersicht!$E43>1990,TYPE(Planungsübersicht!$E43)=1,NOT(Planungsübersicht!$F43="Umsetzung nicht möglich")), Planungsübersicht!C43," ") | C79: =IF(AND(Planungsübersicht!$E43>1990,TYPE(Planungsübersicht!$E43)=1,NOT(Planungsübersicht!$F43="Umsetzung nicht möglich")), Planungsübersicht!D43," ") | D79: =IF(AND(Planungsübersicht!$E43>1990,TYPE(Planungsübersicht!$E43)=1,NOT(Planungsübersicht!$F43="Umsetzung nicht möglich")), Planungsübersicht!E43," ") | E79: =IF(AND(Planungsübersicht!$E43>1990,TYPE(Planungsübersicht!$E43)=1,NOT(Planungsübersicht!$F43="Umsetzung nicht möglich")), Planungsübersicht!F43," ") | F79: =IF(AND(Planungsübersicht!$E43>1990,TYPE(Planungsübersicht!$E43)=1,NOT(Planungsübersicht!$F43="Umsetzung nicht möglich")), Planungsübersicht!G43," ") | G79: =IF(AND(Planungsübersicht!$E43>1990,TYPE(Planungsübersicht!$E43)=1,NOT(Planungsübersicht!$F43="Umsetzung nicht möglich")), Planungsübersicht!H43," ") | H79: =IF(AND(Planungsübersicht!$E43>1990,TYPE(Planungsübersicht!$E43)=1,NOT(Planungsübersicht!$F43="Umsetzung nicht möglich")), MAX(Planungsübersicht!I43:Z43)," ")
B80: =IF(AND(Planungsübersicht!$E45>1990,TYPE(Planungsübersicht!$E45)=1,NOT(Planungsübersicht!$F45="Umsetzung nicht möglich")),Planungsübersicht!C45," ") | C80: =IF(AND(Planungsübersicht!$E45>1990,TYPE(Planungsübersicht!$E45)=1,NOT(Planungsübersicht!$F45="Umsetzung nicht möglich")),Planungsübersicht!D45," ") | D80: =IF(AND(Planungsübersicht!$E45>1990,TYPE(Planungsübersicht!$E45)=1,NOT(Planungsübersicht!$F45="Umsetzung nicht möglich")),Planungsübersicht!E45," ") | E80: =IF(AND(Planungsübersicht!$E45>1990,TYPE(Planungsübersicht!$E45)=1,NOT(Planungsübersicht!$F45="Umsetzung nicht möglich")),Planungsübersicht!F45," ") | F80: =IF(AND(Planungsübersicht!$E45>1990,TYPE(Planungsübersicht!$E45)=1,NOT(Planungsübersicht!$F45="Umsetzung nicht möglich")),Planungsübersicht!G45," ") | G80: =IF(AND(Planungsübersicht!$E45>1990,TYPE(Planungsübersicht!$E45)=1,NOT(Planungsübersicht!$F45="Umsetzung nicht möglich")),Planungsübersicht!H45," ") | H80: =IF(AND(Planungsübersicht!$E45>1990,TYPE(Planungsübersicht!$E45)=1,NOT(Planungsübersicht!$F45="Umsetzung nicht möglich")),MAX(Planungsübersicht!I45:Z45)," ")
B81: =IF(AND(Planungsübersicht!$E46>1990,TYPE(Planungsübersicht!$E46)=1,NOT(Planungsübersicht!$F46="Umsetzung nicht möglich")),Planungsübersicht!C46," ") -> Ü10 | C81: =IF(AND(Planungsübersicht!$E46>1990,TYPE(Planungsübersicht!$E46)=1,NOT(Planungsübersicht!$F46="Umsetzung nicht möglich")),Planungsübersicht!D46," ") -> Vertretungsmaterial | D81: =IF(AND(Planungsübersicht!$E46>1990,TYPE(Planungsübersicht!$E46)=1,NOT(Planungsübersicht!$F46="Umsetzung nicht möglich")),Planungsübersicht!E46," ") -> 2021 | E81: =IF(AND(Planungsübersicht!$E46>1990,TYPE(Planungsübersicht!$E46)=1,NOT(Planungsübersicht!$F46="Umsetzung nicht möglich")),Planungsübersicht!F46," ") -> in Umsetzung (Anfang) | F81: =IF(AND(Planungsübersicht!$E46>1990,TYPE(Planungsübersicht!$E46)=1,NOT(Planungsübersicht!$F46="Umsetzung nicht möglich")),Planungsübersicht!G46," ") -> (Umweltgruppe) | G81: =IF(AND(Planungsübersicht!$E46>1990,TYPE(Planungsübersicht!$E46)=1,NOT(Planungsübersicht!$F46="Umsetzung nicht möglich")),Planungsübersicht!H46," ") -> 0 | H81: =IF(AND(Planungsübersicht!$E46>1990,TYPE(Planungsübersicht!$E46)=1,NOT(Planungsübersicht!$F46="Umsetzung nicht möglich")),MAX(Planungsübersicht!I46:Z46)," ") -> 0
B82: =IF(AND(Planungsübersicht!$E47>1990,TYPE(Planungsübersicht!$E47)=1,NOT(Planungsübersicht!$F47="Umsetzung nicht möglich")),Planungsübersicht!C47," ") | C82: =IF(AND(Planungsübersicht!$E47>1990,TYPE(Planungsübersicht!$E47)=1,NOT(Planungsübersicht!$F47="Umsetzung nicht möglich")),Planungsübersicht!D47," ") | D82: =IF(AND(Planungsübersicht!$E47>1990,TYPE(Planungsübersicht!$E47)=1,NOT(Planungsübersicht!$F47="Umsetzung nicht möglich")),Planungsübersicht!E47," ") | E82: =IF(AND(Planungsübersicht!$E47>1990,TYPE(Planungsübersicht!$E47)=1,NOT(Planungsübersicht!$F47="Umsetzung nicht möglich")),Planungsübersicht!F47," ") | F82: =IF(AND(Planungsübersicht!$E47>1990,TYPE(Planungsübersicht!$E47)=1,NOT(Planungsübersicht!$F47="Umsetzung nicht möglich")),Planungsübersicht!G47," ") | G82: =IF(AND(Planungsübersicht!$E47>1990,TYPE(Planungsübersicht!$E47)=1,NOT(Planungsübersicht!$F47="Umsetzung nicht möglich")),Planungsübersicht!H47," ") | H82: =IF(AND(Planungsübersicht!$E47>1990,TYPE(Planungsübersicht!$E47)=1,NOT(Planungsübersicht!$F47="Umsetzung nicht möglich")),MAX(Planungsübersicht!I47:Z47)," ")
B83: =IF(AND(Planungsübersicht!$E49>1990,TYPE(Planungsübersicht!$E49)=1,NOT(Planungsübersicht!$F49="Umsetzung nicht möglich")),Planungsübersicht!C49," ") | C83: =IF(AND(Planungsübersicht!$E49>1990,TYPE(Planungsübersicht!$E49)=1,NOT(Planungsübersicht!$F49="Umsetzung nicht möglich")),Planungsübersicht!D49," ") | D83: =IF(AND(Planungsübersicht!$E49>1990,TYPE(Planungsübersicht!$E49)=1,NOT(Planungsübersicht!$F49="Umsetzung nicht möglich")),Planungsübersicht!E49," ") | E83: =IF(AND(Planungsübersicht!$E49>1990,TYPE(Planungsübersicht!$E49)=1,NOT(Planungsübersicht!$F49="Umsetzung nicht möglich")),Planungsübersicht!F49," ") | F83: =IF(AND(Planungsübersicht!$E49>1990,TYPE(Planungsübersicht!$E49)=1,NOT(Planungsübersicht!$F49="Umsetzung nicht möglich")),Planungsübersicht!G49," ") | G83: =IF(AND(Planungsübersicht!$E49>1990,TYPE(Planungsübersicht!$E49)=1,NOT(Planungsübersicht!$F49="Umsetzung nicht möglich")),Planungsübersicht!H49," ") | H83: =IF(AND(Planungsübersicht!$E49>1990,TYPE(Planungsübersicht!$E49)=1,NOT(Planungsübersicht!$F49="Umsetzung nicht möglich")),MAX(Planungsübersicht!I49:Z49)," ")
B84: =IF(AND(Planungsübersicht!$E50>1990,TYPE(Planungsübersicht!$E50)=1,NOT(Planungsübersicht!$F50="Umsetzung nicht möglich")),Planungsübersicht!C50," ") -> Ü12 | C84: =IF(AND(Planungsübersicht!$E50>1990,TYPE(Planungsübersicht!$E50)=1,NOT(Planungsübersicht!$F50="Umsetzung nicht möglich")),Planungsübersicht!D50," ") -> Umwelt-AG | D84: =IF(AND(Planungsübersicht!$E50>1990,TYPE(Planungsübersicht!$E50)=1,NOT(Planungsübersicht!$F50="Umsetzung nicht möglich")),Planungsübersicht!E50," ") -> 2015 | E84: =IF(AND(Planungsübersicht!$E50>1990,TYPE(Planungsübersicht!$E50)=1,NOT(Planungsübersicht!$F50="Umsetzung nicht möglich")),Planungsübersicht!F50," ") -> wird laufend umgesetzt | F84: =IF(AND(Planungsübersicht!$E50>1990,TYPE(Planungsübersicht!$E50)=1,NOT(Planungsübersicht!$F50="Umsetzung nicht möglich")),Planungsübersicht!G50," ") -> Fr. Wrona (Umwelt-AG) | G84: =IF(AND(Planungsübersicht!$E50>1990,TYPE(Planungsübersicht!$E50)=1,NOT(Planungsübersicht!$F50="Umsetzung nicht möglich")),Planungsübersicht!H50," ") -> SchülerInnen der Unterstufe | H84: =IF(AND(Planungsübersicht!$E50>1990,TYPE(Planungsübersicht!$E50)=1,NOT(Planungsübersicht!$F50="Umsetzung nicht möglich")),MAX(Planungsübersicht!I50:Z50)," ") -> 0
B85: =IF(AND(Planungsübersicht!$E51>1990,TYPE(Planungsübersicht!$E51)=1,NOT(Planungsübersicht!$F51="Umsetzung nicht möglich")),Planungsübersicht!C51," ") | C85: =IF(AND(Planungsübersicht!$E51>1990,TYPE(Planungsübersicht!$E51)=1,NOT(Planungsübersicht!$F51="Umsetzung nicht möglich")),Planungsübersicht!D51," ") | D85: =IF(AND(Planungsübersicht!$E51>1990,TYPE(Planungsübersicht!$E51)=1,NOT(Planungsübersicht!$F51="Umsetzung nicht möglich")),Planungsübersicht!E51," ") | E85: =IF(AND(Planungsübersicht!$E51>1990,TYPE(Planungsübersicht!$E51)=1,NOT(Planungsübersicht!$F51="Umsetzung nicht möglich")),Planungsübersicht!F51," ") | F85: =IF(AND(Planungsübersicht!$E51>1990,TYPE(Planungsübersicht!$E51)=1,NOT(Planungsübersicht!$F51="Umsetzung nicht möglich")),Planungsübersicht!G51," ") | G85: =IF(AND(Planungsübersicht!$E51>1990,TYPE(Planungsübersicht!$E51)=1,NOT(Planungsübersicht!$F51="Umsetzung nicht möglich")),Planungsübersicht!H51," ") | H85: =IF(AND(Planungsübersicht!$E51>1990,TYPE(Planungsübersicht!$E51)=1,NOT(Planungsübersicht!$F51="Umsetzung nicht möglich")),MAX(Planungsübersicht!I51:Z51)," ")
B86: =IF(AND(Planungsübersicht!$E53>1990,TYPE(Planungsübersicht!$E53)=1,NOT(Planungsübersicht!$F53="Umsetzung nicht möglich")), Planungsübersicht!C53," ") | C86: =IF(AND(Planungsübersicht!$E53>1990,TYPE(Planungsübersicht!$E53)=1,NOT(Planungsübersicht!$F53="Umsetzung nicht möglich")), Planungsübersicht!D53," ") | D86: =IF(AND(Planungsübersicht!$E53>1990,TYPE(Planungsübersicht!$E53)=1,NOT(Planungsübersicht!$F53="Umsetzung nicht möglich")), Planungsübersicht!E53," ") | E86: =IF(AND(Planungsübersicht!$E53>1990,TYPE(Planungsübersicht!$E53)=1,NOT(Planungsübersicht!$F53="Umsetzung nicht möglich")), Planungsübersicht!F53," ") | F86: =IF(AND(Planungsübersicht!$E53>1990,TYPE(Planungsübersicht!$E53)=1,NOT(Planungsübersicht!$F53="Umsetzung nicht möglich")), Planungsübersicht!G53," ") | G86: =IF(AND(Planungsübersicht!$E53>1990,TYPE(Planungsübersicht!$E53)=1,NOT(Planungsübersicht!$F53="Umsetzung nicht möglich")), Planungsübersicht!H53," ") | H86: =IF(AND(Planungsübersicht!$E53>1990,TYPE(Planungsübersicht!$E53)=1,NOT(Planungsübersicht!$F53="Umsetzung nicht möglich")), MAX(Planungsübersicht!I53:Z53)," ")
B87: =IF(AND(Planungsübersicht!$E55>1990,TYPE(Planungsübersicht!$E55)=1,NOT(Planungsübersicht!$F55="Umsetzung nicht möglich")),Planungsübersicht!C55," ") | C87: =IF(AND(Planungsübersicht!$E55>1990,TYPE(Planungsübersicht!$E55)=1,NOT(Planungsübersicht!$F55="Umsetzung nicht möglich")),Planungsübersicht!D55," ") | D87: =IF(AND(Planungsübersicht!$E55>1990,TYPE(Planungsübersicht!$E55)=1,NOT(Planungsübersicht!$F55="Umsetzung nicht möglich")),Planungsübersicht!E55," ") | E87: =IF(AND(Planungsübersicht!$E55>1990,TYPE(Planungsübersicht!$E55)=1,NOT(Planungsübersicht!$F55="Umsetzung nicht möglich")),Planungsübersicht!F55," ") | F87: =IF(AND(Planungsübersicht!$E55>1990,TYPE(Planungsübersicht!$E55)=1,NOT(Planungsübersicht!$F55="Umsetzung nicht möglich")),Planungsübersicht!G55," ") | G87: =IF(AND(Planungsübersicht!$E55>1990,TYPE(Planungsübersicht!$E55)=1,NOT(Planungsübersicht!$F55="Umsetzung nicht möglich")),Planungsübersicht!H55," ") | H87: =IF(AND(Planungsübersicht!$E55>1990,TYPE(Planungsübersicht!$E55)=1,NOT(Planungsübersicht!$F55="Umsetzung nicht möglich")),MAX(Planungsübersicht!I55:Z55)," ")
B88: =IF(AND(Planungsübersicht!$E58>1990,TYPE(Planungsübersicht!$E58)=1,NOT(Planungsübersicht!$F58="Umsetzung nicht möglich")),Planungsübersicht!C58," ") -> Ü16 | C88: =IF(AND(Planungsübersicht!$E58>1990,TYPE(Planungsübersicht!$E58)=1,NOT(Planungsübersicht!$F58="Umsetzung nicht möglich")),Planungsübersicht!D58," ") -> Garten-AG | D88: =IF(AND(Planungsübersicht!$E58>1990,TYPE(Planungsübersicht!$E58)=1,NOT(Planungsübersicht!$F58="Umsetzung nicht möglich")),Planungsübersicht!E58," ") -> 2015 | E88: =IF(AND(Planungsübersicht!$E58>1990,TYPE(Planungsübersicht!$E58)=1,NOT(Planungsübersicht!$F58="Umsetzung nicht möglich")),Planungsübersicht!F58," ") -> wird laufend umgesetzt | F88: =IF(AND(Planungsübersicht!$E58>1990,TYPE(Planungsübersicht!$E58)=1,NOT(Planungsübersicht!$F58="Umsetzung nicht möglich")),Planungsübersicht!G58," ") -> Fr. Schneider (Garten-AG) | G88: =IF(AND(Planungsübersicht!$E58>1990,TYPE(Planungsübersicht!$E58)=1,NOT(Planungsübersicht!$F58="Umsetzung nicht möglich")),Planungsübersicht!H58," ") -> SchülerInnen der Unter- und Mittelstufe | H88: =IF(AND(Planungsübersicht!$E58>1990,TYPE(Planungsübersicht!$E58)=1,NOT(Planungsübersicht!$F58="Umsetzung nicht möglich")),MAX(Planungsübersicht!I58:Z58)," ") -> 0
B89: =IF(AND(Planungsübersicht!$E63>1990,TYPE(Planungsübersicht!$E63)=1,NOT(Planungsübersicht!$F63="Umsetzung nicht möglich")),Planungsübersicht!C63," ") | C89: =IF(AND(Planungsübersicht!$E63>1990,TYPE(Planungsübersicht!$E63)=1,NOT(Planungsübersicht!$F63="Umsetzung nicht möglich")),Planungsübersicht!D63," ") | D89: =IF(AND(Planungsübersicht!$E63>1990,TYPE(Planungsübersicht!$E63)=1,NOT(Planungsübersicht!$F63="Umsetzung nicht möglich")),Planungsübersicht!E63," ") | E89: =IF(AND(Planungsübersicht!$E63>1990,TYPE(Planungsübersicht!$E63)=1,NOT(Planungsübersicht!$F63="Umsetzung nicht möglich")),Planungsübersicht!F63," ") | F89: =IF(AND(Planungsübersicht!$E63>1990,TYPE(Planungsübersicht!$E63)=1,NOT(Planungsübersicht!$F63="Umsetzung nicht möglich")),Planungsübersicht!G63," ") | G89: =IF(AND(Planungsübersicht!$E63>1990,TYPE(Planungsübersicht!$E63)=1,NOT(Planungsübersicht!$F63="Umsetzung nicht möglich")),Planungsübersicht!H63," ") | H89: =IF(AND(Planungsübersicht!$E63>1990,TYPE(Planungsübersicht!$E63)=1,NOT(Planungsübersicht!$F63="Umsetzung nicht möglich")),MAX(Planungsübersicht!I63:Z63)," ")
B90: =IF(AND(Planungsübersicht!$E66>1990,TYPE(Planungsübersicht!$E66)=1,NOT(Planungsübersicht!$F66="Umsetzung nicht möglich")),Planungsübersicht!C66," ") | C90: =IF(AND(Planungsübersicht!$E66>1990,TYPE(Planungsübersicht!$E66)=1,NOT(Planungsübersicht!$F66="Umsetzung nicht möglich")),Planungsübersicht!D66," ") | D90: =IF(AND(Planungsübersicht!$E66>1990,TYPE(Planungsübersicht!$E66)=1,NOT(Planungsübersicht!$F66="Umsetzung nicht möglich")),Planungsübersicht!E66," ") | E90: =IF(AND(Planungsübersicht!$E66>1990,TYPE(Planungsübersicht!$E66)=1,NOT(Planungsübersicht!$F66="Umsetzung nicht möglich")),Planungsübersicht!F66," ") | F90: =IF(AND(Planungsübersicht!$E66>1990,TYPE(Planungsübersicht!$E66)=1,NOT(Planungsübersicht!$F66="Umsetzung nicht möglich")),Planungsübersicht!G66," ") | G90: =IF(AND(Planungsübersicht!$E66>1990,TYPE(Planungsübersicht!$E66)=1,NOT(Planungsübersicht!$F66="Umsetzung nicht möglich")),Planungsübersicht!H66," ") | H90: =IF(AND(Planungsübersicht!$E66>1990,TYPE(Planungsübersicht!$E66)=1,NOT(Planungsübersicht!$F66="Umsetzung nicht möglich")),MAX(Planungsübersicht!I66:Z66)," ")
B91: =IF(AND(Planungsübersicht!$E67>1990,TYPE(Planungsübersicht!$E67)=1,NOT(Planungsübersicht!$F67="Umsetzung nicht möglich")),Planungsübersicht!C67," ") | C91: =IF(AND(Planungsübersicht!$E67>1990,TYPE(Planungsübersicht!$E67)=1,NOT(Planungsübersicht!$F67="Umsetzung nicht möglich")),Planungsübersicht!D67," ") | D91: =IF(AND(Planungsübersicht!$E67>1990,TYPE(Planungsübersicht!$E67)=1,NOT(Planungsübersicht!$F67="Umsetzung nicht möglich")),Planungsübersicht!E67," ") | E91: =IF(AND(Planungsübersicht!$E67>1990,TYPE(Planungsübersicht!$E67)=1,NOT(Planungsübersicht!$F67="Umsetzung nicht möglich")),Planungsübersicht!F67," ") | F91: =IF(AND(Planungsübersicht!$E67>1990,TYPE(Planungsübersicht!$E67)=1,NOT(Planungsübersicht!$F67="Umsetzung nicht möglich")),Planungsübersicht!G67," ") | G91: =IF(AND(Planungsübersicht!$E67>1990,TYPE(Planungsübersicht!$E67)=1,NOT(Planungsübersicht!$F67="Umsetzung nicht möglich")),Planungsübersicht!H67," ") | H91: =IF(AND(Planungsübersicht!$E67>1990,TYPE(Planungsübersicht!$E67)=1,NOT(Planungsübersicht!$F67="Umsetzung nicht möglich")),MAX(Planungsübersicht!I67:Z67)," ")
B92: =IF(AND(Planungsübersicht!$E68>1990,TYPE(Planungsübersicht!$E68)=1,NOT(Planungsübersicht!$F68="Umsetzung nicht möglich")),Planungsübersicht!C68," ") -> Ü17 | C92: =IF(AND(Planungsübersicht!$E68>1990,TYPE(Planungsübersicht!$E68)=1,NOT(Planungsübersicht!$F68="Umsetzung nicht möglich")),Planungsübersicht!D68," ") -> NEU 2026: Einbindung des naturnahen Schulhofs ins Curriculum | D92: =IF(AND(Planungsübersicht!$E68>1990,TYPE(Planungsübersicht!$E68)=1,NOT(Planungsübersicht!$F68="Umsetzung nicht möglich")),Planungsübersicht!E68," ") -> 2026 | E92: =IF(AND(Planungsübersicht!$E68>1990,TYPE(Planungsübersicht!$E68)=1,NOT(Planungsübersicht!$F68="Umsetzung nicht möglich")),Planungsübersicht!F68," ") -> in Umsetzung (Anfang) | F92: =IF(AND(Planungsübersicht!$E68>1990,TYPE(Planungsübersicht!$E68)=1,NOT(Planungsübersicht!$F68="Umsetzung nicht möglich")),Planungsübersicht!G68," ") -> Fr. Schneider | G92: =IF(AND(Planungsübersicht!$E68>1990,TYPE(Planungsübersicht!$E68)=1,NOT(Planungsübersicht!$F68="Umsetzung nicht möglich")),Planungsübersicht!H68," ") -> SchülerInnen und Lehrkäfte der Unterstufe | H92: =IF(AND(Planungsübersicht!$E68>1990,TYPE(Planungsübersicht!$E68)=1,NOT(Planungsübersicht!$F68="Umsetzung nicht möglich")),MAX(Planungsübersicht!I68:Z68)," ") -> 0
B93: =IF(AND(Planungsübersicht!$E69>1990,TYPE(Planungsübersicht!$E69)=1,NOT(Planungsübersicht!$F69="Umsetzung nicht möglich")),Planungsübersicht!C69," ") | C93: =IF(AND(Planungsübersicht!$E69>1990,TYPE(Planungsübersicht!$E69)=1,NOT(Planungsübersicht!$F69="Umsetzung nicht möglich")),Planungsübersicht!D69," ") | D93: =IF(AND(Planungsübersicht!$E69>1990,TYPE(Planungsübersicht!$E69)=1,NOT(Planungsübersicht!$F69="Umsetzung nicht möglich")),Planungsübersicht!E69," ") | E93: =IF(AND(Planungsübersicht!$E69>1990,TYPE(Planungsübersicht!$E69)=1,NOT(Planungsübersicht!$F69="Umsetzung nicht möglich")),Planungsübersicht!F69," ") | F93: =IF(AND(Planungsübersicht!$E69>1990,TYPE(Planungsübersicht!$E69)=1,NOT(Planungsübersicht!$F69="Umsetzung nicht möglich")),Planungsübersicht!G69," ") | G93: =IF(AND(Planungsübersicht!$E69>1990,TYPE(Planungsübersicht!$E69)=1,NOT(Planungsübersicht!$F69="Umsetzung nicht möglich")),Planungsübersicht!H69," ") | H93: =IF(AND(Planungsübersicht!$E69>1990,TYPE(Planungsübersicht!$E69)=1,NOT(Planungsübersicht!$F69="Umsetzung nicht möglich")),MAX(Planungsübersicht!I69:Z69)," ")
B94: =IF(AND(Planungsübersicht!$E70>1990,TYPE(Planungsübersicht!$E70)=1,NOT(Planungsübersicht!$F70="Umsetzung nicht möglich")),Planungsübersicht!C70," ") | C94: =IF(AND(Planungsübersicht!$E70>1990,TYPE(Planungsübersicht!$E70)=1,NOT(Planungsübersicht!$F70="Umsetzung nicht möglich")),Planungsübersicht!D70," ") | D94: =IF(AND(Planungsübersicht!$E70>1990,TYPE(Planungsübersicht!$E70)=1,NOT(Planungsübersicht!$F70="Umsetzung nicht möglich")),Planungsübersicht!E70," ") | E94: =IF(AND(Planungsübersicht!$E70>1990,TYPE(Planungsübersicht!$E70)=1,NOT(Planungsübersicht!$F70="Umsetzung nicht möglich")),Planungsübersicht!F70," ") | F94: =IF(AND(Planungsübersicht!$E70>1990,TYPE(Planungsübersicht!$E70)=1,NOT(Planungsübersicht!$F70="Umsetzung nicht möglich")),Planungsübersicht!G70," ") | G94: =IF(AND(Planungsübersicht!$E70>1990,TYPE(Planungsübersicht!$E70)=1,NOT(Planungsübersicht!$F70="Umsetzung nicht möglich")),Planungsübersicht!H70," ") | H94: =IF(AND(Planungsübersicht!$E70>1990,TYPE(Planungsübersicht!$E70)=1,NOT(Planungsübersicht!$F70="Umsetzung nicht möglich")),MAX(Planungsübersicht!I70:Z70)," ")
B95: =IF(AND(Planungsübersicht!$E71>1990,TYPE(Planungsübersicht!$E71)=1,NOT(Planungsübersicht!$F71="Umsetzung nicht möglich")),Planungsübersicht!C71," ") | C95: =IF(AND(Planungsübersicht!$E71>1990,TYPE(Planungsübersicht!$E71)=1,NOT(Planungsübersicht!$F71="Umsetzung nicht möglich")),Planungsübersicht!D71," ") | D95: =IF(AND(Planungsübersicht!$E71>1990,TYPE(Planungsübersicht!$E71)=1,NOT(Planungsübersicht!$F71="Umsetzung nicht möglich")),Planungsübersicht!E71," ") | E95: =IF(AND(Planungsübersicht!$E71>1990,TYPE(Planungsübersicht!$E71)=1,NOT(Planungsübersicht!$F71="Umsetzung nicht möglich")),Planungsübersicht!F71," ") | F95: =IF(AND(Planungsübersicht!$E71>1990,TYPE(Planungsübersicht!$E71)=1,NOT(Planungsübersicht!$F71="Umsetzung nicht möglich")),Planungsübersicht!G71," ") | G95: =IF(AND(Planungsübersicht!$E71>1990,TYPE(Planungsübersicht!$E71)=1,NOT(Planungsübersicht!$F71="Umsetzung nicht möglich")),Planungsübersicht!H71," ") | H95: =IF(AND(Planungsübersicht!$E71>1990,TYPE(Planungsübersicht!$E71)=1,NOT(Planungsübersicht!$F71="Umsetzung nicht möglich")),MAX(Planungsübersicht!I71:Z71)," ")
B96: =IF(AND(Planungsübersicht!$E72>1990,TYPE(Planungsübersicht!$E72)=1,NOT(Planungsübersicht!$F72="Umsetzung nicht möglich")),Planungsübersicht!C72," ") | C96: =IF(AND(Planungsübersicht!$E72>1990,TYPE(Planungsübersicht!$E72)=1,NOT(Planungsübersicht!$F72="Umsetzung nicht möglich")),Planungsübersicht!D72," ") | D96: =IF(AND(Planungsübersicht!$E72>1990,TYPE(Planungsübersicht!$E72)=1,NOT(Planungsübersicht!$F72="Umsetzung nicht möglich")),Planungsübersicht!E72," ") | E96: =IF(AND(Planungsübersicht!$E72>1990,TYPE(Planungsübersicht!$E72)=1,NOT(Planungsübersicht!$F72="Umsetzung nicht möglich")),Planungsübersicht!F72," ") | F96: =IF(AND(Planungsübersicht!$E72>1990,TYPE(Planungsübersicht!$E72)=1,NOT(Planungsübersicht!$F72="Umsetzung nicht möglich")),Planungsübersicht!G72," ") | G96: =IF(AND(Planungsübersicht!$E72>1990,TYPE(Planungsübersicht!$E72)=1,NOT(Planungsübersicht!$F72="Umsetzung nicht möglich")),Planungsübersicht!H72," ") | H96: =IF(AND(Planungsübersicht!$E72>1990,TYPE(Planungsübersicht!$E72)=1,NOT(Planungsübersicht!$F72="Umsetzung nicht möglich")),MAX(Planungsübersicht!I72:Z72)," ")
B97: =IF(AND(Planungsübersicht!$E73>1990,TYPE(Planungsübersicht!$E73)=1,NOT(Planungsübersicht!$F73="Umsetzung nicht möglich")),Planungsübersicht!C73," ") | C97: =IF(AND(Planungsübersicht!$E73>1990,TYPE(Planungsübersicht!$E73)=1,NOT(Planungsübersicht!$F73="Umsetzung nicht möglich")),Planungsübersicht!D73," ") | D97: =IF(AND(Planungsübersicht!$E73>1990,TYPE(Planungsübersicht!$E73)=1,NOT(Planungsübersicht!$F73="Umsetzung nicht möglich")),Planungsübersicht!E73," ") | E97: =IF(AND(Planungsübersicht!$E73>1990,TYPE(Planungsübersicht!$E73)=1,NOT(Planungsübersicht!$F73="Umsetzung nicht möglich")),Planungsübersicht!F73," ") | F97: =IF(AND(Planungsübersicht!$E73>1990,TYPE(Planungsübersicht!$E73)=1,NOT(Planungsübersicht!$F73="Umsetzung nicht möglich")),Planungsübersicht!G73," ") | G97: =IF(AND(Planungsübersicht!$E73>1990,TYPE(Planungsübersicht!$E73)=1,NOT(Planungsübersicht!$F73="Umsetzung nicht möglich")),Planungsübersicht!H73," ") | H97: =IF(AND(Planungsübersicht!$E73>1990,TYPE(Planungsübersicht!$E73)=1,NOT(Planungsübersicht!$F73="Umsetzung nicht möglich")),MAX(Planungsübersicht!I73:Z73)," ")
B98: =IF(AND(Planungsübersicht!$E74>1990,TYPE(Planungsübersicht!$E74)=1,NOT(Planungsübersicht!$F74="Umsetzung nicht möglich")),Planungsübersicht!C74," ") | C98: =IF(AND(Planungsübersicht!$E74>1990,TYPE(Planungsübersicht!$E74)=1,NOT(Planungsübersicht!$F74="Umsetzung nicht möglich")),Planungsübersicht!D74," ") | D98: =IF(AND(Planungsübersicht!$E74>1990,TYPE(Planungsübersicht!$E74)=1,NOT(Planungsübersicht!$F74="Umsetzung nicht möglich")),Planungsübersicht!E74," ") | E98: =IF(AND(Planungsübersicht!$E74>1990,TYPE(Planungsübersicht!$E74)=1,NOT(Planungsübersicht!$F74="Umsetzung nicht möglich")),Planungsübersicht!F74," ") | F98: =IF(AND(Planungsübersicht!$E74>1990,TYPE(Planungsübersicht!$E74)=1,NOT(Planungsübersicht!$F74="Umsetzung nicht möglich")),Planungsübersicht!G74," ") | G98: =IF(AND(Planungsübersicht!$E74>1990,TYPE(Planungsübersicht!$E74)=1,NOT(Planungsübersicht!$F74="Umsetzung nicht möglich")),Planungsübersicht!H74," ") | H98: =IF(AND(Planungsübersicht!$E74>1990,TYPE(Planungsübersicht!$E74)=1,NOT(Planungsübersicht!$F74="Umsetzung nicht möglich")),MAX(Planungsübersicht!I74:Z74)," ")
B99: =IF(AND(Planungsübersicht!$E75>1990,TYPE(Planungsübersicht!$E75)=1,NOT(Planungsübersicht!$F75="Umsetzung nicht möglich")),Planungsübersicht!C75," ") | C99: =IF(AND(Planungsübersicht!$E75>1990,TYPE(Planungsübersicht!$E75)=1,NOT(Planungsübersicht!$F75="Umsetzung nicht möglich")),Planungsübersicht!D75," ") | D99: =IF(AND(Planungsübersicht!$E75>1990,TYPE(Planungsübersicht!$E75)=1,NOT(Planungsübersicht!$F75="Umsetzung nicht möglich")),Planungsübersicht!E75," ") | E99: =IF(AND(Planungsübersicht!$E75>1990,TYPE(Planungsübersicht!$E75)=1,NOT(Planungsübersicht!$F75="Umsetzung nicht möglich")),Planungsübersicht!F75," ") | F99: =IF(AND(Planungsübersicht!$E75>1990,TYPE(Planungsübersicht!$E75)=1,NOT(Planungsübersicht!$F75="Umsetzung nicht möglich")),Planungsübersicht!G75," ") | G99: =IF(AND(Planungsübersicht!$E75>1990,TYPE(Planungsübersicht!$E75)=1,NOT(Planungsübersicht!$F75="Umsetzung nicht möglich")),Planungsübersicht!H75," ") | H99: =IF(AND(Planungsübersicht!$E75>1990,TYPE(Planungsübersicht!$E75)=1,NOT(Planungsübersicht!$F75="Umsetzung nicht möglich")),MAX(Planungsübersicht!I75:Z75)," ")
B100: =IF(AND(Planungsübersicht!$E76>1990,TYPE(Planungsübersicht!$E76)=1,NOT(Planungsübersicht!$F76="Umsetzung nicht möglich")),Planungsübersicht!C76," ") | C100: =IF(AND(Planungsübersicht!$E76>1990,TYPE(Planungsübersicht!$E76)=1,NOT(Planungsübersicht!$F76="Umsetzung nicht möglich")),Planungsübersicht!D76," ") | D100: =IF(AND(Planungsübersicht!$E76>1990,TYPE(Planungsübersicht!$E76)=1,NOT(Planungsübersicht!$F76="Umsetzung nicht möglich")),Planungsübersicht!E76," ") | E100: =IF(AND(Planungsübersicht!$E76>1990,TYPE(Planungsübersicht!$E76)=1,NOT(Planungsübersicht!$F76="Umsetzung nicht möglich")),Planungsübersicht!F76," ") | F100: =IF(AND(Planungsübersicht!$E76>1990,TYPE(Planungsübersicht!$E76)=1,NOT(Planungsübersicht!$F76="Umsetzung nicht möglich")),Planungsübersicht!G76," ") | G100: =IF(AND(Planungsübersicht!$E76>1990,TYPE(Planungsübersicht!$E76)=1,NOT(Planungsübersicht!$F76="Umsetzung nicht möglich")),Planungsübersicht!H76," ") | H100: =IF(AND(Planungsübersicht!$E76>1990,TYPE(Planungsübersicht!$E76)=1,NOT(Planungsübersicht!$F76="Umsetzung nicht möglich")),MAX(Planungsübersicht!I76:Z76)," ")
B101: =IF(AND(Planungsübersicht!$E77>1990,TYPE(Planungsübersicht!$E77)=1,NOT(Planungsübersicht!$F77="Umsetzung nicht möglich")),Planungsübersicht!C77," ") | C101: =IF(AND(Planungsübersicht!$E77>1990,TYPE(Planungsübersicht!$E77)=1,NOT(Planungsübersicht!$F77="Umsetzung nicht möglich")),Planungsübersicht!D77," ") | D101: =IF(AND(Planungsübersicht!$E77>1990,TYPE(Planungsübersicht!$E77)=1,NOT(Planungsübersicht!$F77="Umsetzung nicht möglich")),Planungsübersicht!E77," ") | E101: =IF(AND(Planungsübersicht!$E77>1990,TYPE(Planungsübersicht!$E77)=1,NOT(Planungsübersicht!$F77="Umsetzung nicht möglich")),Planungsübersicht!F77," ") | F101: =IF(AND(Planungsübersicht!$E77>1990,TYPE(Planungsübersicht!$E77)=1,NOT(Planungsübersicht!$F77="Umsetzung nicht möglich")),Planungsübersicht!G77," ") | G101: =IF(AND(Planungsübersicht!$E77>1990,TYPE(Planungsübersicht!$E77)=1,NOT(Planungsübersicht!$F77="Umsetzung nicht möglich")),Planungsübersicht!H77," ") | H101: =IF(AND(Planungsübersicht!$E77>1990,TYPE(Planungsübersicht!$E77)=1,NOT(Planungsübersicht!$F77="Umsetzung nicht möglich")),MAX(Planungsübersicht!I77:Z77)," ")
...

Sheet Energieverbräuche
B2: Energieverbräuche
C3: Gebäudeteil | D3: =Planungsübersicht!G13 -> 2007 | E3: =D3+1 -> 2008 | F3: =E3+1 -> 2009 | G3: =F3+1 -> 2010 | H3: =G3+1 -> 2011 | I3: =H3+1 -> 2012 | J3: =I3+1 -> 2013 | K3: =J3+1 -> 2014 | L3: =K3+1 -> 2015 | ... AU3: =AT3+1 -> 2050
B5: Strom 1 | C5: Schule | D5: 119633 | E5: 124327 | F5: 114904 | G5: 129296 | H5: 122127 | I5: 134414 | J5: 142322 | K5: 117365 | L5: 123309 | M5: 106907 | N5: 108483 | O5: 115000 | P5: =(2.985726+105.99108)*1000 -> 108976.81 | Q5: 102000 | R5: 94000 | S5: 117568.96 | T5: 117087.05 | U5: 118100.09 | V5: 107055.67
B6: Strom 2
B7: Strom 3
C8: Summe Strom: | D8: =SUM(D5:D7) -> 119633 | E8: =SUM(E5:E7) -> 124327 | F8: =SUM(F5:F7) -> 114904 | G8: =SUM(G5:G7) -> 129296 | H8: =SUM(H5:H7) -> 122127 | I8: =SUM(I5:I7) -> 134414 | J8: =SUM(J5:J7) -> 142322 | K8: =SUM(K5:K7) -> 117365 | ... AU8: =SUM(AU5:AU7) -> 0
B10: Gasheizung 1
B11: Gasheizung 2
B12: Gasheizung 3
B14: Fernwärmeheizung 1 | C14: Schule | D14: 1061 | E14: 995 | F14: 996 | G14: 1092 | H14: 853 | I14: 900 | J14: 981 | K14: 783.8 | L14: 812.62 | M14: 867.91 | N14: 897.46 | O14: 956 | P14: 905 | Q14: 818 | R14: 1036 | S14: 1022.423 | T14: 863.937 | U14: 967.389 | V14: 998.806
B15: Fernwärmeheizung 2
B16: Fernwärmeheizung 3
C17: Summe Heizenergie: | D17: =(D10+D11+D12)*11+(D14+D15+D16)*1000 -> 1061000 | E17: =(E10+E11+E12)*11+(E14+E15+E16)*1000 -> 995000 | F17: =(F10+F11+F12)*11+(F14+F15+F16)*1000 -> 996000 | G17: =(G10+G11+G12)*11+(G14+G15+G16)*1000 -> 1092000 | H17: =(H10+H11+H12)*11+(H14+H15+H16)*1000 -> 853000 | I17: =(I10+I11+I12)*11+(I14+I15+I16)*1000 -> 900000 | J17: =(J10+J11+J12)*11+(J14+J15+J16)*1000 -> 981000 | K17: =(K10+K11+K12)*11+(K14+K15+K16)*1000 -> 783800 | ... AU17: =(AU10+AU11+AU12)*11+(AU14+AU15+AU16)*1000 -> 0
B19: PV-Anlage 1 | C19: auf Fachhaus-Gebäude | J19: 2363 | K19: 769 | L19: 758 | M19: 707.8 | N19: 440.28 | O19: 383.87 | P19: 332.89 | Q19: 415 | R19: 313 | S19: 367.64 | T19: 318.52
B20: PV-Anlage 2 | C20: auf H-Gebäude | H20: 8660 | I20: 8123 | J20: 8101 | K20: 10799 | L20: 10085 | M20: 9878.49 | N20: 9421.74 | O20: 11055.4 | P20: 10222.53 | Q20: 3814 | R20: 3558
B21: PV-Anlage 3
C22: Summe PV-Anlagen: | D22: =SUM(D19:D21) -> 0 | E22: =SUM(E19:E21) -> 0 | F22: =SUM(F19:F21) -> 0 | G22: =SUM(G19:G21) -> 0 | H22: =SUM(H19:H21) -> 8660 | I22: =SUM(I19:I21) -> 8123 | J22: =SUM(J19:J21) -> 10464 | K22: =SUM(K19:K21) -> 11568 | ... AU22: =SUM(AU19:AU21) -> 0
B24: Restmüll Standort 1 | C24: Schule | D24: 458 | E24: 458 | F24: =E24 -> 458
B25: Restmüll Standort 2
B26: Restmüll Standort 3
C27: Summe Restmüll: | D27: =SUM(D24:D26) -> 458 | E27: =SUM(E24:E26) -> 458 | F27: =SUM(F24:F26) -> 458 | G27: =SUM(G24:G26) -> 0 | H27: =SUM(H24:H26) -> 0 | I27: =SUM(I24:I26) -> 0 | J27: =SUM(J24:J26) -> 0 | K27: =SUM(K24:K26) -> 0 | ... AU27: =SUM(AU24:AU26) -> 0

Sheet CO2-Schulbilanz
D2: CO2-Schulbilanz: | E2: =Planungsübersicht!D4 -> Lise-Meitner-Gymnasium | G2: bis 2030 | H2: 2031 bis 2050
F4: geplante jährliche Minderung: | G4: =1-(1-Planungsübersicht!G11)^(1/(2030-Planungsübersicht!G13)) -> 0.018555381 | H4: =1-((1-Planungsübersicht!G12)/(1-G4)^(2030-E6))^(1/20) -> 0.022352799
E6: =+Energieverbräuche!D3 -> 2007 | F6: =+Energieverbräuche!E3 -> 2008 | G6: =+Energieverbräuche!F3 -> 2009 | H6: =+Energieverbräuche!G3 -> 2010 | I6: =+Energieverbräuche!H3 -> 2011 | J6: =+Energieverbräuche!I3 -> 2012 | K6: =+Energieverbräuche!J3 -> 2013 | L6: =+Energieverbräuche!K3 -> 2014 | ... AV6: =+Energieverbräuche!AU3 -> 2050
D7: Emissions-Ziel | E7: =E8 -> 298086.39 | F7: =E7*(1-IF(F6<2031,$G$4,$H$4)) -> 292555.28 | G7: =F7*(1-IF(G6<2031,$G$4,$H$4)) -> 287126.81 | H7: =G7*(1-IF(H6<2031,$G$4,$H$4)) -> 281799.06 | I7: =H7*(1-IF(I6<2031,$G$4,$H$4)) -> 276570.17 | J7: =I7*(1-IF(J6<2031,$G$4,$H$4)) -> 271438.31 | K7: =J7*(1-IF(K6<2031,$G$4,$H$4)) -> 266401.66 | L7: =K7*(1-IF(L6<2031,$G$4,$H$4)) -> 261458.48 | M7: =L7*(1-IF(M6<2031,$G$4,$H$4)) -> 256607.02 | ... AV7: =AU7*(1-IF(AV6<2031,$G$4,$H$4)) -> 123281.73
D8: reale Emission | E8: =E15 -> 298086.39 | F8: =F15 -> 288576.29 | G8: =G15 -> 283735.83 | H8: =H15 -> 267658.77 | I8: =I15 -> 215723.91 | J8: =J15 -> 231113.1 | K8: =K15 -> 248822.31 | L8: =L15 -> 199041.4 | ... AV8: =AV15 -> 0
D10: geplante Reduktion gegenüber Vorjahr: | F10: =F7-E7 -> -5531.1066 | G10: =G7-F7 -> -5428.4748 | H10: =H7-G7 -> -5327.7474 | I10: =I7-H7 -> -5228.889 | J10: =J7-I7 -> -5131.865 | K10: =K7-J7 -> -5036.6413 | L10: =L7-K7 -> -4943.1845 | M10: =M7-L7 -> -4851.4618 | ... AV10: =AV7-AU7 -> -2818.6976
D11: reale Reduktion gegenüber Vorjahr: | F11: =IF(F8=0,"",F8-E8) -> -9510.098 | G11: =IF(G8=0,"",G8-F8) -> -4840.459 | H11: =IF(H8=0,"",H8-G8) -> -16077.064 | I11: =IF(I8=0,"",I8-H8) -> -51934.857 | J11: =IF(J8=0,"",J8-I8) -> 15389.192 | K11: =IF(K8=0,"",K8-J8) -> 17709.211 | L11: =IF(L8=0,"",L8-K8) -> -49780.913 | M11: =IF(M8=0,"",M8-L8) -> 8799.817 | ... AV11: =IF(AV8=0,"",AV8-AU8)
D12: geplanten Reduktion gegenüber Anfangsjahr: | F12: =F7-$E7 -> -5531.1066 | G12: =G7-$E7 -> -10959.581 | H12: =H7-$E7 -> -16287.329 | I12: =I7-$E7 -> -21516.218 | J12: =J7-$E7 -> -26648.083 | K12: =K7-$E7 -> -31684.724 | L12: =L7-$E7 -> -36627.909 | M12: =M7-$E7 -> -41479.37 | ... AV12: =AV7-$E7 -> -174804.66
D13: reale Reduktion gegenüber Anfangsjahr: | F13: =IF(F8=0,"",F8-$E8) -> -9510.098 | G13: =IF(G8=0,"",G8-$E8) -> -14350.557 | H13: =IF(H8=0,"",H8-$E8) -> -30427.621 | I13: =IF(I8=0,"",I8-$E8) -> -82362.478 | J13: =IF(J8=0,"",J8-$E8) -> -66973.286 | K13: =IF(K8=0,"",K8-$E8) -> -49264.075 | L13: =IF(L8=0,"",L8-$E8) -> -99044.988 | M13: =IF(M8=0,"",M8-$E8) -> -90245.171 | ... AV13: =IF(AV8=0,"",AV8-$E8)
B15: Summe CO2-Emissionen: | E15: =IF(SUM(E17:E26)=0,"",SUM(E17:E26)) -> 298086.39 | F15: =SUM(F17:F26) -> 288576.29 | G15: =SUM(G17:G26) -> 283735.83 | H15: =SUM(H17:H26) -> 267658.77 | I15: =SUM(I17:I26) -> 215723.91 | J15: =SUM(J17:J26) -> 231113.1 | K15: =SUM(K17:K26) -> 248822.31 | L15: =SUM(L17:L26) -> 199041.4 | M15: =SUM(M17:M26) -> 207841.22 | ... Y15: =SUM(Y17:Y26) -> 0
D16: Umrechnungsfaktor
A17: =IF(E17>0,CONCATENATE(C17,", "),"") -> Strom, | B17: 1 | C17: Strom | D17: 0.533 | E17: =+Energieverbräuche!D8*E27 -> 63764.389 | F17: =+Energieverbräuche!E8*F27 -> 66266.291 | G17: =+Energieverbräuche!F8*G27 -> 61243.832 | H17: =+Energieverbräuche!G8*H27 -> 68914.768 | I17: =+Energieverbräuche!H8*I27 -> 65093.691 | J17: =+Energieverbräuche!I8*J27 -> 71642.662 | K17: =+Energieverbräuche!J8*K27 -> 75857.626 | L17: =+Energieverbräuche!K8*L27 -> 62555.545 | ... AV17: =+Energieverbräuche!AU8*AV27 -> 0
A18: =IF(E18>0,CONCATENATE(C18,", "),"") -> Heizenergie, | B18: 2 | C18: Heizenergie | D18: 0.182 | E18: =+Energieverbräuche!D17*E28 -> 193102 | F18: =+Energieverbräuche!E17*F28 -> 181090 | G18: =+Energieverbräuche!F17*G28 -> 181272 | H18: =+Energieverbräuche!G17*H28 -> 198744 | I18: =+Energieverbräuche!H17*I28 -> 155246 | J18: =+Energieverbräuche!I17*J28 -> 163800 | K18: =+Energieverbräuche!J17*K28 -> 178542 | L18: =+Energieverbräuche!K17*L28 -> 142651.6 | ... AV18: =+Energieverbräuche!AU17*AV28 -> 0
A19: =IF(E19>0,CONCATENATE(C19,", "),"") | B19: 3 | C19: PV-Anlage | D19: =D17 -> 0.533 | E19: =(+Energieverbräuche!D22*$D$19)*(-1) -> 0 | F19: =(+Energieverbräuche!E22*$D$19)*(-1) -> 0 | G19: =(+Energieverbräuche!F22*$D$19)*(-1) -> 0 | H19: =(+Energieverbräuche!G22*$D$19)*(-1) -> 0 | I19: =(+Energieverbräuche!H22*$D$19)*(-1) -> -4615.78 | J19: =(+Energieverbräuche!I22*$D$19)*(-1) -> -4329.559 | K19: =(+Energieverbräuche!J22*$D$19)*(-1) -> -5577.312 | L19: =(+Energieverbräuche!K22*$D$19)*(-1) -> -6165.744 | ... AV19: =(+Energieverbräuche!AU22*$D$19)*(-1) -> 0
A20: =IF(E20>0,CONCATENATE(C20,", "),"") | B20: 4 | C20: Solarthermie | D20: =D18 -> 0.182
A21: =IF(E21>0,CONCATENATE(C21,", "),"") | B21: 5 | C21: Mobilität
A22: =IF(E22>0,CONCATENATE(C22,", "),"") -> Abfall, | B22: 6 | C22: Abfall | D22: 90 | E22: =$D$22*Energieverbräuche!D27 -> 41220 | F22: =$D$22*Energieverbräuche!E27 -> 41220 | G22: =$D$22*Energieverbräuche!F27 -> 41220 | H22: =$D$22*Energieverbräuche!G27 -> 0 | I22: =$D$22*Energieverbräuche!H27 -> 0 | J22: =$D$22*Energieverbräuche!I27 -> 0 | K22: =$D$22*Energieverbräuche!J27 -> 0 | L22: =$D$22*Energieverbräuche!K27 -> 0 | ... AV22: =$D$22*Energieverbräuche!AU27 -> 0
A23: =IF(E23>0,CONCATENATE(C23,", "),"") | B23: 7 | C23: Papier | D23: 0,6-2,4 kg/Packung (500 Blatt)
A24: =IF(E24>0,CONCATENATE(C24,", "),"") | B24: 8 | C24: Ernährung | D24: 0,25 (Veg.) - 0,5 kg/Mensaessen
A25: =IF(E25>0,CONCATENATE(C25,", "),"") | B25: 9
A26: =IF(E26>0,CONCATENATE(C26,", "),"") | B26: 10
A27: =CONCATENATE("CO2-Emissionen für ", A17,A18,A19,A20,A21,A22,A23,A24,A25,A26) -> CO2-Emissionen für Strom, Heizenergie, Abfall, | C27: Anpassung Emissionsfaktor Strom | E27: =D17 -> 0.533 | F27: =E27 -> 0.533 | G27: =F27 -> 0.533 | H27: =G27 -> 0.533 | I27: =H27 -> 0.533 | J27: =I27 -> 0.533 | K27: =J27 -> 0.533 | L27: =K27 -> 0.533 | M27: =L27 -> 0.533 | ... AV27: =AU27 -> 0.533
C28: Anpassung Emissionsfaktor Wärme | E28: =D18 -> 0.182 | F28: =E28 -> 0.182 | G28: =F28 -> 0.182 | H28: =G28 -> 0.182 | I28: =H28 -> 0.182 | J28: =I28 -> 0.182 | K28: =J28 -> 0.182 | L28: =K28 -> 0.182 | M28: =L28 -> 0.182 | ... AV28: =AU28 -> 0.182

Sheet Erfolge
C2: ab | D2: ab | E2: ab | F2: ab | G2: ab | H2: ab | I2: ab | J2: ab | K2: ab | L2: ab | M2: ab | N2: ab | O2: ab | P2: ab | Q2: ab | R2: ab | S2: ab | T2: ab
C3: =Planungsübersicht!I9 -> 2013 | D3: =Planungsübersicht!J9 -> 2015 | E3: =Planungsübersicht!K9 -> 2020 | F3: =Planungsübersicht!L9 -> 2022 | G3: =Planungsübersicht!M9 -> 2024 | H3: =Planungsübersicht!N9 -> 2026 | I3: =Planungsübersicht!O9 -> 2028 | J3: =Planungsübersicht!P9 -> 2030 | ... T3: =Planungsübersicht!Z9 -> 2050
B4: CO2-Einsparungen durch Maßnahmen: | C4: =-Planungsübersicht!I17 -> 71378 | D4: =-Planungsübersicht!J17 -> 96255 | E4: =-Planungsübersicht!K17 -> 96555 | F4: =-Planungsübersicht!L17 -> 96955 | G4: =-Planungsübersicht!M17 -> 96955 | H4: =-Planungsübersicht!N17 -> 96955 | I4: =-Planungsübersicht!O17 -> 96955 | J4: =-Planungsübersicht!P17 -> 96955 | ... T4: =-Planungsübersicht!Z17 -> 96955
B6: Jahr: | C6: ='CO2-Schulbilanz'!E6 -> 2007 | D6: ='CO2-Schulbilanz'!F6 -> 2008 | E6: ='CO2-Schulbilanz'!G6 -> 2009 | F6: ='CO2-Schulbilanz'!H6 -> 2010 | G6: ='CO2-Schulbilanz'!I6 -> 2011 | H6: ='CO2-Schulbilanz'!J6 -> 2012 | I6: ='CO2-Schulbilanz'!K6 -> 2013 | J6: ='CO2-Schulbilanz'!L6 -> 2014 | ... AT6: ='CO2-Schulbilanz'!AV6 -> 2050
B7: echte Emissionen (aus CO2-Schulbilanz): | C7: =IF('CO2-Schulbilanz'!E8>0, 'CO2-Schulbilanz'!E8,#N/A) -> 298086.39 | D7: =IF('CO2-Schulbilanz'!F8>0, 'CO2-Schulbilanz'!F8,#N/A) -> 288576.29 | E7: =IF('CO2-Schulbilanz'!G8>0, 'CO2-Schulbilanz'!G8,#N/A) -> 283735.83 | F7: =IF('CO2-Schulbilanz'!H8>0, 'CO2-Schulbilanz'!H8,#N/A) -> 267658.77 | G7: =IF('CO2-Schulbilanz'!I8>0, 'CO2-Schulbilanz'!I8,#N/A) -> 215723.91 | H7: =IF('CO2-Schulbilanz'!J8>0, 'CO2-Schulbilanz'!J8,#N/A) -> 231113.1 | I7: =IF('CO2-Schulbilanz'!K8>0, 'CO2-Schulbilanz'!K8,#N/A) -> 248822.31 | J7: =IF('CO2-Schulbilanz'!L8>0, 'CO2-Schulbilanz'!L8,#N/A) -> 199041.4 | ... AT7: =IF('CO2-Schulbilanz'!AV8>0, 'CO2-Schulbilanz'!AV8,#N/A) -> #N/A
B8: Maßnahmen (aus Planungsübersicht): | C8: =IF(C6>=$E3, $E4,IF(C6>=$D3,$D4,IF(C6>=$C3,$C4,0))) -> 0 | D8: =IF(D6>=$E3, $E4,IF(D6>=$D3,$D4,IF(D6>=$C3,$C4,0))) -> 0 | E8: =IF(E6>=$E3, $E4,IF(E6>=$D3,$D4,IF(E6>=$C3,$C4,0))) -> 0 | F8: =IF(F6>=$E3, $E4,IF(F6>=$D3,$D4,IF(F6>=$C3,$C4,0))) -> 0 | G8: =IF(G6>=$E3, $E4,IF(G6>=$D3,$D4,IF(G6>=$C3,$C4,0))) -> 0 | H8: =IF(H6>=$E3, $E4,IF(H6>=$D3,$D4,IF(H6>=$C3,$C4,0))) -> 0 | I8: =IF(I6>=$E3, $E4,IF(I6>=$D3,$D4,IF(I6>=$C3,$C4,0))) -> 71378 | J8: =IF(J6>=$E3, $E4,IF(J6>=$D3,$D4,IF(J6>=$C3,$C4,0))) -> 71378 | ... O8: =IF(O6>=$E3, $E4,IF(O6>=$D3,$D4,IF(O6>=$C3,$C4,0))) -> 96255 | P8: =IF(Q6>=E3, E4,IF(Q6>=D3,D4,IF(Q6>=C3,C4,0))) -> 96555 | Q8: =HLOOKUP(ODD(Q6)-1,$E$3:$T$4,2) -> 96555 | R8: =HLOOKUP(ODD(R6)-1,$E$3:$T$4,2) -> 96955 | S8: =HLOOKUP(ODD(S6)-1,$E$3:$T$4,2) -> 96955 | T8: =HLOOKUP(ODD(T6)-1,$E$3:$T$4,2) -> 96955 | U8: =HLOOKUP(ODD(U6)-1,$E$3:$T$4,2) -> 96955 | V8: =HLOOKUP(ODD(V6)-1,$E$3:$T$4,2) -> 96955 | W8: =HLOOKUP(ODD(W6)-1,$E$3:$T$4,2) -> 96955 | X8: =HLOOKUP(ODD(X6)-1,$E$3:$T$4,2) -> 96955 | ... AT8: =HLOOKUP(ODD(AT6)-1,$E$3:$T$4,2) -> 96955
B9: geschätzte Emissionen ohne Maßnahmen: | C9: =IF(C7,C7+C8,0) -> 298086.39 | D9: =IF(D7,D7+D8,0) -> 288576.29 | E9: =IF(E7,E7+E8,0) -> 283735.83 | F9: =IF(F7,F7+F8,0) -> 267658.77 | G9: =IF(G7,G7+G8,0) -> 215723.91 | H9: =IF(H7,H7+H8,0) -> 231113.1 | I9: =IF(I7,I7+I8,0) -> 320200.31 | J9: =IF(J7,J7+J8,0) -> 270419.4 | ... AT9: =IF(AT7,AT7+AT8,0) -> #N/A

Sheet Bilanz_pro_h_pro_m²
B29: Faktor | C29: Datenermittlung aus | D29: =Energieverbräuche!D3 -> 2007 | E29: =Energieverbräuche!E3 -> 2008 | F29: =Energieverbräuche!F3 -> 2009 | G29: =Energieverbräuche!G3 -> 2010 | H29: =Energieverbräuche!H3 -> 2011 | I29: =Energieverbräuche!I3 -> 2012 | J29: =Energieverbräuche!J3 -> 2013 | K29: =Energieverbräuche!K3 -> 2014 | ... AU29: =Energieverbräuche!AU3 -> 2050
B30: Heizenergie
B31: CO2 [kg] Heizenergie real | D31: ='CO2-Schulbilanz'!E18 -> 193102 | E31: ='CO2-Schulbilanz'!F18 -> 181090 | F31: ='CO2-Schulbilanz'!G18 -> 181272 | G31: ='CO2-Schulbilanz'!H18 -> 198744 | H31: ='CO2-Schulbilanz'!I18 -> 155246 | I31: ='CO2-Schulbilanz'!J18 -> 163800 | J31: ='CO2-Schulbilanz'!K18 -> 178542 | K31: ='CO2-Schulbilanz'!L18 -> 142651.6 | ... AU31: ='CO2-Schulbilanz'!AV18 -> 0
A32: s | B32: Witterungsfaktor in % | C32: fifty/fifty-Prämienabrechnung | D32: =HLOOKUP(D29,$D$53:$AU$54,2,0) -> 84.9 | E32: =HLOOKUP(E29,$D$53:$AU$54,2,0) -> 86.6 | F32: =HLOOKUP(F29,$D$53:$AU$54,2,0) -> 90.8 | G32: =HLOOKUP(G29,$D$53:$AU$54,2,0) -> 109.1 | H32: =HLOOKUP(H29,$D$53:$AU$54,2,0) -> 87.5 | I32: =HLOOKUP(I29,$D$53:$AU$54,2,0) -> 95.1 | J32: =HLOOKUP(J29,$D$53:$AU$54,2,0) -> 97.7 | K32: =HLOOKUP(K29,$D$53:$AU$54,2,0) -> 81.1 | L32: =HLOOKUP(L29,$D$53:$AU$54,2,0) -> 87.2 | M32: 90.7 | N32: 88.4 | O32: 84.7 | P32: =HLOOKUP(P29,$D$53:$AU$54,2,0) -> 100 | Q32: =HLOOKUP(Q29,$D$53:$AU$54,2,0) -> 100 | R32: =HLOOKUP(R29,$D$53:$AU$54,2,0) -> 100 | S32: =HLOOKUP(S29,$D$53:$AU$54,2,0) -> 98.63 | T32: =HLOOKUP(T29,$D$53:$AU$54,2,0) -> 95.5 | U32: =HLOOKUP(U29,$D$53:$AU$54,2,0) -> 100 | V32: =HLOOKUP(V29,$D$53:$AU$54,2,0) -> 100 | W32: =HLOOKUP(W29,$D$53:$AU$54,2,0) -> 100 | ... AU32: =HLOOKUP(AU29,$D$53:$AU$54,2,0) -> 100
B33: CO2 [kg] Heizenergie witterungsb. | D33: =D31/D32*100 -> 227446.41 | E33: =E31/E32*100 -> 209110.85 | F33: =F31/F32*100 -> 199638.77 | G33: =G31/G32*100 -> 182166.82 | H33: =H31/H32*100 -> 177424 | I33: =I31/I32*100 -> 172239.75 | J33: =J31/J32*100 -> 182745.14 | K33: =K31/K32*100 -> 175895.93 | ... AU33: =AU31/AU32*100 -> 0
B35: Heizstunden pro Jahr (20 Wochen) | D35: =D43*20 -> 800 | E35: =E43*20 -> 800 | F35: =F43*20 -> 800 | G35: =G43*20 -> 800 | H35: =H43*20 -> 800 | I35: =I43*20 -> 800 | J35: =J43*20 -> 800 | K35: =K43*20 -> 800 | ... AU35: =AU43*20 -> 800
B37: CO2 [kg pro Stunde] | D37: =D33/D35 -> 284.30801 | E37: =E33/E35 -> 261.38857 | F37: =F33/F35 -> 249.54846 | G37: =G33/G35 -> 227.70852 | H37: =H33/H35 -> 221.78 | I37: =I33/I35 -> 215.29968 | J37: =J33/J35 -> 228.43142 | K37: =K33/K35 -> 219.86991 | ... AU37: =AU33/AU35 -> 0
B39: Wärme: CO2 [g pro m² und Std.] | D39: =D37/D48*1000 -> 56.861602 | E39: =E37/E48*1000 -> 52.277714 | F39: =F37/F48*1000 -> 49.909692 | G39: =G37/G48*1000 -> 45.541705 | H39: =H37/H48*1000 -> 44.356 | I39: =I37/I48*1000 -> 43.059937 | J39: =J37/J48*1000 -> 45.686285 | K39: =K37/K48*1000 -> 43.973983 | ... AU39: =AU37/AU48*1000 -> 0
B41: Strom
B42: CO2 [kg] durch Strom | D42: ='CO2-Schulbilanz'!E17 -> 63764.389 | E42: ='CO2-Schulbilanz'!F17 -> 66266.291 | F42: ='CO2-Schulbilanz'!G17 -> 61243.832 | G42: ='CO2-Schulbilanz'!H17 -> 68914.768 | H42: ='CO2-Schulbilanz'!I17 -> 65093.691 | I42: ='CO2-Schulbilanz'!J17 -> 71642.662 | J42: ='CO2-Schulbilanz'!K17 -> 75857.626 | K42: ='CO2-Schulbilanz'!L17 -> 62555.545 | ... AU42: ='CO2-Schulbilanz'!AV17 -> 0
A43: s | B43: Nutzungsstunden pro Woche | C43: Hausmeister | D43: 40 | E43: =D43 -> 40 | F43: =E43 -> 40 | G43: =F43 -> 40 | H43: =G43 -> 40 | I43: =H43 -> 40 | J43: =I43 -> 40 | K43: =J43 -> 40 | L43: =K43 -> 40 | ... AU43: =AT43 -> 40
B44: Nutzungstunden pro Jahr (40 Wochen) | D44: =D43*40 -> 1600 | E44: =E43*40 -> 1600 | F44: =F43*40 -> 1600 | G44: =G43*40 -> 1600 | H44: =H43*40 -> 1600 | I44: =I43*40 -> 1600 | J44: =J43*40 -> 1600 | K44: =K43*40 -> 1600 | ... AU44: =AU43*40 -> 1600
B46: CO2 [kg pro Stunde] | D46: =D42/D44 -> 39.852743 | E46: =E42/E44 -> 41.416432 | F46: =F42/F44 -> 38.277395 | G46: =G42/G44 -> 43.07173 | H46: =H42/H44 -> 40.683557 | I46: =I42/I44 -> 44.776664 | J46: =J42/J44 -> 47.411016 | K46: =K42/K44 -> 39.097216 | ... AU46: =AU42/AU44 -> 0
A48: s | B48: Gebäudeflächen in m² | C48: fifty/fifty-Prämienabrechnung | D48: 5000 | E48: =D48 -> 5000 | F48: =E48 -> 5000 | G48: =F48 -> 5000 | H48: =G48 -> 5000 | I48: =H48 -> 5000 | J48: =I48 -> 5000 | K48: =J48 -> 5000 | L48: =K48 -> 5000 | ... AU48: =AT48 -> 5000
B49: Strom: CO2 [g pro m² und Std.] | D49: =D46/D48*1000 -> 7.9705486 | E49: =E46/E48*1000 -> 8.2832864 | F49: =F46/F48*1000 -> 7.655479 | G49: =G46/G48*1000 -> 8.614346 | H49: =H46/H48*1000 -> 8.1367114 | I49: =I46/I48*1000 -> 8.9553328 | J49: =J46/J48*1000 -> 9.4822032 | K49: =K46/K48*1000 -> 7.8194431 | ... AU49: =AU46/AU48*1000 -> 0
B51: Gesamtemissionen | D51: =D39+D49 -> 64.832151 | E51: =E39+E49 -> 60.561 | F51: =F39+F49 -> 57.565171 | G51: =G39+G49 -> 54.156051 | H51: =H39+H49 -> 52.492711 | I51: =I39+I49 -> 52.01527 | J51: =J39+J49 -> 55.168488 | K51: =K39+K49 -> 51.793426 | ... AU51: =AU39+AU49 -> 0
C52: Witterungsfaktoren: Zeilen unten einblenden
C53: Jahr | D53: 2007 | E53: 2008 | F53: 2009 | G53: 2010 | H53: 2011 | I53: 2012 | J53: 2013 | K53: 2014 | L53: 2015 | M53: 2016 | N53: 2017 | O53: 2018 | P53: 2019 | Q53: 2020 | R53: 2021 | S53: 2022 | T53: 2023 | U53: 2024 | V53: 2025 | W53: 2026 | X53: 2027 | Y53: 2028 | Z53: 2029 | AA53: 2030 | AB53: 2031 | AC53: 2032 | AD53: 2033 | AE53: 2034 | AF53: 2035 | AG53: 2036 | AH53: 2037 | AI53: 2038 | AJ53: 2039 | AK53: 2040 | AL53: 2041 | AM53: 2042 | AN53: 2043 | AO53: 2044 | AP53: 2045 | AQ53: 2046 | AR53: 2047 | AS53: 2048 | AT53: 2049 | AU53: 2050
C54: Witterungsfaktor | D54: 84.9 | E54: 86.6 | F54: 90.8 | G54: 109.1 | H54: 87.5 | I54: 95.1 | J54: 97.7 | K54: 81.1 | L54: 87.2 | M54: 100 | N54: 100 | O54: 100 | P54: 100 | Q54: 100 | R54: 100 | S54: 98.63 | T54: 95.5 | U54: 100 | V54: 100 | W54: 100 | X54: 100 | Y54: 100 | Z54: 100 | AA54: 100 | AB54: 100 | AC54: 100 | AD54: 100 | AE54: 100 | AF54: 100 | AG54: 100 | AH54: 100 | AI54: 100 | AJ54: 100 | AK54: 100 | AL54: 100 | AM54: 100 | AN54: 100 | AO54: 100 | AP54: 100 | AQ54: 100 | AR54: 100 | AS54: 100 | AT54: 100 | AU54: 100

Sheet Anleitung
