Workbook

Sheet Planungsübersicht
H1: zukünftiger Termin | I1: umgesetzt | J1: wird laufend umgesetzt | K1: in Umsetzung (Anfang) | L1: in Umsetzung (Mitte) | M1: in Umsetzung (Ende) | N1: bisher nicht umgesetzt | O1: Umsetzung nicht möglich
D3: Planungsübersicht | E3: 2026
D4: Lise-Meitner-Gymnasium | F4: Stand: | G4: 46281
D6: Pädagogische Ziele:
D7: Unser pädagogisches Ziel ist der Erwerb von Handlungskompetenzen zum Thema Klimaschutz in der gesamten Schulgemeinschaft. | I7: =IF(I$8="kurzfristig",IF(H7="","Übersicht CO2-Reduktionen",""),"") | J7: =IF(J$8="kurzfristig",IF(I7="","Übersicht CO2-Reduktionen",""),"") | K7: =IF(K$8="kurzfristig",IF(J7="","Übersicht CO2-Reduktionen",""),"") | L7: =IF(L$8="kurzfristig",IF(K7="","Übersicht CO2-Reduktionen",""),"") | M7: =IF(M$8="kurzfristig",IF(L7="","Übersicht CO2-Reduktionen",""),"") | N7: =IF(N$8="kurzfristig",IF(M7="","Übersicht CO2-Reduktionen",""),"") | O7: =IF(O$8="kurzfristig",IF(N7="","Übersicht CO2-Reduktionen",""),"") -> Übersicht CO2-Reduktionen | P7: =IF(P$8="kurzfristig",IF(O7="","Übersicht CO2-Reduktionen",""),"") | ... Y7: =IF(Y$8="kurzfristig",IF(X7="","Übersicht CO2-Reduktionen",""),"") | Z7: =IF(Z8="kurzfristig","Übersicht CO2-Reduktionen","")
I8: =IF((I9-$E$3-2)<-1,"Vergangenheit",IF((I9-$E$3-2)<1,"kurzfristig",IF((I9-$E$3-2)<3,"mittelfristig","langfristig"))) -> Vergangenheit | J8: =IF((J9-$E$3-2)<-1,"Vergangenheit",IF((J9-$E$3-2)<1,"kurzfristig",IF((J9-$E$3-2)<3,"mittelfristig","langfristig"))) -> Vergangenheit | K8: =IF((K9-$E$3-2)<-1,"Vergangenheit",IF((K9-$E$3-2)<1,"kurzfristig",IF((K9-$E$3-2)<3,"mittelfristig","langfristig"))) -> Vergangenheit | L8: =IF((L9-$E$3-2)<-1,"Vergangenheit",IF((L9-$E$3-2)<1,"kurzfristig",IF((L9-$E$3-2)<3,"mittelfristig","langfristig"))) -> Vergangenheit | M8: =IF((M9-$E$3-2)<-1,"Vergangenheit",IF((M9-$E$3-2)<1,"kurzfristig",IF((M9-$E$3-2)<3,"mittelfristig","langfristig"))) -> Vergangenheit | N8: =IF((N9-$E$3-2)<-1,"Vergangenheit",IF((N9-$E$3-2)<1,"kurzfristig",IF((N9-$E$3-2)<3,"mittelfristig","langfristig"))) -> Vergangenheit | O8: =IF((O9-$E$3-2)<-1,"Vergangenheit",IF((O9-$E$3-2)<1,"kurzfristig",IF((O9-$E$3-2)<3,"mittelfristig","langfristig"))) -> kurzfristig | P8: =IF((P9-$E$3-2)<0,"Vergangenheit",IF((P9-$E$3-2)<1,"kurzfristig",IF((P9-$E$3-2)<3,"mittelfristig","langfristig"))) -> mittelfristig | Q8: =IF((Q9-$E$3-2)<0,"Vergangenheit",IF((Q9-$E$3-2)<1,"kurzfristig",IF((Q9-$E$3-2)<3,"mittelfristig","langfristig"))) -> langfristig | R8: =IF((R9-$E$3-2)<0,"Vergangenheit",IF((R9-$E$3-2)<1,"kurzfristig",IF((R9-$E$3-2)<3,"mittelfristig","langfristig"))) -> langfristig | S8: =IF((S9-$E$3-2)<0,"Vergangenheit",IF((S9-$E$3-2)<1,"kurzfristig",IF((S9-$E$3-2)<3,"mittelfristig","langfristig"))) -> langfristig | T8: =IF((T9-$E$3-2)<0,"Vergangenheit",IF((T9-$E$3-2)<1,"kurzfristig",IF((T9-$E$3-2)<3,"mittelfristig","langfristig"))) -> langfristig | U8: =IF((U9-$E$3-2)<0,"Vergangenheit",IF((U9-$E$3-2)<1,"kurzfristig",IF((U9-$E$3-2)<3,"mittelfristig","langfristig"))) -> langfristig | V8: =IF((V9-$E$3-2)<0,"Vergangenheit",IF((V9-$E$3-2)<1,"kurzfristig",IF((V9-$E$3-2)<3,"mittelfristig","langfristig"))) -> langfristig | W8: =IF((W9-$E$3-2)<0,"Vergangenheit",IF((W9-$E$3-2)<1,"kurzfristig",IF((W9-$E$3-2)<3,"mittelfristig","langfristig"))) -> langfristig | ... Z8: =IF((Z9-$E$3-2)<0,"Vergangenheit",IF((Z9-$E$3-2)<1,"kurzfristig",IF((Z9-$E$3-2)<3,"mittelfristig","langfristig"))) -> langfristig
H9: Handlungsfeld | I9: 2013 | J9: 2015 | K9: 2020 | L9: =ODD(K9)+1 -> 2022 | M9: =L9+2 -> 2024 | N9: =M9+2 -> 2026 | O9: =N9+2 -> 2028 | P9: =O9+2 -> 2030 | Q9: =P9+2 -> 2032 | R9: =Q9+2 -> 2034 | S9: =R9+2 -> 2036 | T9: =S9+2 -> 2038 | ... Z9: =Y9+2 -> 2050
D10: Planungsziele: | H10: übergreifend | I10: =IF(I27=0,"",I27) | J10: =IF(J27=0,"",J27) | K10: =IF(K27=0,"",K27) | L10: =IF(L27=0,"",L27) | M10: =IF(M27=0,"",M27) | N10: =IF(N27=0,"",N27) | O10: =IF(O27=0,"",O27) | P10: =IF(P27=0,"",P27) | ... Z10: =IF(Z27=0,"",Z27)
D11: Wir senken unsere CO2-Emissionen bis2030um | G11: 0.35 | H11: Wärme | I11: =IF(I77=0,"",I77) -> 57667 | J11: =IF(J77=0,"",J77) -> 82324 | K11: =IF(K77=0,"",K77) -> 82324 | L11: =IF(L77=0,"",L77) -> 82324 | M11: =IF(M77=0,"",M77) -> 82324 | N11: =IF(N77=0,"",N77) -> 82324 | O11: =IF(O77=0,"",O77) -> 82324 | P11: =IF(P77=0,"",P77) -> 82324 | ... Z11: =IF(Z77=0,"",Z77) -> 82324
D12: Wir senken unsere CO2-Emissionen bis2050um | G12: 0.58642281 | H12: Strom | I12: =IF(I131=0,"",I131) -> 6811 | J12: =IF(J131=0,"",J131) -> 6811 | K12: =IF(K131=0,"",K131) -> 6811 | L12: =IF(L131=0,"",L131) -> 6811 | M12: =IF(M131=0,"",M131) -> 6811 | N12: =IF(N131=0,"",N131) -> 6811 | O12: =IF(O131=0,"",O131) -> 6811 | P12: =IF(P131=0,"",P131) -> 6811 | ... Z12: =IF(Z131=0,"",Z131) -> 6811
D13: Das Ausgangsjahr für die Berechnung ist: | G13: 2007 | H13: Abfall | I13: =IF(I175=0,"",I175) -> 6200 | J13: =IF(J175=0,"",J175) -> 6200 | K13: =IF(K175=0,"",K175) -> 6200 | L13: =IF(L175=0,"",L175) -> 6200 | M13: =IF(M175=0,"",M175) -> 6200 | N13: =IF(N175=0,"",N175) -> 6200 | O13: =IF(O175=0,"",O175) -> 6200 | P13: =IF(P175=0,"",P175) -> 6200 | ... Z13: =IF(Z175=0,"",Z175) -> 6200
D14: Ausgangslage: | H14: Beschaffung | I14: =IF(I221=0,"",I221) -> 700 | J14: =IF(J221=0,"",J221) -> 920 | K14: =IF(K221=0,"",K221) -> 1220 | L14: =IF(L221=0,"",L221) -> 1620 | M14: =IF(M221=0,"",M221) -> 1620 | N14: =IF(N221=0,"",N221) -> 1620 | O14: =IF(O221=0,"",O221) -> 1620 | P14: =IF(P221=0,"",P221) -> 1620 | ... Z14: =IF(Z221=0,"",Z221) -> 1620
D15: ='CO2-Schulbilanz'!A27 -> CO2-Emissionen für Strom, Heizenergie, Abfall, | G15: ='CO2-Schulbilanz'!E8 -> 298086.39 | H15: Ernährung | I15: =IF(I257=0,"",I257) | J15: =IF(J257=0,"",J257) | K15: =IF(K257=0,"",K257) | L15: =IF(L257=0,"",L257) | M15: =IF(M257=0,"",M257) | N15: =IF(N257=0,"",N257) | O15: =IF(O257=0,"",O257) | P15: =IF(P257=0,"",P257) | ... Z15: =IF(Z257=0,"",Z257)
D16: im Jahr: | G16: =G13 -> 2007 | H16: Mobilität | I16: =IF(I293=0,"",I293) | J16: =IF(J293=0,"",J293) | K16: =IF(K293=0,"",K293) | L16: =IF(L293=0,"",L293) | M16: =IF(M293=0,"",M293) | N16: =IF(N293=0,"",N293) | O16: =IF(O293=0,"",O293) | P16: =IF(P293=0,"",P293) | ... Z16: =IF(Z293=0,"",Z293)
D17: Planungsübersicht | H17: Prognose nach Planung | I17: =-SUM(I10:I16) -> -71378 | J17: =-SUM(J10:J16) -> -96255 | K17: =-SUM(K10:K16) -> -96555 | L17: =-SUM(L10:L16) -> -96955 | M17: =-SUM(M10:M16) -> -96955 | N17: =-SUM(N10:N16) -> -96955 | O17: =-SUM(O10:O16) -> -96955 | P17: =-SUM(P10:P16) -> -96955 | ... Z17: =-SUM(Z10:Z16) -> -96955
D18: In der nachfolgenden Übersicht werden für jedes Handlungsfeld die geplanten Maßnahmen mit den jeweiligen Zeitrahmen und Verantwortlichkeiten aufgeführt. | I18: =I17/$G$15 -> -0.23945407 | J18: =J17/$G$15 -> -0.32290975 | K18: =K17/$G$15 -> -0.32391617 | L18: =L17/$G$15 -> -0.32525806 | M18: =M17/$G$15 -> -0.32525806 | N18: =N17/$G$15 -> -0.32525806 | O18: =O17/$G$15 -> -0.32525806 | P18: =P17/$G$15 -> -0.32525806 | ... Z18: =Z17/$G$15 -> -0.32525806
H19: Soll nach Reduktionspfad | I19: =HLOOKUP(I9,'CO2-Schulbilanz'!$F$6:$AV$13,7,0) -> -31684.724 | J19: =HLOOKUP(J9,'CO2-Schulbilanz'!$F$6:$AV$13,7,0) -> -41479.37 | K19: =HLOOKUP(K9,'CO2-Schulbilanz'!$F$6:$AV$13,7,0) -> -64419.314 | L19: =HLOOKUP(L9,'CO2-Schulbilanz'!$F$6:$AV$13,7,0) -> -73010.426 | M19: =HLOOKUP(M9,'CO2-Schulbilanz'!$F$6:$AV$13,7,0) -> -81285.672 | N19: =HLOOKUP(N9,'CO2-Schulbilanz'!$F$6:$AV$13,7,0) -> -89256.667 | O19: =HLOOKUP(O9,'CO2-Schulbilanz'!$F$6:$AV$13,7,0) -> -96934.597 | P19: =HLOOKUP(P9,'CO2-Schulbilanz'!$F$6:$AV$13,7,0) -> -104330.24 | ... Z19: =HLOOKUP(Z9,'CO2-Schulbilanz'!$F$6:$AV$13,7,0) -> -174804.66
I20: =I19/$G$15 -> -0.10629376 | J20: =J19/$G$15 -> -0.13915218 | K20: =K19/$G$15 -> -0.21610955 | L20: =L19/$G$15 -> -0.24493042 | M20: =M19/$G$15 -> -0.27269166 | N20: =N19/$G$15 -> -0.29943221 | O20: =O19/$G$15 -> -0.32518961 | P20: =P19/$G$15 -> -0.35 | ... Z20: =Z19/$G$15 -> -0.58642281
D23: Handlungsfeldübergreifender Bereich
D24: Unsere Ziele in diesem Bereich sind …
C25: Nr. | D25: Maßnahme | E25: Termin(Beginn der Umsetzung) | F25: Status der Umsetzung | G25: verantwortlich | H25: Akteure für die Umsetzung | I25: =IF(I$8="kurzfristig","Ziele CO2 & Kompetenzen","") | J25: =IF(J$8="kurzfristig","Ziele CO2 & Kompetenzen","") | K25: =IF(K$8="kurzfristig","Ziele CO2 & Kompetenzen","") | L25: =IF(L$8="kurzfristig","Ziele CO2 & Kompetenzen","") | M25: =IF(M$8="kurzfristig","Ziele CO2 & Kompetenzen","") | N25: =IF(N$8="kurzfristig","Ziele CO2 & Kompetenzen","") | O25: =IF(O$8="kurzfristig","Ziele CO2 & Kompetenzen","") -> Ziele CO2 & Kompetenzen | P25: =IF(P$8="kurzfristig","Ziele CO2 & Kompetenzen","") | ... Z25: =IF(Z$8="kurzfristig","Ziele CO2 & Kompetenzen","")
I26: =$I$9 -> 2013 | J26: =J$9 -> 2015 | K26: =K$9 -> 2020 | L26: =L$9 -> 2022 | M26: =L26+2 -> 2024 | N26: =M26+2 -> 2026 | O26: =N26+2 -> 2028 | P26: =O26+2 -> 2030 | Q26: =P26+2 -> 2032 | R26: =Q26+2 -> 2034 | S26: =R26+2 -> 2036 | T26: =S26+2 -> 2038 | ... Z26: =Y26+2 -> 2050
H27: Summen: | I27: =SUM(I28:I59) -> 0 | J27: =SUM(J28:J59) -> 0 | K27: =SUM(K28:K59) -> 0 | L27: =SUM(L28:L59) -> 0 | M27: =SUM(M28:M59) -> 0 | N27: =SUM(N28:N59) -> 0 | O27: =SUM(O28:O59) -> 0 | P27: =SUM(P28:P59) -> 0 | ... Z27: =SUM(Z28:Z59) -> 0
C28: Ü1 | D28: Lehrer/-innen werden Vorbilder für Energie sparen | E28: 2010 | F28: wird laufend umgesetzt | G28: Fr. Nedić (Klimaschutzbeauftragte) | H28: alle LehrerInnen | J28: =I28 -> 0 | K28: =J28 -> 0 | L28: =K28 -> 0 | M28: =L28 -> 0 | N28: =M28 -> 0 | O28: =N28 -> 0 | P28: =O28 -> 0 | Q28: =P28 -> 0 | ... Z28: =Y28 -> 0
I29: 5% der Lehrkräfte dienen als Vorbild | J29: 15% der Lehrkräfte dienen als Vorbild | K29: 50% der Lehrkräfte dienen als Vorbild | L29: 80% der Lehrkräfte dienen als Vorbild | M29: =L29 -> 80% der Lehrkräfte dienen als Vorbild | N29: =M29 -> 80% der Lehrkräfte dienen als Vorbild | O29: =N29 -> 80% der Lehrkräfte dienen als Vorbild | P29: =O29 -> 80% der Lehrkräfte dienen als Vorbild | Q29: =P29 -> 80% der Lehrkräfte dienen als Vorbild | R29: =Q29 -> 80% der Lehrkräfte dienen als Vorbild | S29: =R29 -> 80% der Lehrkräfte dienen als Vorbild | T29: =S29 -> 80% der Lehrkräfte dienen als Vorbild | ... Z29: =Y29 -> 80% der Lehrkräfte dienen als Vorbild
C30: Ü2 | D30: Umweltkampagne | E30: 2010 | F30: wird laufend umgesetzt | G30: Fr. Nedić (Klimaschutzbeauftragte) | H30: Umweltgruppe, WasteWatcher | I30: 0 | J30: =I30 -> 0 | L30: =K30 -> 0 | M30: =L30 -> 0 | N30: =M30 -> 0 | O30: =N30 -> 0 | P30: =O30 -> 0 | Q30: =P30 -> 0 | R30: =Q30 -> 0 | S30: =R30 -> 0 | ... Z30: =Y30 -> 0
I31: 70% der Schulgemeinschaft ist sensibilisiert | J31: =I31 -> 70% der Schulgemeinschaft ist sensibilisiert | K31: =J31 -> 70% der Schulgemeinschaft ist sensibilisiert | L31: =K31 -> 70% der Schulgemeinschaft ist sensibilisiert | M31: =L31 -> 70% der Schulgemeinschaft ist sensibilisiert | N31: =M31 -> 70% der Schulgemeinschaft ist sensibilisiert | O31: =N31 -> 70% der Schulgemeinschaft ist sensibilisiert | P31: =O31 -> 70% der Schulgemeinschaft ist sensibilisiert | Q31: =P31 -> 70% der Schulgemeinschaft ist sensibilisiert | ... Z31: =Y31 -> 70% der Schulgemeinschaft ist sensibilisiert
C32: Ü3 | D32: Reinvestition der Fifty-Fifty-Energie4-Gelder in Klimaschutz | E32: 2010 | F32: wird laufend umgesetzt | G32: Fr. Nedić (Klimaschutzbeauftragte) | H32: Elternvertreter, Umweltlehrer, Schulleitung, UmweltschülerInnen | I32: 0 | J32: =I32 -> 0 | K32: =J32 -> 0 | L32: =K32 -> 0 | M32: =L32 -> 0 | N32: =M32 -> 0 | O32: =N32 -> 0 | P32: =O32 -> 0 | Q32: =P32 -> 0 | ... Z32: =Y32 -> 0
I33: 60% der Fifty-Fifty-Prämie wird reinvestiert | J33: =I33 -> 60% der Fifty-Fifty-Prämie wird reinvestiert | K33: =J33 -> 60% der Fifty-Fifty-Prämie wird reinvestiert | L33: =K33 -> 60% der Fifty-Fifty-Prämie wird reinvestiert | M33: =L33 -> 60% der Fifty-Fifty-Prämie wird reinvestiert | N33: =M33 -> 60% der Fifty-Fifty-Prämie wird reinvestiert | O33: =N33 -> 60% der Fifty-Fifty-Prämie wird reinvestiert | P33: =O33 -> 60% der Fifty-Fifty-Prämie wird reinvestiert | Q33: =P33 -> 60% der Fifty-Fifty-Prämie wird reinvestiert | ... Z33: =Y33 -> 60% der Fifty-Fifty-Prämie wird reinvestiert
C34: Ü4 | D34: Thema "Klimaschutz" im Schulcurriculum PGW | E34: 2011 | F34: umgesetzt | G34: Fr. Langjahr (PGW Fachleitung) | H34: Schüler/-innen Klassenstufe 8/9/10 und SekII | I34: 0 | J34: =I34 -> 0 | K34: =J34 -> 0 | L34: =K34 -> 0 | M34: =L34 -> 0 | N34: =M34 -> 0 | O34: =N34 -> 0 | P34: =O34 -> 0 | Q34: =P34 -> 0 | ... Z34: =Y34 -> 0
I35: In 80% der Kurse "PGW" in Klasse 8/9/19/SekII durchgeführt | J35: in allen Kursen "PGW" in Klasse 8/9/10/SekII durchgeführt | K35: =J35 -> in allen Kursen "PGW" in Klasse 8/9/10/SekII durchgeführt | L35: =K35 -> in allen Kursen "PGW" in Klasse 8/9/10/SekII durchgeführt | M35: =L35 -> in allen Kursen "PGW" in Klasse 8/9/10/SekII durchgeführt | N35: =M35 -> in allen Kursen "PGW" in Klasse 8/9/10/SekII durchgeführt | O35: =N35 -> in allen Kursen "PGW" in Klasse 8/9/10/SekII durchgeführt | P35: =O35 -> in allen Kursen "PGW" in Klasse 8/9/10/SekII durchgeführt | Q35: =P35 -> in allen Kursen "PGW" in Klasse 8/9/10/SekII durchgeführt | R35: =Q35 -> in allen Kursen "PGW" in Klasse 8/9/10/SekII durchgeführt | ... Z35: =Y35 -> in allen Kursen "PGW" in Klasse 8/9/10/SekII durchgeführt
C36: Ü5 | D36: Thema "Klimaschutz" im Schulcurriculum Bio | E36: 2011 | F36: umgesetzt | G36: Hr. Bock (Bio Fachleitung) | H36: Schüler/-innen Klassenstufe 9 | I36: 0 | J36: =I36 -> 0 | K36: =J36 -> 0 | L36: =K36 -> 0 | M36: =L36 -> 0 | N36: =M36 -> 0 | O36: =N36 -> 0 | P36: =O36 -> 0 | Q36: =P36 -> 0 | ... Z36: =Y36 -> 0
I37: In 80% der Kurse "PGW" in Klasse 9 durchgeführt | J37: in allen Kursen "PGW" in Klasse 9 durchgeführt | K37: =J37 -> in allen Kursen "PGW" in Klasse 9 durchgeführt | L37: =K37 -> in allen Kursen "PGW" in Klasse 9 durchgeführt | M37: =L37 -> in allen Kursen "PGW" in Klasse 9 durchgeführt | N37: =M37 -> in allen Kursen "PGW" in Klasse 9 durchgeführt | O37: =N37 -> in allen Kursen "PGW" in Klasse 9 durchgeführt | P37: =O37 -> in allen Kursen "PGW" in Klasse 9 durchgeführt | Q37: =P37 -> in allen Kursen "PGW" in Klasse 9 durchgeführt | R37: =Q37 -> in allen Kursen "PGW" in Klasse 9 durchgeführt | ... Z37: =Y37 -> in allen Kursen "PGW" in Klasse 9 durchgeführt
C38: Ü6 | D38: Thema "Ressourcen" im Schulcurriculum PGW | E38: 2011 | F38: umgesetzt | G38: Fr. Langjahr (PGW Fachleitung) | H38: Schüler/-innen Klassenstufe 10 | I38: 0 | J38: =I38 -> 0 | K38: =J38 -> 0 | L38: =K38 -> 0 | M38: =L38 -> 0 | N38: =M38 -> 0 | O38: =N38 -> 0 | P38: =O38 -> 0 | Q38: =P38 -> 0 | ... Z38: =Y38 -> 0
I39: In 80% der Kurse "PGW" in Klasse 10 durchgeführt | J39: in allen Kursen "PGW" in Klasse 10 durchgeführt | K39: =J39 -> in allen Kursen "PGW" in Klasse 10 durchgeführt | L39: =K39 -> in allen Kursen "PGW" in Klasse 10 durchgeführt | M39: =L39 -> in allen Kursen "PGW" in Klasse 10 durchgeführt | N39: =M39 -> in allen Kursen "PGW" in Klasse 10 durchgeführt | O39: =N39 -> in allen Kursen "PGW" in Klasse 10 durchgeführt | P39: =O39 -> in allen Kursen "PGW" in Klasse 10 durchgeführt | Q39: =P39 -> in allen Kursen "PGW" in Klasse 10 durchgeführt | R39: =Q39 -> in allen Kursen "PGW" in Klasse 10 durchgeführt | ... Z39: =Y39 -> in allen Kursen "PGW" in Klasse 10 durchgeführt
C40: Ü7 | D40: Thema "Nachhaltigkeit, Globalisierung, Energiewende" im Schulcurriculum PGW | E40: 2011 | F40: umgesetzt | G40: Fr. Langjahr (PGW Fachleitung) | H40: Schüler/-innen Klassenstufe Oberstufe | I40: 0 | J40: =I40 -> 0 | K40: =J40 -> 0 | L40: =K40 -> 0 | M40: =L40 -> 0 | N40: =M40 -> 0 | O40: =N40 -> 0 | P40: =O40 -> 0 | Q40: =P40 -> 0 | ... Z40: =Y40 -> 0
I41: In 80% der Kurse "PGW" in der Oberstufe durchgeführt | J41: in allen Kursen "PGW" in der Oberstufe durchgeführt | K41: =J41 -> in allen Kursen "PGW" in der Oberstufe durchgeführt | L41: =K41 -> in allen Kursen "PGW" in der Oberstufe durchgeführt | M41: =L41 -> in allen Kursen "PGW" in der Oberstufe durchgeführt | N41: =M41 -> in allen Kursen "PGW" in der Oberstufe durchgeführt | O41: =N41 -> in allen Kursen "PGW" in der Oberstufe durchgeführt | P41: =O41 -> in allen Kursen "PGW" in der Oberstufe durchgeführt | Q41: =P41 -> in allen Kursen "PGW" in der Oberstufe durchgeführt | R41: =Q41 -> in allen Kursen "PGW" in der Oberstufe durchgeführt | ... Z41: =Y41 -> in allen Kursen "PGW" in der Oberstufe durchgeführt
C42: Ü8 | D42: UmweltschülerInnen | E42: 2015 | F42: wird laufend umgesetzt | G42: Fr. Nedić (Klimaschutzbeauftragte) | H42: WasteWatcher | I42: 0 | J42: =I42 -> 0 | K42: =J42 -> 0 | L42: =K42 -> 0 | M42: =L42 -> 0 | N42: =M42 -> 0 | O42: =N42 -> 0 | P42: =O42 -> 0 | Q42: =P42 -> 0 | ... Z42: =Y42 -> 0
J43: =I43 -> 0 | K43: =J43 -> 0 | L43: =K43 -> 0 | M43: =L43 -> 0 | N43: =M43 -> 0 | O43: =N43 -> 0 | P43: =O43 -> 0 | Q43: =P43 -> 0 | ... Z43: =Y43 -> 0
C44: Ü9 | D44: Umweltausflug | E44: 2016 | F44: wird laufend umgesetzt | G44: Fr. Wolgast (WasteWatcher Betreuerin), Fr. Nedić (Klimaschutzbeauftragte) | H44: WasteWatcher | I44: 0 | J44: =I44 -> 0 | K44: =J44 -> 0 | L44: =K44 -> 0 | M44: =L44 -> 0 | N44: =M44 -> 0 | O44: =N44 -> 0 | P44: =O44 -> 0 | Q44: =P44 -> 0 | ... Z44: =Y44 -> 0
...

Sheet Chronologische Liste
C2: Chronologische Maßnahmen-Liste | G2: Stand: | H2: =Planungsübersicht!G4 -> 46281
C3: Alle Handlungsfelder
C4: Hinweis:Nach Änderungen an der Planungsübersicht bitte die TastenStrg+Alt+Ldrücken (Ansicht aktualisieren)
B5: =Planungsübersicht!C25 -> Nr. | C5: =Planungsübersicht!D25 -> Maßnahme | D5: =Planungsübersicht!E25 -> Termin(Beginn der Umsetzung) | E5: =Planungsübersicht!F25 -> Status der Umsetzung | F5: =Planungsübersicht!G25 -> verantwortlich | G5: =Planungsübersicht!H25 -> Akteure für die Umsetzung | H5: Ziele CO2
B6: =IF(AND(Planungsübersicht!$E132>1990,TYPE(Planungsübersicht!$E132)=1,NOT(Planungsübersicht!$F132="Umsetzung nicht möglich")), Planungsübersicht!C132," ") -> S1 | C6: =IF(AND(Planungsübersicht!$E132>1990,TYPE(Planungsübersicht!$E132)=1,NOT(Planungsübersicht!$F132="Umsetzung nicht möglich")), Planungsübersicht!D132," ") -> Eigenproduktion | D6: =IF(AND(Planungsübersicht!$E132>1990,TYPE(Planungsübersicht!$E132)=1,NOT(Planungsübersicht!$F132="Umsetzung nicht möglich")), Planungsübersicht!E132," ") -> 2007 | E6: =IF(AND(Planungsübersicht!$E132>1990,TYPE(Planungsübersicht!$E132)=1,NOT(Planungsübersicht!$F132="Umsetzung nicht möglich")), Planungsübersicht!F132," ") -> wird laufend umgesetzt | F6: =IF(AND(Planungsübersicht!$E132>1990,TYPE(Planungsübersicht!$E132)=1,NOT(Planungsübersicht!$F132="Umsetzung nicht möglich")), Planungsübersicht!G132," ") -> Fr. Baur (PVA-Beauftragte) + Hr. Brüggmann (Hausmeister) | G6: =IF(AND(Planungsübersicht!$E132>1990,TYPE(Planungsübersicht!$E132)=1,NOT(Planungsübersicht!$F132="Umsetzung nicht möglich")), Planungsübersicht!H132," ") -> 0 | H6: =IF(AND(Planungsübersicht!$E132>1990,TYPE(Planungsübersicht!$E132)=1,NOT(Planungsübersicht!$F132="Umsetzung nicht möglich")), MAX(Planungsübersicht!I132:Z132)," ") -> 489
B7: =IF(AND(Planungsübersicht!$E80>1990,TYPE(Planungsübersicht!$E80)=1,NOT(Planungsübersicht!$F80="Umsetzung nicht möglich")), Planungsübersicht!C80," ") -> W2 | C7: =IF(AND(Planungsübersicht!$E80>1990,TYPE(Planungsübersicht!$E80)=1,NOT(Planungsübersicht!$F80="Umsetzung nicht möglich")), Planungsübersicht!D80," ") -> Raumtemperatur auf Sollwerte einstellen | D7: =IF(AND(Planungsübersicht!$E80>1990,TYPE(Planungsübersicht!$E80)=1,NOT(Planungsübersicht!$F80="Umsetzung nicht möglich")), Planungsübersicht!E80," ") -> 2008 | E7: =IF(AND(Planungsübersicht!$E80>1990,TYPE(Planungsübersicht!$E80)=1,NOT(Planungsübersicht!$F80="Umsetzung nicht möglich")), Planungsübersicht!F80," ") -> in Umsetzung (Mitte) | F7: =IF(AND(Planungsübersicht!$E80>1990,TYPE(Planungsübersicht!$E80)=1,NOT(Planungsübersicht!$F80="Umsetzung nicht möglich")), Planungsübersicht!G80," ") -> Hr. Brüggmann (Hausmeister) | G7: =IF(AND(Planungsübersicht!$E80>1990,TYPE(Planungsübersicht!$E80)=1,NOT(Planungsübersicht!$F80="Umsetzung nicht möglich")), Planungsübersicht!H80," ") -> Umweltgruppe, Physik-Fachschaft | H7: =IF(AND(Planungsübersicht!$E80>1990,TYPE(Planungsübersicht!$E80)=1,NOT(Planungsübersicht!$F80="Umsetzung nicht möglich")), MAX(Planungsübersicht!I80:Z80)," ") -> 9346
B8: =IF(AND(Planungsübersicht!$E82>1990,TYPE(Planungsübersicht!$E82)=1,NOT(Planungsübersicht!$F82="Umsetzung nicht möglich")), Planungsübersicht!C82," ") -> W3 | C8: =IF(AND(Planungsübersicht!$E82>1990,TYPE(Planungsübersicht!$E82)=1,NOT(Planungsübersicht!$F82="Umsetzung nicht möglich")), Planungsübersicht!D82," ") -> Solarthermie Bezirkssporthalle: Reparatur, Erhalt, Überprüfung und Monitoring der Anlage | D8: =IF(AND(Planungsübersicht!$E82>1990,TYPE(Planungsübersicht!$E82)=1,NOT(Planungsübersicht!$F82="Umsetzung nicht möglich")), Planungsübersicht!E82," ") -> 2008 | E8: =IF(AND(Planungsübersicht!$E82>1990,TYPE(Planungsübersicht!$E82)=1,NOT(Planungsübersicht!$F82="Umsetzung nicht möglich")), Planungsübersicht!F82," ") -> wird laufend umgesetzt | F8: =IF(AND(Planungsübersicht!$E82>1990,TYPE(Planungsübersicht!$E82)=1,NOT(Planungsübersicht!$F82="Umsetzung nicht möglich")), Planungsübersicht!G82," ") -> Hr. Brüggmann (Hausmeister) | G8: =IF(AND(Planungsübersicht!$E82>1990,TYPE(Planungsübersicht!$E82)=1,NOT(Planungsübersicht!$F82="Umsetzung nicht möglich")), Planungsübersicht!H82," ") -> Hr. Brüggmann (Hausmeister) | H8: =IF(AND(Planungsübersicht!$E82>1990,TYPE(Planungsübersicht!$E82)=1,NOT(Planungsübersicht!$F82="Umsetzung nicht möglich")), MAX(Planungsübersicht!I82:Z82)," ") -> 600
B9: =IF(AND(Planungsübersicht!$E28>1990,TYPE(Planungsübersicht!$E28)=1,NOT(Planungsübersicht!$F28="Umsetzung nicht möglich")), Planungsübersicht!C28," ") -> Ü1 | C9: =IF(AND(Planungsübersicht!$E28>1990,TYPE(Planungsübersicht!$E28)=1,NOT(Planungsübersicht!$F28="Umsetzung nicht möglich")), Planungsübersicht!D28," ") -> Lehrer/-innen werden Vorbilder für Energie sparen | D9: =IF(AND(Planungsübersicht!$E28>1990,TYPE(Planungsübersicht!$E28)=1,NOT(Planungsübersicht!$F28="Umsetzung nicht möglich")), Planungsübersicht!E28," ") -> 2010 | E9: =IF(AND(Planungsübersicht!$E28>1990,TYPE(Planungsübersicht!$E28)=1,NOT(Planungsübersicht!$F28="Umsetzung nicht möglich")), Planungsübersicht!F28," ") -> wird laufend umgesetzt | F9: =IF(AND(Planungsübersicht!$E28>1990,TYPE(Planungsübersicht!$E28)=1,NOT(Planungsübersicht!$F28="Umsetzung nicht möglich")), Planungsübersicht!G28," ") -> Fr. Nedić (Klimaschutzbeauftragte) | G9: =IF(AND(Planungsübersicht!$E28>1990,TYPE(Planungsübersicht!$E28)=1,NOT(Planungsübersicht!$F28="Umsetzung nicht möglich")), Planungsübersicht!H28," ") -> alle LehrerInnen | H9: =IF(AND(Planungsübersicht!$E28>1990,TYPE(Planungsübersicht!$E28)=1,NOT(Planungsübersicht!$F28="Umsetzung nicht möglich")), MAX(Planungsübersicht!I28:Z28)," ") -> 0
B10: =IF(AND(Planungsübersicht!$E30>1990,TYPE(Planungsübersicht!$E30)=1,NOT(Planungsübersicht!$F30="Umsetzung nicht möglich")), Planungsübersicht!C30," ") -> Ü2 | C10: =IF(AND(Planungsübersicht!$E30>1990,TYPE(Planungsübersicht!$E30)=1,NOT(Planungsübersicht!$F30="Umsetzung nicht möglich")), Planungsübersicht!D30," ") -> Umweltkampagne | D10: =IF(AND(Planungsübersicht!$E30>1990,TYPE(Planungsübersicht!$E30)=1,NOT(Planungsübersicht!$F30="Umsetzung nicht möglich")), Planungsübersicht!E30," ") -> 2010 | E10: =IF(AND(Planungsübersicht!$E30>1990,TYPE(Planungsübersicht!$E30)=1,NOT(Planungsübersicht!$F30="Umsetzung nicht möglich")), Planungsübersicht!F30," ") -> wird laufend umgesetzt | F10: =IF(AND(Planungsübersicht!$E30>1990,TYPE(Planungsübersicht!$E30)=1,NOT(Planungsübersicht!$F30="Umsetzung nicht möglich")), Planungsübersicht!G30," ") -> Fr. Nedić (Klimaschutzbeauftragte) | G10: =IF(AND(Planungsübersicht!$E30>1990,TYPE(Planungsübersicht!$E30)=1,NOT(Planungsübersicht!$F30="Umsetzung nicht möglich")), Planungsübersicht!H30," ") -> Umweltgruppe, WasteWatcher | H10: =IF(AND(Planungsübersicht!$E30>1990,TYPE(Planungsübersicht!$E30)=1,NOT(Planungsübersicht!$F30="Umsetzung nicht möglich")), MAX(Planungsübersicht!I30:Z30)," ") -> 0
B11: =IF(AND(Planungsübersicht!$E32>1990,TYPE(Planungsübersicht!$E32)=1,NOT(Planungsübersicht!$F32="Umsetzung nicht möglich")), Planungsübersicht!C32," ") -> Ü3 | C11: =IF(AND(Planungsübersicht!$E32>1990,TYPE(Planungsübersicht!$E32)=1,NOT(Planungsübersicht!$F32="Umsetzung nicht möglich")), Planungsübersicht!D32," ") -> Reinvestition der Fifty-Fifty-Energie4-Gelder in Klimaschutz | D11: =IF(AND(Planungsübersicht!$E32>1990,TYPE(Planungsübersicht!$E32)=1,NOT(Planungsübersicht!$F32="Umsetzung nicht möglich")), Planungsübersicht!E32," ") -> 2010 | E11: =IF(AND(Planungsübersicht!$E32>1990,TYPE(Planungsübersicht!$E32)=1,NOT(Planungsübersicht!$F32="Umsetzung nicht möglich")), Planungsübersicht!F32," ") -> wird laufend umgesetzt | F11: =IF(AND(Planungsübersicht!$E32>1990,TYPE(Planungsübersicht!$E32)=1,NOT(Planungsübersicht!$F32="Umsetzung nicht möglich")), Planungsübersicht!G32," ") -> Fr. Nedić (Klimaschutzbeauftragte) | G11: =IF(AND(Planungsübersicht!$E32>1990,TYPE(Planungsübersicht!$E32)=1,NOT(Planungsübersicht!$F32="Umsetzung nicht möglich")), Planungsübersicht!H32," ") -> Elternvertreter, Umweltlehrer, Schulleitung, UmweltschülerInnen | H11: =IF(AND(Planungsübersicht!$E32>1990,TYPE(Planungsübersicht!$E32)=1,NOT(Planungsübersicht!$F32="Umsetzung nicht möglich")), MAX(Planungsübersicht!I32:Z32)," ") -> 0
B12: =IF(AND(Planungsübersicht!$E52>1990,TYPE(Planungsübersicht!$E52)=1,NOT(Planungsübersicht!$F52="Umsetzung nicht möglich")), Planungsübersicht!C52," ") -> Ü13 | C12: =IF(AND(Planungsübersicht!$E52>1990,TYPE(Planungsübersicht!$E52)=1,NOT(Planungsübersicht!$F52="Umsetzung nicht möglich")), Planungsübersicht!D52," ") -> Umwelt-Zeitung | D12: =IF(AND(Planungsübersicht!$E52>1990,TYPE(Planungsübersicht!$E52)=1,NOT(Planungsübersicht!$F52="Umsetzung nicht möglich")), Planungsübersicht!E52," ") -> 2010 | E12: =IF(AND(Planungsübersicht!$E52>1990,TYPE(Planungsübersicht!$E52)=1,NOT(Planungsübersicht!$F52="Umsetzung nicht möglich")), Planungsübersicht!F52," ") -> zukünftiger Termin | F12: =IF(AND(Planungsübersicht!$E52>1990,TYPE(Planungsübersicht!$E52)=1,NOT(Planungsübersicht!$F52="Umsetzung nicht möglich")), Planungsübersicht!G52," ") -> Fr. Nedić (Klimaschutzbeauftragte), Umweltgruppe | G12: =IF(AND(Planungsübersicht!$E52>1990,TYPE(Planungsübersicht!$E52)=1,NOT(Planungsübersicht!$F52="Umsetzung nicht möglich")), Planungsübersicht!H52," ") -> alle | H12: =IF(AND(Planungsübersicht!$E52>1990,TYPE(Planungsübersicht!$E52)=1,NOT(Planungsübersicht!$F52="Umsetzung nicht möglich")), MAX(Planungsübersicht!I52:Z52)," ") -> 0
B13: =IF(AND(Planungsübersicht!$E84>1990,TYPE(Planungsübersicht!$E84)=1,NOT(Planungsübersicht!$F84="Umsetzung nicht möglich")), Planungsübersicht!C84," ") -> W4 | C13: =IF(AND(Planungsübersicht!$E84>1990,TYPE(Planungsübersicht!$E84)=1,NOT(Planungsübersicht!$F84="Umsetzung nicht möglich")), Planungsübersicht!D84," ") -> WasteWatcher achten auf geschlossene Fenster und Stoßlüften im Winter | D13: =IF(AND(Planungsübersicht!$E84>1990,TYPE(Planungsübersicht!$E84)=1,NOT(Planungsübersicht!$F84="Umsetzung nicht möglich")), Planungsübersicht!E84," ") -> 2010 | E13: =IF(AND(Planungsübersicht!$E84>1990,TYPE(Planungsübersicht!$E84)=1,NOT(Planungsübersicht!$F84="Umsetzung nicht möglich")), Planungsübersicht!F84," ") -> wird laufend umgesetzt | F13: =IF(AND(Planungsübersicht!$E84>1990,TYPE(Planungsübersicht!$E84)=1,NOT(Planungsübersicht!$F84="Umsetzung nicht möglich")), Planungsübersicht!G84," ") -> Fr. Wolgast (WasteWatcher Betreuer), Fr. Nedić (Klimaschutzbeauftragte) | G13: =IF(AND(Planungsübersicht!$E84>1990,TYPE(Planungsübersicht!$E84)=1,NOT(Planungsübersicht!$F84="Umsetzung nicht möglich")), Planungsübersicht!H84," ") -> WasteWatcher, alle | H13: =IF(AND(Planungsübersicht!$E84>1990,TYPE(Planungsübersicht!$E84)=1,NOT(Planungsübersicht!$F84="Umsetzung nicht möglich")), MAX(Planungsübersicht!I84:Z84)," ") -> 4000
B14: =IF(AND(Planungsübersicht!$E86>1990,TYPE(Planungsübersicht!$E86)=1,NOT(Planungsübersicht!$F86="Umsetzung nicht möglich")), Planungsübersicht!C86," ") -> W5 | C14: =IF(AND(Planungsübersicht!$E86>1990,TYPE(Planungsübersicht!$E86)=1,NOT(Planungsübersicht!$F86="Umsetzung nicht möglich")), Planungsübersicht!D86," ") -> Verschattung beseitigen | D14: =IF(AND(Planungsübersicht!$E86>1990,TYPE(Planungsübersicht!$E86)=1,NOT(Planungsübersicht!$F86="Umsetzung nicht möglich")), Planungsübersicht!E86," ") -> 2010 | E14: =IF(AND(Planungsübersicht!$E86>1990,TYPE(Planungsübersicht!$E86)=1,NOT(Planungsübersicht!$F86="Umsetzung nicht möglich")), Planungsübersicht!F86," ") -> 0 | F14: =IF(AND(Planungsübersicht!$E86>1990,TYPE(Planungsübersicht!$E86)=1,NOT(Planungsübersicht!$F86="Umsetzung nicht möglich")), Planungsübersicht!G86," ") -> Fr. Nedić (Klimaschutzbeauftragte) | G14: =IF(AND(Planungsübersicht!$E86>1990,TYPE(Planungsübersicht!$E86)=1,NOT(Planungsübersicht!$F86="Umsetzung nicht möglich")), Planungsübersicht!H86," ") -> 0 | H14: =IF(AND(Planungsübersicht!$E86>1990,TYPE(Planungsübersicht!$E86)=1,NOT(Planungsübersicht!$F86="Umsetzung nicht möglich")), MAX(Planungsübersicht!I86:Z86)," ") -> 575
B15: =IF(AND(Planungsübersicht!$E88>1990,TYPE(Planungsübersicht!$E88)=1,NOT(Planungsübersicht!$F88="Umsetzung nicht möglich")), Planungsübersicht!C88," ") -> W6 | C15: =IF(AND(Planungsübersicht!$E88>1990,TYPE(Planungsübersicht!$E88)=1,NOT(Planungsübersicht!$F88="Umsetzung nicht möglich")), Planungsübersicht!D88," ") -> Nachisolation der Heizkellerventile | D15: =IF(AND(Planungsübersicht!$E88>1990,TYPE(Planungsübersicht!$E88)=1,NOT(Planungsübersicht!$F88="Umsetzung nicht möglich")), Planungsübersicht!E88," ") -> 2010 | E15: =IF(AND(Planungsübersicht!$E88>1990,TYPE(Planungsübersicht!$E88)=1,NOT(Planungsübersicht!$F88="Umsetzung nicht möglich")), Planungsübersicht!F88," ") -> umgesetzt | F15: =IF(AND(Planungsübersicht!$E88>1990,TYPE(Planungsübersicht!$E88)=1,NOT(Planungsübersicht!$F88="Umsetzung nicht möglich")), Planungsübersicht!G88," ") -> Hr. Brüggmann (Hausmeister) | G15: =IF(AND(Planungsübersicht!$E88>1990,TYPE(Planungsübersicht!$E88)=1,NOT(Planungsübersicht!$F88="Umsetzung nicht möglich")), Planungsübersicht!H88," ") -> Hr. Brüggmann (Hausmeister) | H15: =IF(AND(Planungsübersicht!$E88>1990,TYPE(Planungsübersicht!$E88)=1,NOT(Planungsübersicht!$F88="Umsetzung nicht möglich")), MAX(Planungsübersicht!I88:Z88)," ") -> 13800
B16: =IF(AND(Planungsübersicht!$E90>1990,TYPE(Planungsübersicht!$E90)=1,NOT(Planungsübersicht!$F90="Umsetzung nicht möglich")), Planungsübersicht!C90," ") -> W7 | C16: =IF(AND(Planungsübersicht!$E90>1990,TYPE(Planungsübersicht!$E90)=1,NOT(Planungsübersicht!$F90="Umsetzung nicht möglich")), Planungsübersicht!D90," ") -> Heiztechnische Trennung der Gebäude | D16: =IF(AND(Planungsübersicht!$E90>1990,TYPE(Planungsübersicht!$E90)=1,NOT(Planungsübersicht!$F90="Umsetzung nicht möglich")), Planungsübersicht!E90," ") -> 2010 | E16: =IF(AND(Planungsübersicht!$E90>1990,TYPE(Planungsübersicht!$E90)=1,NOT(Planungsübersicht!$F90="Umsetzung nicht möglich")), Planungsübersicht!F90," ") -> umgesetzt | F16: =IF(AND(Planungsübersicht!$E90>1990,TYPE(Planungsübersicht!$E90)=1,NOT(Planungsübersicht!$F90="Umsetzung nicht möglich")), Planungsübersicht!G90," ") -> Hr. Brüggmann (Hausmeister) | G16: =IF(AND(Planungsübersicht!$E90>1990,TYPE(Planungsübersicht!$E90)=1,NOT(Planungsübersicht!$F90="Umsetzung nicht möglich")), Planungsübersicht!H90," ") -> Hr. Brüggmann (Hausmeister) | H16: =IF(AND(Planungsübersicht!$E90>1990,TYPE(Planungsübersicht!$E90)=1,NOT(Planungsübersicht!$F90="Umsetzung nicht möglich")), MAX(Planungsübersicht!I90:Z90)," ") -> 16100
B17: =IF(AND(Planungsübersicht!$E134>1990,TYPE(Planungsübersicht!$E134)=1,NOT(Planungsübersicht!$F134="Umsetzung nicht möglich")), Planungsübersicht!C134," ") -> S2 | C17: =IF(AND(Planungsübersicht!$E134>1990,TYPE(Planungsübersicht!$E134)=1,NOT(Planungsübersicht!$F134="Umsetzung nicht möglich")), Planungsübersicht!D134," ") -> Verschattung der PVA beseitigen | D17: =IF(AND(Planungsübersicht!$E134>1990,TYPE(Planungsübersicht!$E134)=1,NOT(Planungsübersicht!$F134="Umsetzung nicht möglich")), Planungsübersicht!E134," ") -> 2010 | E17: =IF(AND(Planungsübersicht!$E134>1990,TYPE(Planungsübersicht!$E134)=1,NOT(Planungsübersicht!$F134="Umsetzung nicht möglich")), Planungsübersicht!F134," ") -> 0 | F17: =IF(AND(Planungsübersicht!$E134>1990,TYPE(Planungsübersicht!$E134)=1,NOT(Planungsübersicht!$F134="Umsetzung nicht möglich")), Planungsübersicht!G134," ") -> 0 | G17: =IF(AND(Planungsübersicht!$E134>1990,TYPE(Planungsübersicht!$E134)=1,NOT(Planungsübersicht!$F134="Umsetzung nicht möglich")), Planungsübersicht!H134," ") -> 0 | H17: =IF(AND(Planungsübersicht!$E134>1990,TYPE(Planungsübersicht!$E134)=1,NOT(Planungsübersicht!$F134="Umsetzung nicht möglich")), MAX(Planungsübersicht!I134:Z134)," ") -> 122
B18: =IF(AND(Planungsübersicht!$E136>1990,TYPE(Planungsübersicht!$E136)=1,NOT(Planungsübersicht!$F136="Umsetzung nicht möglich")), Planungsübersicht!C136," ") -> S3 | C18: =IF(AND(Planungsübersicht!$E136>1990,TYPE(Planungsübersicht!$E136)=1,NOT(Planungsübersicht!$F136="Umsetzung nicht möglich")), Planungsübersicht!D136," ") -> Neue Photovoltaik | D18: =IF(AND(Planungsübersicht!$E136>1990,TYPE(Planungsübersicht!$E136)=1,NOT(Planungsübersicht!$F136="Umsetzung nicht möglich")), Planungsübersicht!E136," ") -> 2010 | E18: =IF(AND(Planungsübersicht!$E136>1990,TYPE(Planungsübersicht!$E136)=1,NOT(Planungsübersicht!$F136="Umsetzung nicht möglich")), Planungsübersicht!F136," ") -> umgesetzt | F18: =IF(AND(Planungsübersicht!$E136>1990,TYPE(Planungsübersicht!$E136)=1,NOT(Planungsübersicht!$F136="Umsetzung nicht möglich")), Planungsübersicht!G136," ") -> Hr. Brüggmann (Hausmeister) | G18: =IF(AND(Planungsübersicht!$E136>1990,TYPE(Planungsübersicht!$E136)=1,NOT(Planungsübersicht!$F136="Umsetzung nicht möglich")), Planungsübersicht!H136," ") -> Schau- und Auswertmöglichkeit für Physik/Naturwissenschaftskurse | H18: =IF(AND(Planungsübersicht!$E136>1990,TYPE(Planungsübersicht!$E136)=1,NOT(Planungsübersicht!$F136="Umsetzung nicht möglich")), MAX(Planungsübersicht!I136:Z136)," ") -> 4700
B19: =IF(AND(Planungsübersicht!$E142>1990,TYPE(Planungsübersicht!$E142)=1,NOT(Planungsübersicht!$F142="Umsetzung nicht möglich")), Planungsübersicht!C142," ") -> S6 | C19: =IF(AND(Planungsübersicht!$E142>1990,TYPE(Planungsübersicht!$E142)=1,NOT(Planungsübersicht!$F142="Umsetzung nicht möglich")), Planungsübersicht!D142," ") -> Effizienzsteigerung | D19: =IF(AND(Planungsübersicht!$E142>1990,TYPE(Planungsübersicht!$E142)=1,NOT(Planungsübersicht!$F142="Umsetzung nicht möglich")), Planungsübersicht!E142," ") -> 2010 | E19: =IF(AND(Planungsübersicht!$E142>1990,TYPE(Planungsübersicht!$E142)=1,NOT(Planungsübersicht!$F142="Umsetzung nicht möglich")), Planungsübersicht!F142," ") -> umgesetzt | F19: =IF(AND(Planungsübersicht!$E142>1990,TYPE(Planungsübersicht!$E142)=1,NOT(Planungsübersicht!$F142="Umsetzung nicht möglich")), Planungsübersicht!G142," ") -> Hr. Brüggmann (Hausmeister) | G19: =IF(AND(Planungsübersicht!$E142>1990,TYPE(Planungsübersicht!$E142)=1,NOT(Planungsübersicht!$F142="Umsetzung nicht möglich")), Planungsübersicht!H142," ") -> 0 | H19: =IF(AND(Planungsübersicht!$E142>1990,TYPE(Planungsübersicht!$E142)=1,NOT(Planungsübersicht!$F142="Umsetzung nicht möglich")), MAX(Planungsübersicht!I142:Z142)," ") -> 0
B20: =IF(AND(Planungsübersicht!$E176>1990,TYPE(Planungsübersicht!$E176)=1,NOT(Planungsübersicht!$F176="Umsetzung nicht möglich")), Planungsübersicht!C176," ") -> A1 | C20: =IF(AND(Planungsübersicht!$E176>1990,TYPE(Planungsübersicht!$E176)=1,NOT(Planungsübersicht!$F176="Umsetzung nicht möglich")), Planungsübersicht!D176," ") -> Papier wird getrennt gesammelt | D20: =IF(AND(Planungsübersicht!$E176>1990,TYPE(Planungsübersicht!$E176)=1,NOT(Planungsübersicht!$F176="Umsetzung nicht möglich")), Planungsübersicht!E176," ") -> 2010 | E20: =IF(AND(Planungsübersicht!$E176>1990,TYPE(Planungsübersicht!$E176)=1,NOT(Planungsübersicht!$F176="Umsetzung nicht möglich")), Planungsübersicht!F176," ") -> wird laufend umgesetzt | F20: =IF(AND(Planungsübersicht!$E176>1990,TYPE(Planungsübersicht!$E176)=1,NOT(Planungsübersicht!$F176="Umsetzung nicht möglich")), Planungsübersicht!G176," ") -> Hr. Brüggmann (Hausmeister) | G20: =IF(AND(Planungsübersicht!$E176>1990,TYPE(Planungsübersicht!$E176)=1,NOT(Planungsübersicht!$F176="Umsetzung nicht möglich")), Planungsübersicht!H176," ") -> alle, WasteWatcher | H20: =IF(AND(Planungsübersicht!$E176>1990,TYPE(Planungsübersicht!$E176)=1,NOT(Planungsübersicht!$F176="Umsetzung nicht möglich")), MAX(Planungsübersicht!I176:Z176)," ") -> 6200
B21: =IF(AND(Planungsübersicht!$E178>1990,TYPE(Planungsübersicht!$E178)=1,NOT(Planungsübersicht!$F178="Umsetzung nicht möglich")), Planungsübersicht!C178," ") -> A2 | C21: =IF(AND(Planungsübersicht!$E178>1990,TYPE(Planungsübersicht!$E178)=1,NOT(Planungsübersicht!$F178="Umsetzung nicht möglich")), Planungsübersicht!D178," ") -> WasteWatcherInnen werden ausgebildet | D21: =IF(AND(Planungsübersicht!$E178>1990,TYPE(Planungsübersicht!$E178)=1,NOT(Planungsübersicht!$F178="Umsetzung nicht möglich")), Planungsübersicht!E178," ") -> 2010 | E21: =IF(AND(Planungsübersicht!$E178>1990,TYPE(Planungsübersicht!$E178)=1,NOT(Planungsübersicht!$F178="Umsetzung nicht möglich")), Planungsübersicht!F178," ") -> wird laufend umgesetzt | F21: =IF(AND(Planungsübersicht!$E178>1990,TYPE(Planungsübersicht!$E178)=1,NOT(Planungsübersicht!$F178="Umsetzung nicht möglich")), Planungsübersicht!G178," ") -> Fr. Wolgast (WasteWatcher Betreuerin) | G21: =IF(AND(Planungsübersicht!$E178>1990,TYPE(Planungsübersicht!$E178)=1,NOT(Planungsübersicht!$F178="Umsetzung nicht möglich")), Planungsübersicht!H178," ") -> 2 SchülerInnen je Klasse | H21: =IF(AND(Planungsübersicht!$E178>1990,TYPE(Planungsübersicht!$E178)=1,NOT(Planungsübersicht!$F178="Umsetzung nicht möglich")), MAX(Planungsübersicht!I178:Z178)," ") -> 0
B22: =IF(AND(Planungsübersicht!$E184>1990,TYPE(Planungsübersicht!$E184)=1,NOT(Planungsübersicht!$F184="Umsetzung nicht möglich")), Planungsübersicht!C184," ") -> A5 | C22: =IF(AND(Planungsübersicht!$E184>1990,TYPE(Planungsübersicht!$E184)=1,NOT(Planungsübersicht!$F184="Umsetzung nicht möglich")), Planungsübersicht!D184," ") -> Battariesammelstation | D22: =IF(AND(Planungsübersicht!$E184>1990,TYPE(Planungsübersicht!$E184)=1,NOT(Planungsübersicht!$F184="Umsetzung nicht möglich")), Planungsübersicht!E184," ") -> 2010 | E22: =IF(AND(Planungsübersicht!$E184>1990,TYPE(Planungsübersicht!$E184)=1,NOT(Planungsübersicht!$F184="Umsetzung nicht möglich")), Planungsübersicht!F184," ") -> wird laufend umgesetzt | F22: =IF(AND(Planungsübersicht!$E184>1990,TYPE(Planungsübersicht!$E184)=1,NOT(Planungsübersicht!$F184="Umsetzung nicht möglich")), Planungsübersicht!G184," ") -> Fr. Nedić (Klimaschutzbeauftragte), Hr. Loy (Physiksammlungsleitung) | G22: =IF(AND(Planungsübersicht!$E184>1990,TYPE(Planungsübersicht!$E184)=1,NOT(Planungsübersicht!$F184="Umsetzung nicht möglich")), Planungsübersicht!H184," ") -> alle | H22: =IF(AND(Planungsübersicht!$E184>1990,TYPE(Planungsübersicht!$E184)=1,NOT(Planungsübersicht!$F184="Umsetzung nicht möglich")), MAX(Planungsübersicht!I184:Z184)," ") -> 0
B23: =IF(AND(Planungsübersicht!$E34>1990,TYPE(Planungsübersicht!$E34)=1,NOT(Planungsübersicht!$F34="Umsetzung nicht möglich")), Planungsübersicht!C34," ") -> Ü4 | C23: =IF(AND(Planungsübersicht!$E34>1990,TYPE(Planungsübersicht!$E34)=1,NOT(Planungsübersicht!$F34="Umsetzung nicht möglich")), Planungsübersicht!D34," ") -> Thema "Klimaschutz" im Schulcurriculum PGW | D23: =IF(AND(Planungsübersicht!$E34>1990,TYPE(Planungsübersicht!$E34)=1,NOT(Planungsübersicht!$F34="Umsetzung nicht möglich")), Planungsübersicht!E34," ") -> 2011 | E23: =IF(AND(Planungsübersicht!$E34>1990,TYPE(Planungsübersicht!$E34)=1,NOT(Planungsübersicht!$F34="Umsetzung nicht möglich")), Planungsübersicht!F34," ") -> umgesetzt | F23: =IF(AND(Planungsübersicht!$E34>1990,TYPE(Planungsübersicht!$E34)=1,NOT(Planungsübersicht!$F34="Umsetzung nicht möglich")), Planungsübersicht!G34," ") -> Fr. Langjahr (PGW Fachleitung) | G23: =IF(AND(Planungsübersicht!$E34>1990,TYPE(Planungsübersicht!$E34)=1,NOT(Planungsübersicht!$F34="Umsetzung nicht möglich")), Planungsübersicht!H34," ") -> Schüler/-innen Klassenstufe 8/9/10 und SekII | H23: =IF(AND(Planungsübersicht!$E34>1990,TYPE(Planungsübersicht!$E34)=1,NOT(Planungsübersicht!$F34="Umsetzung nicht möglich")), MAX(Planungsübersicht!I34:Z34)," ") -> 0
B24: =IF(AND(Planungsübersicht!$E36>1990,TYPE(Planungsübersicht!$E36)=1,NOT(Planungsübersicht!$F36="Umsetzung nicht möglich")), Planungsübersicht!C36," ") -> Ü5 | C24: =IF(AND(Planungsübersicht!$E36>1990,TYPE(Planungsübersicht!$E36)=1,NOT(Planungsübersicht!$F36="Umsetzung nicht möglich")), Planungsübersicht!D36," ") -> Thema "Klimaschutz" im Schulcurriculum Bio | D24: =IF(AND(Planungsübersicht!$E36>1990,TYPE(Planungsübersicht!$E36)=1,NOT(Planungsübersicht!$F36="Umsetzung nicht möglich")), Planungsübersicht!E36," ") -> 2011 | E24: =IF(AND(Planungsübersicht!$E36>1990,TYPE(Planungsübersicht!$E36)=1,NOT(Planungsübersicht!$F36="Umsetzung nicht möglich")), Planungsübersicht!F36," ") -> umgesetzt | F24: =IF(AND(Planungsübersicht!$E36>1990,TYPE(Planungsübersicht!$E36)=1,NOT(Planungsübersicht!$F36="Umsetzung nicht möglich")), Planungsübersicht!G36," ") -> Hr. Bock (Bio Fachleitung) | G24: =IF(AND(Planungsübersicht!$E36>1990,TYPE(Planungsübersicht!$E36)=1,NOT(Planungsübersicht!$F36="Umsetzung nicht möglich")), Planungsübersicht!H36," ") -> Schüler/-innen Klassenstufe 9 | H24: =IF(AND(Planungsübersicht!$E36>1990,TYPE(Planungsübersicht!$E36)=1,NOT(Planungsübersicht!$F36="Umsetzung nicht möglich")), MAX(Planungsübersicht!I36:Z36)," ") -> 0
B25: =IF(AND(Planungsübersicht!$E38>1990,TYPE(Planungsübersicht!$E38)=1,NOT(Planungsübersicht!$F38="Umsetzung nicht möglich")), Planungsübersicht!C38," ") -> Ü6 | C25: =IF(AND(Planungsübersicht!$E38>1990,TYPE(Planungsübersicht!$E38)=1,NOT(Planungsübersicht!$F38="Umsetzung nicht möglich")), Planungsübersicht!D38," ") -> Thema "Ressourcen" im Schulcurriculum PGW | D25: =IF(AND(Planungsübersicht!$E38>1990,TYPE(Planungsübersicht!$E38)=1,NOT(Planungsübersicht!$F38="Umsetzung nicht möglich")), Planungsübersicht!E38," ") -> 2011 | E25: =IF(AND(Planungsübersicht!$E38>1990,TYPE(Planungsübersicht!$E38)=1,NOT(Planungsübersicht!$F38="Umsetzung nicht möglich")), Planungsübersicht!F38," ") -> umgesetzt | F25: =IF(AND(Planungsübersicht!$E38>1990,TYPE(Planungsübersicht!$E38)=1,NOT(Planungsübersicht!$F38="Umsetzung nicht möglich")), Planungsübersicht!G38," ") -> Fr. Langjahr (PGW Fachleitung) | G25: =IF(AND(Planungsübersicht!$E38>1990,TYPE(Planungsübersicht!$E38)=1,NOT(Planungsübersicht!$F38="Umsetzung nicht möglich")), Planungsübersicht!H38," ") -> Schüler/-innen Klassenstufe 10 | H25: =IF(AND(Planungsübersicht!$E38>1990,TYPE(Planungsübersicht!$E38)=1,NOT(Planungsübersicht!$F38="Umsetzung nicht möglich")), MAX(Planungsübersicht!I38:Z38)," ") -> 0
B26: =IF(AND(Planungsübersicht!$E40>1990,TYPE(Planungsübersicht!$E40)=1,NOT(Planungsübersicht!$F40="Umsetzung nicht möglich")), Planungsübersicht!C40," ") -> Ü7 | C26: =IF(AND(Planungsübersicht!$E40>1990,TYPE(Planungsübersicht!$E40)=1,NOT(Planungsübersicht!$F40="Umsetzung nicht möglich")), Planungsübersicht!D40," ") -> Thema "Nachhaltigkeit, Globalisierung, Energiewende" im Schulcurriculum PGW | D26: =IF(AND(Planungsübersicht!$E40>1990,TYPE(Planungsübersicht!$E40)=1,NOT(Planungsübersicht!$F40="Umsetzung nicht möglich")), Planungsübersicht!E40," ") -> 2011 | E26: =IF(AND(Planungsübersicht!$E40>1990,TYPE(Planungsübersicht!$E40)=1,NOT(Planungsübersicht!$F40="Umsetzung nicht möglich")), Planungsübersicht!F40," ") -> umgesetzt | F26: =IF(AND(Planungsübersicht!$E40>1990,TYPE(Planungsübersicht!$E40)=1,NOT(Planungsübersicht!$F40="Umsetzung nicht möglich")), Planungsübersicht!G40," ") -> Fr. Langjahr (PGW Fachleitung) | G26: =IF(AND(Planungsübersicht!$E40>1990,TYPE(Planungsübersicht!$E40)=1,NOT(Planungsübersicht!$F40="Umsetzung nicht möglich")), Planungsübersicht!H40," ") -> Schüler/-innen Klassenstufe Oberstufe | H26: =IF(AND(Planungsübersicht!$E40>1990,TYPE(Planungsübersicht!$E40)=1,NOT(Planungsübersicht!$F40="Umsetzung nicht möglich")), MAX(Planungsübersicht!I40:Z40)," ") -> 0
B27: =IF(AND(Planungsübersicht!$E138>1990,TYPE(Planungsübersicht!$E138)=1,NOT(Planungsübersicht!$F138="Umsetzung nicht möglich")), Planungsübersicht!C138," ") -> S4 | C27: =IF(AND(Planungsübersicht!$E138>1990,TYPE(Planungsübersicht!$E138)=1,NOT(Planungsübersicht!$F138="Umsetzung nicht möglich")), Planungsübersicht!D138," ") -> Neue Photovoltaik | D27: =IF(AND(Planungsübersicht!$E138>1990,TYPE(Planungsübersicht!$E138)=1,NOT(Planungsübersicht!$F138="Umsetzung nicht möglich")), Planungsübersicht!E138," ") -> 2011 | E27: =IF(AND(Planungsübersicht!$E138>1990,TYPE(Planungsübersicht!$E138)=1,NOT(Planungsübersicht!$F138="Umsetzung nicht möglich")), Planungsübersicht!F138," ") -> umgesetzt | F27: =IF(AND(Planungsübersicht!$E138>1990,TYPE(Planungsübersicht!$E138)=1,NOT(Planungsübersicht!$F138="Umsetzung nicht möglich")), Planungsübersicht!G138," ") -> Hr. Brüggmann (Hausmeister) | G27: =IF(AND(Planungsübersicht!$E138>1990,TYPE(Planungsübersicht!$E138)=1,NOT(Planungsübersicht!$F138="Umsetzung nicht möglich")), Planungsübersicht!H138," ") -> Schau- und Auswertmöglichkeit für Physik/Naturwissenschaftskurse | H27: =IF(AND(Planungsübersicht!$E138>1990,TYPE(Planungsübersicht!$E138)=1,NOT(Planungsübersicht!$F138="Umsetzung nicht möglich")), MAX(Planungsübersicht!I138:Z138)," ") -> 1000
B28: =IF(AND(Planungsübersicht!$E140>1990,TYPE(Planungsübersicht!$E140)=1,NOT(Planungsübersicht!$F140="Umsetzung nicht möglich")), Planungsübersicht!C140," ") -> S5 | C28: =IF(AND(Planungsübersicht!$E140>1990,TYPE(Planungsübersicht!$E140)=1,NOT(Planungsübersicht!$F140="Umsetzung nicht möglich")), Planungsübersicht!D140," ") -> WasteWatcher achten auch auf unnötige Stromverschwendung | D28: =IF(AND(Planungsübersicht!$E140>1990,TYPE(Planungsübersicht!$E140)=1,NOT(Planungsübersicht!$F140="Umsetzung nicht möglich")), Planungsübersicht!E140," ") -> 2011 | E28: =IF(AND(Planungsübersicht!$E140>1990,TYPE(Planungsübersicht!$E140)=1,NOT(Planungsübersicht!$F140="Umsetzung nicht möglich")), Planungsübersicht!F140," ") -> wird laufend umgesetzt | F28: =IF(AND(Planungsübersicht!$E140>1990,TYPE(Planungsübersicht!$E140)=1,NOT(Planungsübersicht!$F140="Umsetzung nicht möglich")), Planungsübersicht!G140," ") -> Fr. Wolgast (WasteWatcher Betreuerin) | G28: =IF(AND(Planungsübersicht!$E140>1990,TYPE(Planungsübersicht!$E140)=1,NOT(Planungsübersicht!$F140="Umsetzung nicht möglich")), Planungsübersicht!H140," ") -> WasteWatcher, alle | H28: =IF(AND(Planungsübersicht!$E140>1990,TYPE(Planungsübersicht!$E140)=1,NOT(Planungsübersicht!$F140="Umsetzung nicht möglich")), MAX(Planungsübersicht!I140:Z140)," ") -> 500
B29: =IF(AND(Planungsübersicht!$E146>1990,TYPE(Planungsübersicht!$E146)=1,NOT(Planungsübersicht!$F146="Umsetzung nicht möglich")), Planungsübersicht!C146," ") -> S8 | C29: =IF(AND(Planungsübersicht!$E146>1990,TYPE(Planungsübersicht!$E146)=1,NOT(Planungsübersicht!$F146="Umsetzung nicht möglich")), Planungsübersicht!D146," ") -> Thema "nachhaltiges Wirtschaften-Nutzung der PVA" in das Schulcurriculum | D29: =IF(AND(Planungsübersicht!$E146>1990,TYPE(Planungsübersicht!$E146)=1,NOT(Planungsübersicht!$F146="Umsetzung nicht möglich")), Planungsübersicht!E146," ") -> 2011 | E29: =IF(AND(Planungsübersicht!$E146>1990,TYPE(Planungsübersicht!$E146)=1,NOT(Planungsübersicht!$F146="Umsetzung nicht möglich")), Planungsübersicht!F146," ") -> 0 | F29: =IF(AND(Planungsübersicht!$E146>1990,TYPE(Planungsübersicht!$E146)=1,NOT(Planungsübersicht!$F146="Umsetzung nicht möglich")), Planungsübersicht!G146," ") -> Hr. Jürgens (Geographie Fachleitung) | G29: =IF(AND(Planungsübersicht!$E146>1990,TYPE(Planungsübersicht!$E146)=1,NOT(Planungsübersicht!$F146="Umsetzung nicht möglich")), Planungsübersicht!H146," ") -> Schüler/-innen Klassenstufe 7 bis 10 | H29: =IF(AND(Planungsübersicht!$E146>1990,TYPE(Planungsübersicht!$E146)=1,NOT(Planungsübersicht!$F146="Umsetzung nicht möglich")), MAX(Planungsübersicht!I146:Z146)," ") -> 0
B30: =IF(AND(Planungsübersicht!$E226>1990,TYPE(Planungsübersicht!$E226)=1,NOT(Planungsübersicht!$F226="Umsetzung nicht möglich")), Planungsübersicht!C226," ") -> B3 | C30: =IF(AND(Planungsübersicht!$E226>1990,TYPE(Planungsübersicht!$E226)=1,NOT(Planungsübersicht!$F226="Umsetzung nicht möglich")), Planungsübersicht!D226," ") -> Umweltfreundliche Schulmaterialien (Willkommenstüte) | D30: =IF(AND(Planungsübersicht!$E226>1990,TYPE(Planungsübersicht!$E226)=1,NOT(Planungsübersicht!$F226="Umsetzung nicht möglich")), Planungsübersicht!E226," ") -> 2011 | E30: =IF(AND(Planungsübersicht!$E226>1990,TYPE(Planungsübersicht!$E226)=1,NOT(Planungsübersicht!$F226="Umsetzung nicht möglich")), Planungsübersicht!F226," ") -> wird laufend umgesetzt | F30: =IF(AND(Planungsübersicht!$E226>1990,TYPE(Planungsübersicht!$E226)=1,NOT(Planungsübersicht!$F226="Umsetzung nicht möglich")), Planungsübersicht!G226," ") -> Fr. Wolgast (Umweltgruppe) | G30: =IF(AND(Planungsübersicht!$E226>1990,TYPE(Planungsübersicht!$E226)=1,NOT(Planungsübersicht!$F226="Umsetzung nicht möglich")), Planungsübersicht!H226," ") -> Fr. Wermann, Schüler der 5. Klassen | H30: =IF(AND(Planungsübersicht!$E226>1990,TYPE(Planungsübersicht!$E226)=1,NOT(Planungsübersicht!$F226="Umsetzung nicht möglich")), MAX(Planungsübersicht!I226:Z226)," ") -> 100
B31: =IF(AND(Planungsübersicht!$E78>1990,TYPE(Planungsübersicht!$E78)=1,NOT(Planungsübersicht!$F78="Umsetzung nicht möglich")), Planungsübersicht!C78," ") -> W1 | C31: =IF(AND(Planungsübersicht!$E78>1990,TYPE(Planungsübersicht!$E78)=1,NOT(Planungsübersicht!$F78="Umsetzung nicht möglich")), Planungsübersicht!D78," ") -> sofortige Reparatur defekter Fenster, defekter Isolation | D31: =IF(AND(Planungsübersicht!$E78>1990,TYPE(Planungsübersicht!$E78)=1,NOT(Planungsübersicht!$F78="Umsetzung nicht möglich")), Planungsübersicht!E78," ") -> 2012 | E31: =IF(AND(Planungsübersicht!$E78>1990,TYPE(Planungsübersicht!$E78)=1,NOT(Planungsübersicht!$F78="Umsetzung nicht möglich")), Planungsübersicht!F78," ") -> wird laufend umgesetzt | F31: =IF(AND(Planungsübersicht!$E78>1990,TYPE(Planungsübersicht!$E78)=1,NOT(Planungsübersicht!$F78="Umsetzung nicht möglich")), Planungsübersicht!G78," ") -> Hr. Brüggmann (Hausmeister) | G31: =IF(AND(Planungsübersicht!$E78>1990,TYPE(Planungsübersicht!$E78)=1,NOT(Planungsübersicht!$F78="Umsetzung nicht möglich")), Planungsübersicht!H78," ") -> Schüler melden Schäden unverzüglich | H31: =IF(AND(Planungsübersicht!$E78>1990,TYPE(Planungsübersicht!$E78)=1,NOT(Planungsübersicht!$F78="Umsetzung nicht möglich")), MAX(Planungsübersicht!I78:Z78)," ") -> 4000
B32: =IF(AND(Planungsübersicht!$E144>1990,TYPE(Planungsübersicht!$E144)=1,NOT(Planungsübersicht!$F144="Umsetzung nicht möglich")), Planungsübersicht!C144," ") -> S7 | C32: =IF(AND(Planungsübersicht!$E144>1990,TYPE(Planungsübersicht!$E144)=1,NOT(Planungsübersicht!$F144="Umsetzung nicht möglich")), Planungsübersicht!D144," ") -> "Licht-aus"-Plakate werden aufgehängt | D32: =IF(AND(Planungsübersicht!$E144>1990,TYPE(Planungsübersicht!$E144)=1,NOT(Planungsübersicht!$F144="Umsetzung nicht möglich")), Planungsübersicht!E144," ") -> 2012 | E32: =IF(AND(Planungsübersicht!$E144>1990,TYPE(Planungsübersicht!$E144)=1,NOT(Planungsübersicht!$F144="Umsetzung nicht möglich")), Planungsübersicht!F144," ") -> wird laufend umgesetzt | F32: =IF(AND(Planungsübersicht!$E144>1990,TYPE(Planungsübersicht!$E144)=1,NOT(Planungsübersicht!$F144="Umsetzung nicht möglich")), Planungsübersicht!G144," ") -> Fr. Wolgast (WasteWatcher Betreuerin) | G32: =IF(AND(Planungsübersicht!$E144>1990,TYPE(Planungsübersicht!$E144)=1,NOT(Planungsübersicht!$F144="Umsetzung nicht möglich")), Planungsübersicht!H144," ") -> WasteWatcher | H32: =IF(AND(Planungsübersicht!$E144>1990,TYPE(Planungsübersicht!$E144)=1,NOT(Planungsübersicht!$F144="Umsetzung nicht möglich")), MAX(Planungsübersicht!I144:Z144)," ") -> 0
B33: =IF(AND(Planungsübersicht!$E154>1990,TYPE(Planungsübersicht!$E154)=1,NOT(Planungsübersicht!$F154="Umsetzung nicht möglich")), Planungsübersicht!C154," ") -> S12 | C33: =IF(AND(Planungsübersicht!$E154>1990,TYPE(Planungsübersicht!$E154)=1,NOT(Planungsübersicht!$F154="Umsetzung nicht möglich")), Planungsübersicht!D154," ") -> keine Stand By Geräte | D33: =IF(AND(Planungsübersicht!$E154>1990,TYPE(Planungsübersicht!$E154)=1,NOT(Planungsübersicht!$F154="Umsetzung nicht möglich")), Planungsübersicht!E154," ") -> 2012 | E33: =IF(AND(Planungsübersicht!$E154>1990,TYPE(Planungsübersicht!$E154)=1,NOT(Planungsübersicht!$F154="Umsetzung nicht möglich")), Planungsübersicht!F154," ") -> wird laufend umgesetzt | F33: =IF(AND(Planungsübersicht!$E154>1990,TYPE(Planungsübersicht!$E154)=1,NOT(Planungsübersicht!$F154="Umsetzung nicht möglich")), Planungsübersicht!G154," ") -> Fr. Nedić (Klimaschutzbeauftragte) | G33: =IF(AND(Planungsübersicht!$E154>1990,TYPE(Planungsübersicht!$E154)=1,NOT(Planungsübersicht!$F154="Umsetzung nicht möglich")), Planungsübersicht!H154," ") -> 0 | H33: =IF(AND(Planungsübersicht!$E154>1990,TYPE(Planungsübersicht!$E154)=1,NOT(Planungsübersicht!$F154="Umsetzung nicht möglich")), MAX(Planungsübersicht!I154:Z154)," ") -> 0
B34: =IF(AND(Planungsübersicht!$E180>1990,TYPE(Planungsübersicht!$E180)=1,NOT(Planungsübersicht!$F180="Umsetzung nicht möglich")), Planungsübersicht!C180," ") -> A3 | C34: =IF(AND(Planungsübersicht!$E180>1990,TYPE(Planungsübersicht!$E180)=1,NOT(Planungsübersicht!$F180="Umsetzung nicht möglich")), Planungsübersicht!D180," ") -> „So trennt man richtig“-Plakate in allen Klassenräumen | D34: =IF(AND(Planungsübersicht!$E180>1990,TYPE(Planungsübersicht!$E180)=1,NOT(Planungsübersicht!$F180="Umsetzung nicht möglich")), Planungsübersicht!E180," ") -> 2012 | E34: =IF(AND(Planungsübersicht!$E180>1990,TYPE(Planungsübersicht!$E180)=1,NOT(Planungsübersicht!$F180="Umsetzung nicht möglich")), Planungsübersicht!F180," ") -> wird laufend umgesetzt | F34: =IF(AND(Planungsübersicht!$E180>1990,TYPE(Planungsübersicht!$E180)=1,NOT(Planungsübersicht!$F180="Umsetzung nicht möglich")), Planungsübersicht!G180," ") -> Fr. Wolgast (WasteWatcher Betreuerin) | G34: =IF(AND(Planungsübersicht!$E180>1990,TYPE(Planungsübersicht!$E180)=1,NOT(Planungsübersicht!$F180="Umsetzung nicht möglich")), Planungsübersicht!H180," ") -> WasteWatcher | H34: =IF(AND(Planungsübersicht!$E180>1990,TYPE(Planungsübersicht!$E180)=1,NOT(Planungsübersicht!$F180="Umsetzung nicht möglich")), MAX(Planungsübersicht!I180:Z180)," ") -> 0
B35: =IF(AND(Planungsübersicht!$E182>1990,TYPE(Planungsübersicht!$E182)=1,NOT(Planungsübersicht!$F182="Umsetzung nicht möglich")), Planungsübersicht!C182," ") -> A4 | C35: =IF(AND(Planungsübersicht!$E182>1990,TYPE(Planungsübersicht!$E182)=1,NOT(Planungsübersicht!$F182="Umsetzung nicht möglich")), Planungsübersicht!D182," ") -> Korksammelstation | D35: =IF(AND(Planungsübersicht!$E182>1990,TYPE(Planungsübersicht!$E182)=1,NOT(Planungsübersicht!$F182="Umsetzung nicht möglich")), Planungsübersicht!E182," ") -> 2012 | E35: =IF(AND(Planungsübersicht!$E182>1990,TYPE(Planungsübersicht!$E182)=1,NOT(Planungsübersicht!$F182="Umsetzung nicht möglich")), Planungsübersicht!F182," ") -> wird laufend umgesetzt | F35: =IF(AND(Planungsübersicht!$E182>1990,TYPE(Planungsübersicht!$E182)=1,NOT(Planungsübersicht!$F182="Umsetzung nicht möglich")), Planungsübersicht!G182," ") -> Fr. Nedić (Klimaschutzbeauftragte) | G35: =IF(AND(Planungsübersicht!$E182>1990,TYPE(Planungsübersicht!$E182)=1,NOT(Planungsübersicht!$F182="Umsetzung nicht möglich")), Planungsübersicht!H182," ") -> alle | H35: =IF(AND(Planungsübersicht!$E182>1990,TYPE(Planungsübersicht!$E182)=1,NOT(Planungsübersicht!$F182="Umsetzung nicht möglich")), MAX(Planungsübersicht!I182:Z182)," ") -> 0
B36: =IF(AND(Planungsübersicht!$E222>1990,TYPE(Planungsübersicht!$E222)=1,NOT(Planungsübersicht!$F222="Umsetzung nicht möglich")), Planungsübersicht!C222," ") -> B1 | C36: =IF(AND(Planungsübersicht!$E222>1990,TYPE(Planungsübersicht!$E222)=1,NOT(Planungsübersicht!$F222="Umsetzung nicht möglich")), Planungsübersicht!D222," ") -> Bestellungen für Kopierpapier ändern | D36: =IF(AND(Planungsübersicht!$E222>1990,TYPE(Planungsübersicht!$E222)=1,NOT(Planungsübersicht!$F222="Umsetzung nicht möglich")), Planungsübersicht!E222," ") -> 2012 | E36: =IF(AND(Planungsübersicht!$E222>1990,TYPE(Planungsübersicht!$E222)=1,NOT(Planungsübersicht!$F222="Umsetzung nicht möglich")), Planungsübersicht!F222," ") -> umgesetzt | F36: =IF(AND(Planungsübersicht!$E222>1990,TYPE(Planungsübersicht!$E222)=1,NOT(Planungsübersicht!$F222="Umsetzung nicht möglich")), Planungsübersicht!G222," ") -> Hr. Brüggmann (Hausmeister) | G36: =IF(AND(Planungsübersicht!$E222>1990,TYPE(Planungsübersicht!$E222)=1,NOT(Planungsübersicht!$F222="Umsetzung nicht möglich")), Planungsübersicht!H222," ") -> 0 | H36: =IF(AND(Planungsübersicht!$E222>1990,TYPE(Planungsübersicht!$E222)=1,NOT(Planungsübersicht!$F222="Umsetzung nicht möglich")), MAX(Planungsübersicht!I222:Z222)," ") -> 600
B37: =IF(AND(Planungsübersicht!$E104>1990,TYPE(Planungsübersicht!$E104)=1,NOT(Planungsübersicht!$F104="Umsetzung nicht möglich")), Planungsübersicht!C104," ") -> W14 | C37: =IF(AND(Planungsübersicht!$E104>1990,TYPE(Planungsübersicht!$E104)=1,NOT(Planungsübersicht!$F104="Umsetzung nicht möglich")), Planungsübersicht!D104," ") -> Eigene Heizkreise für Zonen unterschiedlichen Wärmebedarfs | D37: =IF(AND(Planungsübersicht!$E104>1990,TYPE(Planungsübersicht!$E104)=1,NOT(Planungsübersicht!$F104="Umsetzung nicht möglich")), Planungsübersicht!E104," ") -> 2013 | E37: =IF(AND(Planungsübersicht!$E104>1990,TYPE(Planungsübersicht!$E104)=1,NOT(Planungsübersicht!$F104="Umsetzung nicht möglich")), Planungsübersicht!F104," ") -> umgesetzt | F37: =IF(AND(Planungsübersicht!$E104>1990,TYPE(Planungsübersicht!$E104)=1,NOT(Planungsübersicht!$F104="Umsetzung nicht möglich")), Planungsübersicht!G104," ") -> Hr. Brüggmann (Hausmeister) | G37: =IF(AND(Planungsübersicht!$E104>1990,TYPE(Planungsübersicht!$E104)=1,NOT(Planungsübersicht!$F104="Umsetzung nicht möglich")), Planungsübersicht!H104," ") -> Hr. Brüggmann (Hausmeister) | H37: =IF(AND(Planungsübersicht!$E104>1990,TYPE(Planungsübersicht!$E104)=1,NOT(Planungsübersicht!$F104="Umsetzung nicht möglich")), MAX(Planungsübersicht!I104:Z104)," ") -> 6164
B38: =IF(AND(Planungsübersicht!$E230>1990,TYPE(Planungsübersicht!$E230)=1,NOT(Planungsübersicht!$F230="Umsetzung nicht möglich")), Planungsübersicht!C230," ") -> B5 | C38: =IF(AND(Planungsübersicht!$E230>1990,TYPE(Planungsübersicht!$E230)=1,NOT(Planungsübersicht!$F230="Umsetzung nicht möglich")), Planungsübersicht!D230," ") -> Verringerung des Papierverbrauchs | D38: =IF(AND(Planungsübersicht!$E230>1990,TYPE(Planungsübersicht!$E230)=1,NOT(Planungsübersicht!$F230="Umsetzung nicht möglich")), Planungsübersicht!E230," ") -> 2013 | E38: =IF(AND(Planungsübersicht!$E230>1990,TYPE(Planungsübersicht!$E230)=1,NOT(Planungsübersicht!$F230="Umsetzung nicht möglich")), Planungsübersicht!F230," ") -> wird laufend umgesetzt | F38: =IF(AND(Planungsübersicht!$E230>1990,TYPE(Planungsübersicht!$E230)=1,NOT(Planungsübersicht!$F230="Umsetzung nicht möglich")), Planungsübersicht!G230," ") -> Fr. Nedić (Klimaschutzbeauftragte) | G38: =IF(AND(Planungsübersicht!$E230>1990,TYPE(Planungsübersicht!$E230)=1,NOT(Planungsübersicht!$F230="Umsetzung nicht möglich")), Planungsübersicht!H230," ") -> Umweltgruppe | H38: =IF(AND(Planungsübersicht!$E230>1990,TYPE(Planungsübersicht!$E230)=1,NOT(Planungsübersicht!$F230="Umsetzung nicht möglich")), MAX(Planungsübersicht!I230:Z230)," ") -> 400
