BEGIN:VCALENDAR
VERSION:2.0
PRODID:-//LMG - ECPv5.1.6//NONSGML v1.0//EN
CALSCALE:GREGORIAN
METHOD:PUBLISH
X-WR-CALNAME:LMG
X-ORIGINAL-URL:https://www.lmg-hamburg.de
X-WR-CALDESC:Veranstaltungen für LMG
BEGIN:VTIMEZONE
TZID:Europe/Berlin
BEGIN:DAYLIGHT
TZOFFSETFROM:+0100
TZOFFSETTO:+0200
TZNAME:CEST
DTSTART:20250330T010000
END:DAYLIGHT
BEGIN:STANDARD
TZOFFSETFROM:+0200
TZOFFSETTO:+0100
TZNAME:CET
DTSTART:20251026T010000
END:STANDARD
END:VTIMEZONE
BEGIN:VEVENT
DTSTART;TZID=Europe/Berlin:20251016T180000
DTEND;TZID=Europe/Berlin:20251016T190000
DTSTAMP:20260425T060510
CREATED:20250727T115231Z
LAST-MODIFIED:20250727T115231Z
UID:10563-1760637600-1760641200@www.lmg-hamburg.de
SUMMARY:1. Schulkonferenz des Schuljahres 25/26
DESCRIPTION:
URL:https://www.lmg-hamburg.de/termin/1-schulkonferenz-des-schuljahres-25-26/
LOCATION:Raum 5/04
END:VEVENT
END:VCALENDAR