BEGIN:VCALENDAR
VERSION:2.0
PRODID:-//LMG - ECPv5.1.6//NONSGML v1.0//EN
CALSCALE:GREGORIAN
METHOD:PUBLISH
X-WR-CALNAME:LMG
X-ORIGINAL-URL:https://www.lmg-hamburg.de
X-WR-CALDESC:Veranstaltungen für LMG
BEGIN:VTIMEZONE
TZID:Europe/Berlin
BEGIN:DAYLIGHT
TZOFFSETFROM:+0100
TZOFFSETTO:+0200
TZNAME:CEST
DTSTART:20260329T010000
END:DAYLIGHT
BEGIN:STANDARD
TZOFFSETFROM:+0200
TZOFFSETTO:+0100
TZNAME:CET
DTSTART:20261025T010000
END:STANDARD
END:VTIMEZONE
BEGIN:VEVENT
DTSTART;TZID=Europe/Berlin:20260202T080000
DTEND;TZID=Europe/Berlin:20260206T140000
DTSTAMP:20260425T030643
CREATED:20250727T120733Z
LAST-MODIFIED:20250727T120734Z
UID:10578-1770019200-1770386400@www.lmg-hamburg.de
SUMMARY:Anmeldewoche für die neuen fünften Klassen am LMG
DESCRIPTION:Kommen Sie bitte zum Flur vor dem Sekretariat und tragen Sie dort den Vornamen Ihres Kindes auf der Flipchart ein. In dieser Reihenfolge werden Sie von Frau Spranger (AL 5-7)  oder Frau Oldenburg (SL’in) aufgerufen.
URL:https://www.lmg-hamburg.de/termin/anmeldewoche-fuer-die-neuen-fuenften-klassen-am-lmg-2/
END:VEVENT
END:VCALENDAR