BEGIN:VCALENDAR
VERSION:2.0
PRODID:-//LMG - ECPv5.1.6//NONSGML v1.0//EN
CALSCALE:GREGORIAN
METHOD:PUBLISH
X-WR-CALNAME:LMG
X-ORIGINAL-URL:https://www.lmg-hamburg.de
X-WR-CALDESC:Veranstaltungen für LMG
BEGIN:VTIMEZONE
TZID:Europe/Berlin
BEGIN:DAYLIGHT
TZOFFSETFROM:+0100
TZOFFSETTO:+0200
TZNAME:CEST
DTSTART:20230326T010000
END:DAYLIGHT
BEGIN:STANDARD
TZOFFSETFROM:+0200
TZOFFSETTO:+0100
TZNAME:CET
DTSTART:20231029T010000
END:STANDARD
END:VTIMEZONE
BEGIN:VEVENT
DTSTART;TZID=Europe/Berlin:20230130T080000
DTEND;TZID=Europe/Berlin:20230203T160000
DTSTAMP:20260422T111514
CREATED:20220711T130632Z
LAST-MODIFIED:20220711T130650Z
UID:7770-1675065600-1675440000@www.lmg-hamburg.de
SUMMARY:Anmeldwoche der neuen fünften Klassen
DESCRIPTION:Bitte achten Sie auf die benötigten Unterlagen und die dann geltenden Infektionsschutzregeln.
URL:https://www.lmg-hamburg.de/termin/anmeldwoche-der-neuen-fuenften-klassen/
END:VEVENT
END:VCALENDAR