BEGIN:VCALENDAR
VERSION:2.0
PRODID:-//LMG - ECPv5.1.6//NONSGML v1.0//EN
CALSCALE:GREGORIAN
METHOD:PUBLISH
X-WR-CALNAME:LMG
X-ORIGINAL-URL:https://www.lmg-hamburg.de
X-WR-CALDESC:Veranstaltungen für LMG
BEGIN:VTIMEZONE
TZID:Europe/Berlin
BEGIN:DAYLIGHT
TZOFFSETFROM:+0100
TZOFFSETTO:+0200
TZNAME:CEST
DTSTART:20260329T010000
END:DAYLIGHT
BEGIN:STANDARD
TZOFFSETFROM:+0200
TZOFFSETTO:+0100
TZNAME:CET
DTSTART:20261025T010000
END:STANDARD
END:VTIMEZONE
BEGIN:VEVENT
DTSTART;VALUE=DATE:20260216
DTEND;VALUE=DATE:20260217
DTSTAMP:20260425T032549
CREATED:20250727T121128Z
LAST-MODIFIED:20250727T121128Z
UID:10582-1771200000-1771286399@www.lmg-hamburg.de
SUMMARY:Ganztageskonferenz
DESCRIPTION:Pädagogisches Jahreskonferenz für das Kollegium. Kein Unterricht\, aber Studientag für Schülerinnen und Schüler.
URL:https://www.lmg-hamburg.de/termin/ganztageskonferenz-2/
END:VEVENT
END:VCALENDAR