BEGIN:VCALENDAR
VERSION:2.0
PRODID:-//LMG - ECPv5.1.6//NONSGML v1.0//EN
CALSCALE:GREGORIAN
METHOD:PUBLISH
X-WR-CALNAME:LMG
X-ORIGINAL-URL:https://www.lmg-hamburg.de
X-WR-CALDESC:Veranstaltungen für LMG
BEGIN:VTIMEZONE
TZID:Europe/Berlin
BEGIN:DAYLIGHT
TZOFFSETFROM:+0100
TZOFFSETTO:+0200
TZNAME:CEST
DTSTART:20230326T010000
END:DAYLIGHT
BEGIN:STANDARD
TZOFFSETFROM:+0200
TZOFFSETTO:+0100
TZNAME:CET
DTSTART:20231029T010000
END:STANDARD
END:VTIMEZONE
BEGIN:VEVENT
DTSTART;VALUE=DATE:20230629
DTEND;VALUE=DATE:20230701
DTSTAMP:20260422T110543
CREATED:20220711T133304Z
LAST-MODIFIED:20220711T133304Z
UID:7800-1687996800-1688169599@www.lmg-hamburg.de
SUMMARY:Mündliches Abitur (Studientag für die SuS von Jgst. 5 - S2)
DESCRIPTION:
URL:https://www.lmg-hamburg.de/termin/muendliches-abitur-studientag-fuer-die-sus-von-jgst-5-s2/
END:VEVENT
END:VCALENDAR